BEGIN:VCALENDAR
VERSION:2.0
PRODID:-//Empower Brokerage - ECPv6.15.17.1//NONSGML v1.0//EN
CALSCALE:GREGORIAN
METHOD:PUBLISH
X-ORIGINAL-URL:https://www.empowerbrokerage.com
X-WR-CALDESC:Events for Empower Brokerage
REFRESH-INTERVAL;VALUE=DURATION:PT1H
X-Robots-Tag:noindex
X-PUBLISHED-TTL:PT1H
BEGIN:VTIMEZONE
TZID:America/New_York
BEGIN:DAYLIGHT
TZOFFSETFROM:-0500
TZOFFSETTO:-0400
TZNAME:EDT
DTSTART:20250309T070000
END:DAYLIGHT
BEGIN:STANDARD
TZOFFSETFROM:-0400
TZOFFSETTO:-0500
TZNAME:EST
DTSTART:20251102T060000
END:STANDARD
BEGIN:DAYLIGHT
TZOFFSETFROM:-0500
TZOFFSETTO:-0400
TZNAME:EDT
DTSTART:20260308T070000
END:DAYLIGHT
BEGIN:STANDARD
TZOFFSETFROM:-0400
TZOFFSETTO:-0500
TZNAME:EST
DTSTART:20261101T060000
END:STANDARD
BEGIN:DAYLIGHT
TZOFFSETFROM:-0500
TZOFFSETTO:-0400
TZNAME:EDT
DTSTART:20270314T070000
END:DAYLIGHT
BEGIN:STANDARD
TZOFFSETFROM:-0400
TZOFFSETTO:-0500
TZNAME:EST
DTSTART:20271107T060000
END:STANDARD
END:VTIMEZONE
BEGIN:VTIMEZONE
TZID:America/Chicago
BEGIN:DAYLIGHT
TZOFFSETFROM:-0600
TZOFFSETTO:-0500
TZNAME:CDT
DTSTART:20250309T080000
END:DAYLIGHT
BEGIN:STANDARD
TZOFFSETFROM:-0500
TZOFFSETTO:-0600
TZNAME:CST
DTSTART:20251102T070000
END:STANDARD
BEGIN:DAYLIGHT
TZOFFSETFROM:-0600
TZOFFSETTO:-0500
TZNAME:CDT
DTSTART:20260308T080000
END:DAYLIGHT
BEGIN:STANDARD
TZOFFSETFROM:-0500
TZOFFSETTO:-0600
TZNAME:CST
DTSTART:20261101T070000
END:STANDARD
BEGIN:DAYLIGHT
TZOFFSETFROM:-0600
TZOFFSETTO:-0500
TZNAME:CDT
DTSTART:20270314T080000
END:DAYLIGHT
BEGIN:STANDARD
TZOFFSETFROM:-0500
TZOFFSETTO:-0600
TZNAME:CST
DTSTART:20271107T070000
END:STANDARD
END:VTIMEZONE
BEGIN:VEVENT
DTSTART;TZID=America/New_York:20260218T100000
DTEND;TZID=America/New_York:20260218T110000
DTSTAMP:20260424T084203
CREATED:20260113T160032Z
LAST-MODIFIED:20260113T160745Z
UID:477491810000715-1771408800-1771412400@www.empowerbrokerage.com
SUMMARY:Humpday Huddle: Ready. Set. Go! with Shania Chambliss
DESCRIPTION:10 AM (EST) \nJoin me for a live Q&A session. Get all your questions answered!
URL:https://www.empowerbrokerage.com/event/humpday-huddle-ready-set-go-with-shania-chambliss-9-2-2/2026-02-18/
ATTACH;FMTTYPE=image/jpeg:https://www.empowerbrokerage.com/wp-content/uploads/2024/11/TEMPLATE-Humpday-Huddle-with-Shania-Chamblis-V1-scaled.jpg
ORGANIZER;CN="Shania Chambliss%2C Regional Sales Director - Georgia":MAILTO:schambliss@empowerbrokerage.com
LOCATION:https://meet.goto.com/929964333
END:VEVENT
BEGIN:VEVENT
DTSTART;TZID=America/Chicago:20260218T110000
DTEND;TZID=America/Chicago:20260218T120000
DTSTAMP:20260424T084203
CREATED:20260206T232354Z
LAST-MODIFIED:20260206T232404Z
UID:477491810001199-1771412400-1771416000@www.empowerbrokerage.com
SUMMARY:Introducing our Newest Carrier - AFLAC!
DESCRIPTION:Description: Join this exciting webinar to learn more about the newest company Empower Brokerage has contracted with- AFLAC! AFLAC offers many different products under the Life & Health umbrella\, including Accident\, Cancer\, Hospital\, Critical Illness\, Dental\, Vision\, Life\, and Disability coverage. Hear directly from AFLAC about why you should be offering their products! \nHost: Tyler Culp\, Vice President of Sales – Empower Brokerage \nGuest Speakers: Griselda Perez\, Michelle Carrasco\, and Joshua Jones
URL:https://www.empowerbrokerage.com/event/introducing-our-newest-carrier-aflac/
ATTACH;FMTTYPE=image/png:https://www.empowerbrokerage.com/wp-content/uploads/2026/02/aflack-thumbnail.png
LOCATION:https://attendee.gotowebinar.com/register/652943234358085206
END:VEVENT
BEGIN:VEVENT
DTSTART;TZID=America/Chicago:20260218T120000
DTEND;TZID=America/Chicago:20260218T140000
DTSTAMP:20260424T084203
CREATED:20260121T232929Z
LAST-MODIFIED:20260121T233011Z
UID:477491810001196-1771416000-1771423200@www.empowerbrokerage.com
SUMMARY:United HealthCare Training
DESCRIPTION:Description: \nJoin us for an in-depth overview of UnitedHealthcare designed to help agents better understand what sets UHC apart. This session will cover why members choose UnitedHealthcare\, competitive benefit designs\, and Special Needs Plans\, along with a comprehensive look at the UHC product portfolio. We’ll also walk through the systems and tools available to support you—from enrollment to ongoing member management—so you can work more efficiently and confidently. \nGuest Speaker: Martin Talamantez – Agent Manager \nRegister
URL:https://www.empowerbrokerage.com/event/united-healthcare-training/
LOCATION:SI Vida Clinic\, 825 E Rundberg\, Austin\, TX\, 78753\, United States
ATTACH;FMTTYPE=image/png:https://www.empowerbrokerage.com/wp-content/uploads/2026/01/Uhc-training.png
ORGANIZER;CN="Jose Diaz%2C Regional Sales Director - San Antonio":MAILTO:jdiaz@empowerbrokerage.com
GEO:30.3564789;-97.6858016
X-APPLE-STRUCTURED-LOCATION;VALUE=URI;X-ADDRESS=SI Vida Clinic 825 E Rundberg Austin TX 78753 United States;X-APPLE-RADIUS=500;X-TITLE=825 E Rundberg:geo:-97.6858016,30.3564789
END:VEVENT
BEGIN:VEVENT
DTSTART;TZID=America/Chicago:20260218T140000
DTEND;TZID=America/Chicago:20260218T142000
DTSTAMP:20260424T084203
CREATED:20251223T234535Z
LAST-MODIFIED:20260112T172707Z
UID:477491810001146-1771423200-1771424400@www.empowerbrokerage.com
SUMMARY:Lincoln Financial - Balancing Growth and Protection with Dan Leutwyler\, SVP Annuity Solutions
DESCRIPTION:Description: Please register for Lincoln Financial – Balancing Growth and Protection with Dan Luetwyler\, SVP Annuity Solutions \nHost: Derek Baltimore\, Annuity Product Specialist – Empower Brokerage \nGuest Speaker: Dan Luetwyler – SVP Annuity Solutions
URL:https://www.empowerbrokerage.com/event/lincoln-financial-balancing-growth-and-protection-with-dan-leutwyler-svp-annuity-solutions/
ATTACH;FMTTYPE=image/jpeg:https://www.empowerbrokerage.com/wp-content/uploads/2025/12/Lincoln-Financial-Balancing-Growth1.jpg
ORGANIZER;CN="Derek Baltimore%2C Annuity Product Specialist":MAILTO:dbaltimore@empowerbrokerage.com
LOCATION:https://attendee.gotowebinar.com/rt/6359507537943120987
END:VEVENT
BEGIN:VEVENT
DTSTART;TZID=America/Chicago:20260218T163000
DTEND;TZID=America/Chicago:20260218T170000
DTSTAMP:20260424T084203
CREATED:20251020T151758Z
LAST-MODIFIED:20251020T153729Z
UID:477491810000860-1771432200-1771434000@www.empowerbrokerage.com
SUMMARY:Write the Vision: Grow Your Business with Empower Brokerage FMO
DESCRIPTION:Are you ready to grow your business and unlock new opportunities? Join us for our upcoming webinar.
URL:https://www.empowerbrokerage.com/event/write-the-vision-grow-your-business-with-empower-brokerage-fmo/2026-02-18/
ATTACH;FMTTYPE=image/png:https://www.empowerbrokerage.com/wp-content/uploads/2025/10/0065-Write-the-Vision-01.png
ORGANIZER;CN="Camerine Robinson%2C Regional Sales Director - CT%2C ME%2C MA%2C NH%2C NJ%2C NY%2C PA%2C RI%2C VT":MAILTO:crobinson@empowerbrokerage.com
LOCATION:https://register.gotowebinar.com/rt/6897237991319931734
END:VEVENT
END:VCALENDAR