BEGIN:VCALENDAR
VERSION:2.0
PRODID:-//Empower Brokerage - ECPv6.15.17.1//NONSGML v1.0//EN
CALSCALE:GREGORIAN
METHOD:PUBLISH
X-ORIGINAL-URL:https://www.empowerbrokerage.com
X-WR-CALDESC:Events for Empower Brokerage
REFRESH-INTERVAL;VALUE=DURATION:PT1H
X-Robots-Tag:noindex
X-PUBLISHED-TTL:PT1H
BEGIN:VTIMEZONE
TZID:America/Chicago
BEGIN:DAYLIGHT
TZOFFSETFROM:-0600
TZOFFSETTO:-0500
TZNAME:CDT
DTSTART:20250309T080000
END:DAYLIGHT
BEGIN:STANDARD
TZOFFSETFROM:-0500
TZOFFSETTO:-0600
TZNAME:CST
DTSTART:20251102T070000
END:STANDARD
BEGIN:DAYLIGHT
TZOFFSETFROM:-0600
TZOFFSETTO:-0500
TZNAME:CDT
DTSTART:20260308T080000
END:DAYLIGHT
BEGIN:STANDARD
TZOFFSETFROM:-0500
TZOFFSETTO:-0600
TZNAME:CST
DTSTART:20261101T070000
END:STANDARD
BEGIN:DAYLIGHT
TZOFFSETFROM:-0600
TZOFFSETTO:-0500
TZNAME:CDT
DTSTART:20270314T080000
END:DAYLIGHT
BEGIN:STANDARD
TZOFFSETFROM:-0500
TZOFFSETTO:-0600
TZNAME:CST
DTSTART:20271107T070000
END:STANDARD
END:VTIMEZONE
BEGIN:VTIMEZONE
TZID:America/New_York
BEGIN:DAYLIGHT
TZOFFSETFROM:-0500
TZOFFSETTO:-0400
TZNAME:EDT
DTSTART:20250309T070000
END:DAYLIGHT
BEGIN:STANDARD
TZOFFSETFROM:-0400
TZOFFSETTO:-0500
TZNAME:EST
DTSTART:20251102T060000
END:STANDARD
BEGIN:DAYLIGHT
TZOFFSETFROM:-0500
TZOFFSETTO:-0400
TZNAME:EDT
DTSTART:20260308T070000
END:DAYLIGHT
BEGIN:STANDARD
TZOFFSETFROM:-0400
TZOFFSETTO:-0500
TZNAME:EST
DTSTART:20261101T060000
END:STANDARD
BEGIN:DAYLIGHT
TZOFFSETFROM:-0500
TZOFFSETTO:-0400
TZNAME:EDT
DTSTART:20270314T070000
END:DAYLIGHT
BEGIN:STANDARD
TZOFFSETFROM:-0400
TZOFFSETTO:-0500
TZNAME:EST
DTSTART:20271107T060000
END:STANDARD
END:VTIMEZONE
BEGIN:VEVENT
DTSTART;TZID=America/Chicago:20260513T100000
DTEND;TZID=America/Chicago:20260513T110000
DTSTAMP:20260424T071843
CREATED:20260406T211515Z
LAST-MODIFIED:20260406T211515Z
UID:477491810001240-1778666400-1778670000@www.empowerbrokerage.com
SUMMARY:Medicare Supplement Sales Strategies
DESCRIPTION:Join John Shinn and others to discuss HOW TO SELL Medicare Supplements!
URL:https://www.empowerbrokerage.com/event/medicare-supplement-sales-strategies/
ATTACH;FMTTYPE=image/jpeg:https://www.empowerbrokerage.com/wp-content/uploads/2024/11/TEMPLATE-Medicare-Supplements-Sales-Strategies-John-Shinn-2-scaled.jpg
ORGANIZER;CN="John Shinn - Senior Benefits Specialist":MAILTO:jshinn@empowerbrokerage.com
LOCATION:https://attendee.gotowebinar.com/register/3709343658254354272
END:VEVENT
BEGIN:VEVENT
DTSTART;TZID=America/New_York:20260513T100000
DTEND;TZID=America/New_York:20260513T110000
DTSTAMP:20260424T071843
CREATED:20260414T201847Z
LAST-MODIFIED:20260414T201847Z
UID:477491810000727-1778666400-1778670000@www.empowerbrokerage.com
SUMMARY:Humpday Huddle: Ready. Set. Go! with Shania Chambliss
DESCRIPTION:10 AM (EST) \nJoin me for a live Q&A session. Get all your questions answered!
URL:https://www.empowerbrokerage.com/event/humpday-huddle-ready-set-go-with-shania-chambliss-9-2-2-2/2026-05-13/
ATTACH;FMTTYPE=image/jpeg:https://www.empowerbrokerage.com/wp-content/uploads/2024/11/TEMPLATE-Humpday-Huddle-with-Shania-Chamblis-V1-scaled.jpg
ORGANIZER;CN="Shania Chambliss%2C Regional Sales Director - Georgia":MAILTO:schambliss@empowerbrokerage.com
LOCATION:https://meet.goto.com/336661085
END:VEVENT
BEGIN:VEVENT
DTSTART;TZID=America/Chicago:20260513T110000
DTEND;TZID=America/Chicago:20260513T120000
DTSTAMP:20260424T071843
CREATED:20260402T165954Z
LAST-MODIFIED:20260402T165954Z
UID:477491810001237-1778670000-1778673600@www.empowerbrokerage.com
SUMMARY:UnitedHealthcare Product Deep Dive & Member Benefits
DESCRIPTION:Description:  \nThis webinar provides an in-depth look at UnitedHealthcare ACA products\, plan designs\, and member benefits. We’ll review key features\, positioning strategies\, and what sets UHC plans apart for different client scenarios. We’re also joined by Sonia Porras from UnitedHealthcare\, who will share insights\, updates\, and best practices to help agents confidently present and support UHC coverage. \nHosts: \nBrock Bartlett\, ACA Product Specialist\, Life & Health Sales\, Regional Sales Director – Empower Brokerage \nGarrett Wilczynski\, Leads Administrator & Product Specialist – Empower Brokerage \nJeff Hess\, ACA Group & Ancillary Sales Director – Empower Brokerage \nTyler Culp\, Vice President of Sales – Empower Brokerage \nGuest Speaker: \nSonia Porra – UnitedHealthCare
URL:https://www.empowerbrokerage.com/event/unitedhealthcare-product-deep-dive-member-benefits/
ATTACH;FMTTYPE=image/png:https://www.empowerbrokerage.com/wp-content/uploads/2026/04/UnitedHealthcare-Product-Deep-Dive-Member-Benefits.png
ORGANIZER;CN="Brock Bartlett%2C ACA Product Specialist%2C Life &amp%3B Health Sales%2C Regional Sales Director":MAILTO:bbartlett@empowerbrokerage.com
LOCATION:https://attendee.gotowebinar.com/register/1040626637431763805
END:VEVENT
BEGIN:VEVENT
DTSTART;TZID=America/Chicago:20260513T130000
DTEND;TZID=America/Chicago:20260513T132000
DTSTAMP:20260424T071843
CREATED:20251226T154952Z
LAST-MODIFIED:20260112T175610Z
UID:477491810001149-1778677200-1778678400@www.empowerbrokerage.com
SUMMARY:Lincoln Financial -Client Conversations - Addressing Longevity Risk
DESCRIPTION:Description: \nPlease register for Lincoln Financial -Client Conversations – Addressing Longevity Risk  with Dan Leutwyler\, SVP Annuity Solutions \nHost: \nDerek Baltimore\, Annuity Specialist – Empower Brokerage \nGuest Speaker: \nRisk Dan Leutwyler – SVP Annuity Solutions
URL:https://www.empowerbrokerage.com/event/lincoln-financial-client-conversations-addressing-longevity-risk/
ATTACH;FMTTYPE=image/jpeg:https://www.empowerbrokerage.com/wp-content/uploads/2025/12/Lincoln-Financial-Client-Conversations.jpg
ORGANIZER;CN="Derek Baltimore%2C Annuity Product Specialist":MAILTO:dbaltimore@empowerbrokerage.com
LOCATION:\https://attendee.gotowebinar.com/rt/6359507537943120987
END:VEVENT
END:VCALENDAR