BEGIN:VCALENDAR
VERSION:2.0
PRODID:-//Empower Brokerage - ECPv6.15.17.1//NONSGML v1.0//EN
CALSCALE:GREGORIAN
METHOD:PUBLISH
X-WR-CALNAME:Empower Brokerage
X-ORIGINAL-URL:https://www.empowerbrokerage.com
X-WR-CALDESC:Events for Empower Brokerage
REFRESH-INTERVAL;VALUE=DURATION:PT1H
X-Robots-Tag:noindex
X-PUBLISHED-TTL:PT1H
BEGIN:VTIMEZONE
TZID:America/Chicago
BEGIN:DAYLIGHT
TZOFFSETFROM:-0600
TZOFFSETTO:-0500
TZNAME:CDT
DTSTART:20250309T080000
END:DAYLIGHT
BEGIN:STANDARD
TZOFFSETFROM:-0500
TZOFFSETTO:-0600
TZNAME:CST
DTSTART:20251102T070000
END:STANDARD
BEGIN:DAYLIGHT
TZOFFSETFROM:-0600
TZOFFSETTO:-0500
TZNAME:CDT
DTSTART:20260308T080000
END:DAYLIGHT
BEGIN:STANDARD
TZOFFSETFROM:-0500
TZOFFSETTO:-0600
TZNAME:CST
DTSTART:20261101T070000
END:STANDARD
BEGIN:DAYLIGHT
TZOFFSETFROM:-0600
TZOFFSETTO:-0500
TZNAME:CDT
DTSTART:20270314T080000
END:DAYLIGHT
BEGIN:STANDARD
TZOFFSETFROM:-0500
TZOFFSETTO:-0600
TZNAME:CST
DTSTART:20271107T070000
END:STANDARD
END:VTIMEZONE
BEGIN:VEVENT
DTSTART;TZID=America/Chicago:20260515T130000
DTEND;TZID=America/Chicago:20260515T134500
DTSTAMP:20260424T071649
CREATED:20260310T220824Z
LAST-MODIFIED:20260423T214440Z
UID:477491810001211-1778850000-1778852700@www.empowerbrokerage.com
SUMMARY:Nationwide Product Overview
DESCRIPTION:Description:  \nJoin us for an overview of Nationwide’s group health products with Nationwide sales executive\, Cory Satlow. This training will help you gain valuable knowledge on Nationwide’s products\, employer benefits with Nationwide and client servicing. \nHost:  \nMaria Hernandez\, Employee Group Benefit Specialist & Aflac Product Specialist – Empower Brokerage \nGuest speaker:  \nCory Satlow\, Nationwide – sales executive – group health
URL:https://www.empowerbrokerage.com/event/nationwide-product-overview/
ATTACH;FMTTYPE=image/png:https://www.empowerbrokerage.com/wp-content/uploads/2026/03/Nationwide-Product-Overview.png
ORGANIZER;CN="Maria Hernandez - Employee Group Benefit Specialist &amp%3B Aflac Product Specialist":MAILTO:mhernandez@empowerbrokerage.com
LOCATION:https://attendee.gotowebinar.com/register/130104565335293782
END:VEVENT
END:VCALENDAR