BEGIN:VCALENDAR
VERSION:2.0
PRODID:-//Empower Brokerage - ECPv6.15.17.1//NONSGML v1.0//EN
CALSCALE:GREGORIAN
METHOD:PUBLISH
X-ORIGINAL-URL:https://www.empowerbrokerage.com
X-WR-CALDESC:Events for Empower Brokerage
REFRESH-INTERVAL;VALUE=DURATION:PT1H
X-Robots-Tag:noindex
X-PUBLISHED-TTL:PT1H
BEGIN:VTIMEZONE
TZID:America/Chicago
BEGIN:DAYLIGHT
TZOFFSETFROM:-0600
TZOFFSETTO:-0500
TZNAME:CDT
DTSTART:20250309T080000
END:DAYLIGHT
BEGIN:STANDARD
TZOFFSETFROM:-0500
TZOFFSETTO:-0600
TZNAME:CST
DTSTART:20251102T070000
END:STANDARD
BEGIN:DAYLIGHT
TZOFFSETFROM:-0600
TZOFFSETTO:-0500
TZNAME:CDT
DTSTART:20260308T080000
END:DAYLIGHT
BEGIN:STANDARD
TZOFFSETFROM:-0500
TZOFFSETTO:-0600
TZNAME:CST
DTSTART:20261101T070000
END:STANDARD
BEGIN:DAYLIGHT
TZOFFSETFROM:-0600
TZOFFSETTO:-0500
TZNAME:CDT
DTSTART:20270314T080000
END:DAYLIGHT
BEGIN:STANDARD
TZOFFSETFROM:-0500
TZOFFSETTO:-0600
TZNAME:CST
DTSTART:20271107T070000
END:STANDARD
END:VTIMEZONE
BEGIN:VEVENT
DTSTART;TZID=America/Chicago:20260521T130000
DTEND;TZID=America/Chicago:20260521T134500
DTSTAMP:20260424T071917
CREATED:20260311T144307Z
LAST-MODIFIED:20260311T150944Z
UID:477491810001212-1779368400-1779371100@www.empowerbrokerage.com
SUMMARY:Intro to Reference-Based Pricing
DESCRIPTION:Description:  \nJoin us for a breakdown of reference-based pricing plans with Nationwide sales executive\, Cory Satlow. This training will help you gain valuable knowledge on the basics of reference-based pricing plans while diving into Nationwide’s reference-based pricing products and why they are right for your client. \nHost:  \nMaria Hernandez\, Employee Group Benefit Specialist & Aflac Specialist – Empower Brokerage \nGuest Speaker: \n Cory Satlow\, Nationwide – sales executive – group health
URL:https://www.empowerbrokerage.com/event/intro-to-reference-based-pricing/
ATTACH;FMTTYPE=image/png:https://www.empowerbrokerage.com/wp-content/uploads/2026/03/Intro-to-Reference-Based-Pricing.png
ORGANIZER;CN="Maria Hernandez - Employee Group Benefit Specialist &amp%3B Aflac Product Specialist":MAILTO:mhernandez@empowerbrokerage.com
LOCATION:https://attendee.gotowebinar.com/register/4840371696797548640
END:VEVENT
BEGIN:VEVENT
DTSTART;TZID=America/Chicago:20260521T150000
DTEND;TZID=America/Chicago:20260521T160000
DTSTAMP:20260424T071917
CREATED:20260326T210639Z
LAST-MODIFIED:20260326T210639Z
UID:477491810001231-1779375600-1779379200@www.empowerbrokerage.com
SUMMARY:Unlock the Power of Aetna’s CVS Retail Program
DESCRIPTION:Description:  \nJoin us for an engaging\, fast-paced webinar designed to spotlight how Aetna’s CVS Retail Program is transforming the member experience and delivering smarter\, more convenient healthcare access. \nIn this webinar\, you’ll discover how this innovative program connects agents to the nationwide CVS Retail network—making care more accessible\, affordable\, and seamless. \nHost:  \nTyler Culp\, Vice President of Sales – Empower Brokerage \nGuest Speakers:  \nOke Olaitan
URL:https://www.empowerbrokerage.com/event/unlock-the-power-of-aetnas-cvs-retail-program/
ATTACH;FMTTYPE=image/png:https://www.empowerbrokerage.com/wp-content/uploads/2026/03/Unlock-the-Power-of-Aetnas-CVS-Retail-Program.png
ORGANIZER;CN="Tyler Culp%2C Vice President of Sales":MAILTO:tculp@empowerbrokerage.com
LOCATION:https://attendee.gotowebinar.com/register/4793672138004657495
END:VEVENT
END:VCALENDAR