BEGIN:VCALENDAR
VERSION:2.0
PRODID:-//Empower Brokerage - ECPv6.15.17.1//NONSGML v1.0//EN
CALSCALE:GREGORIAN
METHOD:PUBLISH
X-ORIGINAL-URL:https://www.empowerbrokerage.com
X-WR-CALDESC:Events for Empower Brokerage
REFRESH-INTERVAL;VALUE=DURATION:PT1H
X-Robots-Tag:noindex
X-PUBLISHED-TTL:PT1H
BEGIN:VTIMEZONE
TZID:America/Chicago
BEGIN:DAYLIGHT
TZOFFSETFROM:-0600
TZOFFSETTO:-0500
TZNAME:CDT
DTSTART:20250309T080000
END:DAYLIGHT
BEGIN:STANDARD
TZOFFSETFROM:-0500
TZOFFSETTO:-0600
TZNAME:CST
DTSTART:20251102T070000
END:STANDARD
BEGIN:DAYLIGHT
TZOFFSETFROM:-0600
TZOFFSETTO:-0500
TZNAME:CDT
DTSTART:20260308T080000
END:DAYLIGHT
BEGIN:STANDARD
TZOFFSETFROM:-0500
TZOFFSETTO:-0600
TZNAME:CST
DTSTART:20261101T070000
END:STANDARD
BEGIN:DAYLIGHT
TZOFFSETFROM:-0600
TZOFFSETTO:-0500
TZNAME:CDT
DTSTART:20270314T080000
END:DAYLIGHT
BEGIN:STANDARD
TZOFFSETFROM:-0500
TZOFFSETTO:-0600
TZNAME:CST
DTSTART:20271107T070000
END:STANDARD
END:VTIMEZONE
BEGIN:VEVENT
DTSTART;TZID=America/Chicago:20260611T103000
DTEND;TZID=America/Chicago:20260611T113000
DTSTAMP:20260424T084206
CREATED:20251229T234626Z
LAST-MODIFIED:20251229T234626Z
UID:477491810001164-1781173800-1781177400@www.empowerbrokerage.com
SUMMARY:From Camera-Shy to Camera-Ready!
DESCRIPTION:What To Expect: \nThis session is designed to help Empower Brokerage agents feel comfortable and confident showing up on camera—no acting skills required. Agents will learn how to create short\, authentic videos that build trust\, answer common questions\, and strengthen personal connections with prospects. The focus is on being yourself\, keeping it simple\, and using video as a powerful tool to stand out while still feeling natural and professional.
URL:https://www.empowerbrokerage.com/event/from-camera-shy-to-camera-ready/
ATTACH;FMTTYPE=image/png:https://www.empowerbrokerage.com/wp-content/uploads/2025/12/Mastering-Social-Media-Banner-Official-2026.png
ORGANIZER;CN="Keana Lujan - Social Media Manager":MAILTO:klujan@empowerbrokerage.com
LOCATION:https://attendee.gotowebinar.com/register/356047606049128284
END:VEVENT
END:VCALENDAR