BEGIN:VCALENDAR
VERSION:2.0
PRODID:-//Empower Brokerage - ECPv6.15.17.1//NONSGML v1.0//EN
CALSCALE:GREGORIAN
METHOD:PUBLISH
X-ORIGINAL-URL:https://www.empowerbrokerage.com
X-WR-CALDESC:Events for Empower Brokerage
REFRESH-INTERVAL;VALUE=DURATION:PT1H
X-Robots-Tag:noindex
X-PUBLISHED-TTL:PT1H
BEGIN:VTIMEZONE
TZID:America/New_York
BEGIN:DAYLIGHT
TZOFFSETFROM:-0500
TZOFFSETTO:-0400
TZNAME:EDT
DTSTART:20250309T070000
END:DAYLIGHT
BEGIN:STANDARD
TZOFFSETFROM:-0400
TZOFFSETTO:-0500
TZNAME:EST
DTSTART:20251102T060000
END:STANDARD
BEGIN:DAYLIGHT
TZOFFSETFROM:-0500
TZOFFSETTO:-0400
TZNAME:EDT
DTSTART:20260308T070000
END:DAYLIGHT
BEGIN:STANDARD
TZOFFSETFROM:-0400
TZOFFSETTO:-0500
TZNAME:EST
DTSTART:20261101T060000
END:STANDARD
BEGIN:DAYLIGHT
TZOFFSETFROM:-0500
TZOFFSETTO:-0400
TZNAME:EDT
DTSTART:20270314T070000
END:DAYLIGHT
BEGIN:STANDARD
TZOFFSETFROM:-0400
TZOFFSETTO:-0500
TZNAME:EST
DTSTART:20271107T060000
END:STANDARD
END:VTIMEZONE
BEGIN:VTIMEZONE
TZID:America/Chicago
BEGIN:DAYLIGHT
TZOFFSETFROM:-0600
TZOFFSETTO:-0500
TZNAME:CDT
DTSTART:20250309T080000
END:DAYLIGHT
BEGIN:STANDARD
TZOFFSETFROM:-0500
TZOFFSETTO:-0600
TZNAME:CST
DTSTART:20251102T070000
END:STANDARD
BEGIN:DAYLIGHT
TZOFFSETFROM:-0600
TZOFFSETTO:-0500
TZNAME:CDT
DTSTART:20260308T080000
END:DAYLIGHT
BEGIN:STANDARD
TZOFFSETFROM:-0500
TZOFFSETTO:-0600
TZNAME:CST
DTSTART:20261101T070000
END:STANDARD
BEGIN:DAYLIGHT
TZOFFSETFROM:-0600
TZOFFSETTO:-0500
TZNAME:CDT
DTSTART:20270314T080000
END:DAYLIGHT
BEGIN:STANDARD
TZOFFSETFROM:-0500
TZOFFSETTO:-0600
TZNAME:CST
DTSTART:20271107T070000
END:STANDARD
END:VTIMEZONE
BEGIN:VEVENT
DTSTART;TZID=America/New_York:20260617T100000
DTEND;TZID=America/New_York:20260617T110000
DTSTAMP:20260424T084146
CREATED:20260414T201847Z
LAST-MODIFIED:20260414T201847Z
UID:477491810000732-1781690400-1781694000@www.empowerbrokerage.com
SUMMARY:Humpday Huddle: Ready. Set. Go! with Shania Chambliss
DESCRIPTION:10 AM (EST) \nJoin me for a live Q&A session. Get all your questions answered!
URL:https://www.empowerbrokerage.com/event/humpday-huddle-ready-set-go-with-shania-chambliss-9-2-2-2/2026-06-17/
ATTACH;FMTTYPE=image/jpeg:https://www.empowerbrokerage.com/wp-content/uploads/2024/11/TEMPLATE-Humpday-Huddle-with-Shania-Chamblis-V1-scaled.jpg
ORGANIZER;CN="Shania Chambliss%2C Regional Sales Director - Georgia":MAILTO:schambliss@empowerbrokerage.com
LOCATION:https://meet.goto.com/336661085
END:VEVENT
BEGIN:VEVENT
DTSTART;TZID=America/Chicago:20260617T112000
DTEND;TZID=America/Chicago:20260617T122000
DTSTAMP:20260424T084146
CREATED:20251226T162338Z
LAST-MODIFIED:20260112T180634Z
UID:477491810001150-1781695200-1781698800@www.empowerbrokerage.com
SUMMARY:Athene can provide TRACTION: What's NEW and working in 2026 with Athene Annuities
DESCRIPTION:Description: \nAthene can provide TRACTION: What’s NEW and working in 2026 with Athene Annuities with our partner Will Van Roekel \nHost: \nDerek Baltimore – Annuity Product Specialist \nGuest Speaker: \nWill Van Roekel – Athene Annuities
URL:https://www.empowerbrokerage.com/event/athene-can-provide-traction-whats-new-and-working-in-2026-with-athene-annuities/
ATTACH;FMTTYPE=image/jpeg:https://www.empowerbrokerage.com/wp-content/uploads/2025/12/Athene-Can-Provide-Traction.jpg
ORGANIZER;CN="Derek Baltimore%2C Annuity Product Specialist":MAILTO:dbaltimore@empowerbrokerage.com
LOCATION:https://attendee.gotowebinar.com/rt/6359507537943120987
END:VEVENT
END:VCALENDAR