BEGIN:VCALENDAR
VERSION:2.0
PRODID:-//Empower Brokerage - ECPv6.15.17.1//NONSGML v1.0//EN
CALSCALE:GREGORIAN
METHOD:PUBLISH
X-ORIGINAL-URL:https://www.empowerbrokerage.com
X-WR-CALDESC:Events for Empower Brokerage
REFRESH-INTERVAL;VALUE=DURATION:PT1H
X-Robots-Tag:noindex
X-PUBLISHED-TTL:PT1H
BEGIN:VTIMEZONE
TZID:America/Chicago
BEGIN:DAYLIGHT
TZOFFSETFROM:-0600
TZOFFSETTO:-0500
TZNAME:CDT
DTSTART:20250309T080000
END:DAYLIGHT
BEGIN:STANDARD
TZOFFSETFROM:-0500
TZOFFSETTO:-0600
TZNAME:CST
DTSTART:20251102T070000
END:STANDARD
BEGIN:DAYLIGHT
TZOFFSETFROM:-0600
TZOFFSETTO:-0500
TZNAME:CDT
DTSTART:20260308T080000
END:DAYLIGHT
BEGIN:STANDARD
TZOFFSETFROM:-0500
TZOFFSETTO:-0600
TZNAME:CST
DTSTART:20261101T070000
END:STANDARD
BEGIN:DAYLIGHT
TZOFFSETFROM:-0600
TZOFFSETTO:-0500
TZNAME:CDT
DTSTART:20270314T080000
END:DAYLIGHT
BEGIN:STANDARD
TZOFFSETFROM:-0500
TZOFFSETTO:-0600
TZNAME:CST
DTSTART:20271107T070000
END:STANDARD
END:VTIMEZONE
BEGIN:VTIMEZONE
TZID:America/New_York
BEGIN:DAYLIGHT
TZOFFSETFROM:-0500
TZOFFSETTO:-0400
TZNAME:EDT
DTSTART:20250309T070000
END:DAYLIGHT
BEGIN:STANDARD
TZOFFSETFROM:-0400
TZOFFSETTO:-0500
TZNAME:EST
DTSTART:20251102T060000
END:STANDARD
BEGIN:DAYLIGHT
TZOFFSETFROM:-0500
TZOFFSETTO:-0400
TZNAME:EDT
DTSTART:20260308T070000
END:DAYLIGHT
BEGIN:STANDARD
TZOFFSETFROM:-0400
TZOFFSETTO:-0500
TZNAME:EST
DTSTART:20261101T060000
END:STANDARD
BEGIN:DAYLIGHT
TZOFFSETFROM:-0500
TZOFFSETTO:-0400
TZNAME:EDT
DTSTART:20270314T070000
END:DAYLIGHT
BEGIN:STANDARD
TZOFFSETFROM:-0400
TZOFFSETTO:-0500
TZNAME:EST
DTSTART:20271107T060000
END:STANDARD
END:VTIMEZONE
BEGIN:VEVENT
DTSTART;TZID=America/Chicago:20260602T150000
DTEND;TZID=America/Chicago:20260602T160000
DTSTAMP:20260424T084234
CREATED:20260102T232845Z
LAST-MODIFIED:20260102T235532Z
UID:477491810001181-1780412400-1780416000@www.empowerbrokerage.com
SUMMARY:Deep Dive Into C-SNP Plan Benefits
DESCRIPTION:Description  \nIn our Deep Dive Into C-SNP Plan Benefits webinar\, we’ll explore the unique features\, care coordination\, and enhanced support built into these specialized plans. It’s a great opportunity to expand your expertise and better serve clients with chronic health needs. \nGuest Presenters \nMatthew Pollock | Director of Sales Success \nPatricia Cantu | Sales Operations Coordinator \nPaul Moreno | Sales Success Manager
URL:https://www.empowerbrokerage.com/event/deep-dive-into-c-snp-plan-benefits/
ATTACH;FMTTYPE=image/jpeg:https://www.empowerbrokerage.com/wp-content/uploads/2026/01/Deep-Dive-Into-C-SNP-Plan-Benefits.jpg
ORGANIZER;CN="Tyler Culp%2C Vice President of Sales":MAILTO:tculp@empowerbrokerage.com
LOCATION:https://attendee.gotowebinar.com/register/8869830022906192982
END:VEVENT
BEGIN:VEVENT
DTSTART;TZID=America/Chicago:20260603T100000
DTEND;TZID=America/Chicago:20260603T110000
DTSTAMP:20260424T084234
CREATED:20260406T212342Z
LAST-MODIFIED:20260406T214401Z
UID:477491810001243-1780480800-1780484400@www.empowerbrokerage.com
SUMMARY:Medicare Supplement Sales Strategies
DESCRIPTION:Join John Shinn and fellow agents to learn how to INCREASE YOUR INCOME!
URL:https://www.empowerbrokerage.com/event/medicare-supplement-sales-strategies-4/
ATTACH;FMTTYPE=image/jpeg:https://www.empowerbrokerage.com/wp-content/uploads/2024/11/TEMPLATE-Medicare-Supplements-Sales-Strategies-John-Shinn-2-scaled.jpg
ORGANIZER;CN="John Shinn - Senior Benefits Specialist":MAILTO:jshinn@empowerbrokerage.com
LOCATION:https://attendee.gotowebinar.com/register/3709343658254354272
END:VEVENT
BEGIN:VEVENT
DTSTART;TZID=America/New_York:20260603T100000
DTEND;TZID=America/New_York:20260603T110000
DTSTAMP:20260424T084234
CREATED:20260414T201847Z
LAST-MODIFIED:20260414T201847Z
UID:477491810000730-1780480800-1780484400@www.empowerbrokerage.com
SUMMARY:Humpday Huddle: Ready. Set. Go! with Shania Chambliss
DESCRIPTION:10 AM (EST) \nJoin me for a live Q&A session. Get all your questions answered!
URL:https://www.empowerbrokerage.com/event/humpday-huddle-ready-set-go-with-shania-chambliss-9-2-2-2/2026-06-03/
ATTACH;FMTTYPE=image/jpeg:https://www.empowerbrokerage.com/wp-content/uploads/2024/11/TEMPLATE-Humpday-Huddle-with-Shania-Chamblis-V1-scaled.jpg
ORGANIZER;CN="Shania Chambliss%2C Regional Sales Director - Georgia":MAILTO:schambliss@empowerbrokerage.com
LOCATION:https://meet.goto.com/336661085
END:VEVENT
BEGIN:VEVENT
DTSTART;TZID=America/Chicago:20260604T150000
DTEND;TZID=America/Chicago:20260604T160000
DTSTAMP:20260424T084234
CREATED:20260326T211349Z
LAST-MODIFIED:20260326T211349Z
UID:477491810001232-1780585200-1780588800@www.empowerbrokerage.com
SUMMARY:WellCare 2026 Certifications & AEP Preparation
DESCRIPTION:Description:  \nGet Ready for AEP 2026 — Start Strong with WellCare! \nJoin us for an energizing\, must-attend webinar designed to set you up for success in WellCare 2026 Certifications & AEP Preparation. \nWe’ll break down what’s new for 2026\, walk you through certification requirements step-by-step\, and share proven strategies to help you prepare confidently for AEP. Whether you’re a seasoned agent or gearing up for your first AEP with WellCare\, this session will give you the clarity\, tools\, and momentum you need to hit the ground running. \nHost:  \nTyler Culp\, Vice President of Sales – Empower Brokerage \nGuest Speakers:  \nKaren Gil
URL:https://www.empowerbrokerage.com/event/wellcare-2026-certifications-aep-preparation/
ATTACH;FMTTYPE=image/png:https://www.empowerbrokerage.com/wp-content/uploads/2026/03/WellCare-2026-Certifications-AEP-Preparation.png
ORGANIZER;CN="Tyler Culp%2C Vice President of Sales":MAILTO:tculp@empowerbrokerage.com
LOCATION:https://attendee.gotowebinar.com/register/2918753024482673495
END:VEVENT
END:VCALENDAR