BEGIN:VCALENDAR
VERSION:2.0
PRODID:-//Empower Brokerage - ECPv6.15.17.1//NONSGML v1.0//EN
CALSCALE:GREGORIAN
METHOD:PUBLISH
X-ORIGINAL-URL:https://www.empowerbrokerage.com
X-WR-CALDESC:Events for Empower Brokerage
REFRESH-INTERVAL;VALUE=DURATION:PT1H
X-Robots-Tag:noindex
X-PUBLISHED-TTL:PT1H
BEGIN:VTIMEZONE
TZID:America/Chicago
BEGIN:DAYLIGHT
TZOFFSETFROM:-0600
TZOFFSETTO:-0500
TZNAME:CDT
DTSTART:20250309T080000
END:DAYLIGHT
BEGIN:STANDARD
TZOFFSETFROM:-0500
TZOFFSETTO:-0600
TZNAME:CST
DTSTART:20251102T070000
END:STANDARD
BEGIN:DAYLIGHT
TZOFFSETFROM:-0600
TZOFFSETTO:-0500
TZNAME:CDT
DTSTART:20260308T080000
END:DAYLIGHT
BEGIN:STANDARD
TZOFFSETFROM:-0500
TZOFFSETTO:-0600
TZNAME:CST
DTSTART:20261101T070000
END:STANDARD
BEGIN:DAYLIGHT
TZOFFSETFROM:-0600
TZOFFSETTO:-0500
TZNAME:CDT
DTSTART:20270314T080000
END:DAYLIGHT
BEGIN:STANDARD
TZOFFSETFROM:-0500
TZOFFSETTO:-0600
TZNAME:CST
DTSTART:20271107T070000
END:STANDARD
END:VTIMEZONE
BEGIN:VTIMEZONE
TZID:America/Halifax
BEGIN:DAYLIGHT
TZOFFSETFROM:-0400
TZOFFSETTO:-0300
TZNAME:ADT
DTSTART:20250309T060000
END:DAYLIGHT
BEGIN:STANDARD
TZOFFSETFROM:-0300
TZOFFSETTO:-0400
TZNAME:AST
DTSTART:20251102T050000
END:STANDARD
BEGIN:DAYLIGHT
TZOFFSETFROM:-0400
TZOFFSETTO:-0300
TZNAME:ADT
DTSTART:20260308T060000
END:DAYLIGHT
BEGIN:STANDARD
TZOFFSETFROM:-0300
TZOFFSETTO:-0400
TZNAME:AST
DTSTART:20261101T050000
END:STANDARD
BEGIN:DAYLIGHT
TZOFFSETFROM:-0400
TZOFFSETTO:-0300
TZNAME:ADT
DTSTART:20270314T060000
END:DAYLIGHT
BEGIN:STANDARD
TZOFFSETFROM:-0300
TZOFFSETTO:-0400
TZNAME:AST
DTSTART:20271107T050000
END:STANDARD
END:VTIMEZONE
BEGIN:VTIMEZONE
TZID:America/New_York
BEGIN:DAYLIGHT
TZOFFSETFROM:-0500
TZOFFSETTO:-0400
TZNAME:EDT
DTSTART:20250309T070000
END:DAYLIGHT
BEGIN:STANDARD
TZOFFSETFROM:-0400
TZOFFSETTO:-0500
TZNAME:EST
DTSTART:20251102T060000
END:STANDARD
BEGIN:DAYLIGHT
TZOFFSETFROM:-0500
TZOFFSETTO:-0400
TZNAME:EDT
DTSTART:20260308T070000
END:DAYLIGHT
BEGIN:STANDARD
TZOFFSETFROM:-0400
TZOFFSETTO:-0500
TZNAME:EST
DTSTART:20261101T060000
END:STANDARD
BEGIN:DAYLIGHT
TZOFFSETFROM:-0500
TZOFFSETTO:-0400
TZNAME:EDT
DTSTART:20270314T070000
END:DAYLIGHT
BEGIN:STANDARD
TZOFFSETFROM:-0400
TZOFFSETTO:-0500
TZNAME:EST
DTSTART:20271107T060000
END:STANDARD
END:VTIMEZONE
BEGIN:VEVENT
DTSTART;TZID=America/Chicago:20260810T123000
DTEND;TZID=America/Chicago:20260810T130000
DTSTAMP:20260424T130526
CREATED:20251231T163354Z
LAST-MODIFIED:20260421T222715Z
UID:477491810000350-1786365000-1786366800@www.empowerbrokerage.com
SUMMARY:Veteran Initiative Program (V.I.P.) Meetings
DESCRIPTION:Are you interested in working with Veterans? We have a new program called V.I.P.\, or Veteran Initiative Program\, designed to show you how to approach and serve our Veteran community. To join\, request access via the course request form on the training tab. \nDuring these monthly webinars\, you will learn where to meet veterans\, how to talk to them\, and gain awareness about life and health products that they may need. \n  \nIf you are already a member of VIP\, contact Ben Marquez for access to these meetings. \nEmail: bmarquez@empowerbrokerage.com
URL:https://www.empowerbrokerage.com/event/veteran-initiative-program-v-i-p-meetings-2-9/
ATTACH;FMTTYPE=image/png:https://www.empowerbrokerage.com/wp-content/uploads/2025/01/0016-VIP.png
ORGANIZER;CN="Bennie Marquez%2C Regional Sales Director - East Texas%2C OK":MAILTO:bmarquez@empowerbrokerage.com
LOCATION:
END:VEVENT
BEGIN:VEVENT
DTSTART;TZID=America/Halifax:20260811T090000
DTEND;TZID=America/Halifax:20260811T100000
DTSTAMP:20260424T130526
CREATED:20260318T134033Z
LAST-MODIFIED:20260318T134122Z
UID:477491810001225-1786438800-1786442400@www.empowerbrokerage.com
SUMMARY:Make It Rain with Empower Brokerage
DESCRIPTION:10 AM EST\n\n\n\nIncrease your revenue and Make it Rain clients by offering solutions and not just selling a product. Empower Brokerage helps you write more business.\n\n\n\n*Register once for all trainings.
URL:https://www.empowerbrokerage.com/event/make-it-rain-with-empower-brokerage-3-2/2026-08-11/
ATTACH;FMTTYPE=image/png:https://www.empowerbrokerage.com/wp-content/uploads/2024/12/0010-Make-it-Rain-Empower-Brokerage.png
ORGANIZER;CN="Patrick Lima%2C Regional Sales Director - IN%2C IL%2C MI%2C OH%2C KY":MAILTO:plima@empowerbrokerage.com
LOCATION:https://attendee.gotowebinar.com/rt/4922382066965723481
END:VEVENT
BEGIN:VEVENT
DTSTART;TZID=America/New_York:20260812T100000
DTEND;TZID=America/New_York:20260812T110000
DTSTAMP:20260424T130526
CREATED:20260414T201847Z
LAST-MODIFIED:20260414T201847Z
UID:477491810000740-1786528800-1786532400@www.empowerbrokerage.com
SUMMARY:Humpday Huddle: Ready. Set. Go! with Shania Chambliss
DESCRIPTION:10 AM (EST) \nJoin me for a live Q&A session. Get all your questions answered!
URL:https://www.empowerbrokerage.com/event/humpday-huddle-ready-set-go-with-shania-chambliss-9-2-2-2/2026-08-12/
ATTACH;FMTTYPE=image/jpeg:https://www.empowerbrokerage.com/wp-content/uploads/2024/11/TEMPLATE-Humpday-Huddle-with-Shania-Chamblis-V1-scaled.jpg
ORGANIZER;CN="Shania Chambliss%2C Regional Sales Director - Georgia":MAILTO:schambliss@empowerbrokerage.com
LOCATION:https://meet.goto.com/336661085
END:VEVENT
BEGIN:VEVENT
DTSTART;TZID=America/Chicago:20260813T103000
DTEND;TZID=America/Chicago:20260813T113000
DTSTAMP:20260424T130526
CREATED:20251229T235410Z
LAST-MODIFIED:20251229T235410Z
UID:477491810001166-1786617000-1786620600@www.empowerbrokerage.com
SUMMARY:Compliance and Best Practice for Social Media
DESCRIPTION:What To Expect: \nThis session ensures Empower Brokerage agents feel confident using social media while staying compliant and professional. Agents will learn what they can and cannot say online\, how to respond to comments and messages safely\, and how to protect themselves and the brokerage. The goal is to remove fear and confusion around compliance so agents can engage online with clarity and peace of mind.
URL:https://www.empowerbrokerage.com/event/compliance-and-best-practice-for-social-media/
ATTACH;FMTTYPE=image/png:https://www.empowerbrokerage.com/wp-content/uploads/2025/12/Mastering-Social-Media-Banner-Official-2026.png
ORGANIZER;CN="Keana Lujan - Social Media Manager":MAILTO:klujan@empowerbrokerage.com
LOCATION:https://attendee.gotowebinar.com/register/356047606049128284
END:VEVENT
END:VCALENDAR