BEGIN:VCALENDAR
VERSION:2.0
PRODID:-//Empower Brokerage - ECPv6.15.17.1//NONSGML v1.0//EN
CALSCALE:GREGORIAN
METHOD:PUBLISH
X-WR-CALNAME:Empower Brokerage
X-ORIGINAL-URL:https://www.empowerbrokerage.com
X-WR-CALDESC:Events for Empower Brokerage
REFRESH-INTERVAL;VALUE=DURATION:PT1H
X-Robots-Tag:noindex
X-PUBLISHED-TTL:PT1H
BEGIN:VTIMEZONE
TZID:America/Chicago
BEGIN:DAYLIGHT
TZOFFSETFROM:-0600
TZOFFSETTO:-0500
TZNAME:CDT
DTSTART:20240310T080000
END:DAYLIGHT
BEGIN:STANDARD
TZOFFSETFROM:-0500
TZOFFSETTO:-0600
TZNAME:CST
DTSTART:20241103T070000
END:STANDARD
BEGIN:DAYLIGHT
TZOFFSETFROM:-0600
TZOFFSETTO:-0500
TZNAME:CDT
DTSTART:20250309T080000
END:DAYLIGHT
BEGIN:STANDARD
TZOFFSETFROM:-0500
TZOFFSETTO:-0600
TZNAME:CST
DTSTART:20251102T070000
END:STANDARD
BEGIN:DAYLIGHT
TZOFFSETFROM:-0600
TZOFFSETTO:-0500
TZNAME:CDT
DTSTART:20260308T080000
END:DAYLIGHT
BEGIN:STANDARD
TZOFFSETFROM:-0500
TZOFFSETTO:-0600
TZNAME:CST
DTSTART:20261101T070000
END:STANDARD
BEGIN:DAYLIGHT
TZOFFSETFROM:-0600
TZOFFSETTO:-0500
TZNAME:CDT
DTSTART:20270314T080000
END:DAYLIGHT
BEGIN:STANDARD
TZOFFSETFROM:-0500
TZOFFSETTO:-0600
TZNAME:CST
DTSTART:20271107T070000
END:STANDARD
END:VTIMEZONE
BEGIN:VEVENT
DTSTART;TZID=America/Chicago:20260115T100000
DTEND;TZID=America/Chicago:20260115T150000
DTSTAMP:20260424T045839
CREATED:20251120T211255Z
LAST-MODIFIED:20260113T133932Z
UID:477491810000910-1768471200-1768489200@www.empowerbrokerage.com
SUMMARY:Corpus Christi\, TX - Empower Brokerage's 2026 Roadshow: The Legacy Blueprint
DESCRIPTION:Are you ready to take your business further than ever before? Join us for The Legacy Blueprint — a powerful seminar designed to equip you with the strategies\, tools\, and resources you need to thrive in today’s market. \nHere is why you should attend our 2026 roadshow: \n\n1 Hour of Free CE Credit\nMeet Your Regional Sales Director from Empower Brokerage\nLearn How To Be Successful with the New ICHRA Products Available In Your Area\nLearn About New Products and Carrier Opportunities In Your Area\nLeverage Cutting-Edge Training Resources\nLearn a Strategy to Combat Non-Commissionable Products from Carriers\nLearn How Empower Can Help You Become a Registered Social Security Advisor\nMaximize Results with Our Proven Free Lead Programs\nTake Charge of Your Online Social Media Presence to Generate More Leads\nGain access to Empower Exclusive Doctor Partnership Programs\nMaster step-by-step sales strategies that deliver success\nLearn About the New Opportunities for Ancillary Sales and Why Empower Is A Top Producer for Allstate\nLearn Our Blueprint for Agency Creation & Expansion\nLast But Not Least\, Enjoy Lunch On Us\n\nThis is your chance to meet us face-to-face\, connect with industry experts\, and learn how Empower is helping agents succeed every single day. \nSeats are limited — don’t miss this opportunity to gain insights\, strategies\, and connections that can help you see more people\, close more deals\, and grow your income. \nReserve your spot today! \n\nRegister
URL:https://www.empowerbrokerage.com/event/corpus-christi-tx-empower-brokerages-2026-roadshow-the-legacy-blueprint/
LOCATION:Palenque Grill – Corpus Christi\, 5488 S Padre Island Dr\, Ste #1280\, Corpus Christi\, TX\, 78411\, United States
ATTACH;FMTTYPE=image/png:https://www.empowerbrokerage.com/wp-content/uploads/2025/11/01-15-26-Corpus-Christi-Texas-RSD-Road-Show-2026.png
ORGANIZER;CN="Carolina Cisneros%2C Regional Sales Director - Corpus Christi &amp%3B Victoria%2C TX":MAILTO:ccisneros@empowerbrokerage.com
GEO:27.7112217;-97.3727589
X-APPLE-STRUCTURED-LOCATION;VALUE=URI;X-ADDRESS=Palenque Grill – Corpus Christi 5488 S Padre Island Dr Ste #1280 Corpus Christi TX 78411 United States;X-APPLE-RADIUS=500;X-TITLE=5488 S Padre Island Dr\, Ste #1280:geo:-97.3727589,27.7112217
END:VEVENT
BEGIN:VEVENT
DTSTART;TZID=America/Chicago:20260113T100000
DTEND;TZID=America/Chicago:20260113T150000
DTSTAMP:20260424T045839
CREATED:20251120T202411Z
LAST-MODIFIED:20260113T132326Z
UID:477491810000906-1768298400-1768316400@www.empowerbrokerage.com
SUMMARY:Brownsville\, TX - Empower Brokerage's 2026 Roadshow: The Legacy Blueprint
DESCRIPTION:Are you ready to take your business further than ever before? Join us for The Legacy Blueprint — a powerful seminar designed to equip you with the strategies\, tools\, and resources you need to thrive in today’s market. \nHere is why you should attend our 2026 roadshow: \n\n1 Hour of Free CE Credit\nMeet Your Regional Sales Director from Empower Brokerage\nLearn How To Be Successful with the New ICHRA Products Available In Your Area\nLearn About New Products and Carrier Opportunities In Your Area\nLeverage Cutting-Edge Training Resources\nLearn a Strategy to Combat Non-Commissionable Products from Carriers\nLearn How Empower Can Help You Become a Registered Social Security Advisor\nMaximize Results with Our Proven Free Lead Programs\nTake Charge of Your Online Social Media Presence to Generate More Leads\nGain access to Empower Exclusive Doctor Partnership Programs\nMaster step-by-step sales strategies that deliver success\nLearn About the New Opportunities for Ancillary Sales and Why Empower Is A Top Producer for Allstate\nLearn Our Blueprint for Agency Creation & Expansion\nLast But Not Least\, Enjoy Lunch On Us\n\nThis is your chance to meet us face-to-face\, connect with industry experts\, and learn how Empower is helping agents succeed every single day. \nSeats are limited — don’t miss this opportunity to gain insights\, strategies\, and connections that can help you see more people\, close more deals\, and grow your income. \nReserve your spot today! \n\nRegister
URL:https://www.empowerbrokerage.com/event/brownsville-tx-empower-brokerages-2026-roadshow-the-legacy-blueprint/
LOCATION:Palenque Grill – Brownsville\, 2600 Frontage Rd\, Brownsville\, TX\, 78526\, United States
ATTACH;FMTTYPE=image/png:https://www.empowerbrokerage.com/wp-content/uploads/2025/11/01-13-26-Brownsville-Texas-RSD-Road-Show-2026.png
ORGANIZER;CN="Matthew Huerta%2C Regional Sales Director - Rio Grande Valley":MAILTO:mhuerta@empowerbrokerage.com
GEO:25.9575479;-97.5065549
X-APPLE-STRUCTURED-LOCATION;VALUE=URI;X-ADDRESS=Palenque Grill – Brownsville 2600 Frontage Rd Brownsville TX 78526 United States;X-APPLE-RADIUS=500;X-TITLE=2600 Frontage Rd:geo:-97.5065549,25.9575479
END:VEVENT
BEGIN:VEVENT
DTSTART;TZID=America/Chicago:20251009T150000
DTEND;TZID=America/Chicago:20251009T170000
DTSTAMP:20260424T045839
CREATED:20251007T203434Z
LAST-MODIFIED:20251008T125028Z
UID:477491810000853-1760022000-1760029200@www.empowerbrokerage.com
SUMMARY:Get Ready to Sell with Aetna
DESCRIPTION:Join this training with Aetna to learn what you need to be RTS for the upcoming 2026 plan year.
URL:https://www.empowerbrokerage.com/event/get-ready-to-sell-with-aetna/
ATTACH;FMTTYPE=image/png:https://www.empowerbrokerage.com/wp-content/uploads/2025/10/0062-Get-Ready-to-Sell-with-Aetna-01.png
ORGANIZER;CN="Matthew Huerta%2C Regional Sales Director - Rio Grande Valley":MAILTO:mhuerta@empowerbrokerage.com
LOCATION:https://attendee.gotowebinar.com/register/9050887700285428318
END:VEVENT
BEGIN:VEVENT
DTSTART;TZID=America/Chicago:20251007T100000
DTEND;TZID=America/Chicago:20251007T150000
DTSTAMP:20260424T045839
CREATED:20251001T205258Z
LAST-MODIFIED:20251002T120614Z
UID:477491810000851-1759831200-1759849200@www.empowerbrokerage.com
SUMMARY:Harlingen\, TX - 2026 Grab and Go Enrollment Kit Pick Up
DESCRIPTION:Come by the Empower office to pick up your 2026 enrollment kits. Thank you for all you do! \n  \nRegister
URL:https://www.empowerbrokerage.com/event/harlingen-tx-2026-grab-and-go-enrollment-kit-pick-up/
LOCATION:Empower Brokerage Harlingen\, 2307 N Ed Carey Dr\, Harlingen\, 78550\, United States
ATTACH;FMTTYPE=image/png:https://www.empowerbrokerage.com/wp-content/uploads/2025/09/0061-Grab-n-Go-05.png
ORGANIZER;CN="Claudia Howard%2C Regional Sales Director - Rio Grande Valley &amp%3B Colorado":MAILTO:choward@empowerbrokerage.com
GEO:26.1788486;-97.6701986
X-APPLE-STRUCTURED-LOCATION;VALUE=URI;X-ADDRESS=Empower Brokerage Harlingen 2307 N Ed Carey Dr Harlingen 78550 United States;X-APPLE-RADIUS=500;X-TITLE=2307 N Ed Carey Dr:geo:-97.6701986,26.1788486
END:VEVENT
BEGIN:VEVENT
DTSTART;TZID=America/Chicago:20250924T100000
DTEND;TZID=America/Chicago:20250924T150000
DTSTAMP:20260424T045839
CREATED:20250826T183001Z
LAST-MODIFIED:20250826T194748Z
UID:477491810000817-1758708000-1758726000@www.empowerbrokerage.com
SUMMARY:Pharr\, TX - 2026 Carrier First Look
DESCRIPTION:Join us as multiple carriers will be in attendance and going over the changes and plans for 2026. \n*Lunch and a round of TopGolf will be provided. \n  \nRegister
URL:https://www.empowerbrokerage.com/event/pharr-tx-2026-carrier-first-look/
LOCATION:TopGolf – Pharr\, 1901 W Interstate 2\, Pharr\, 78577\, United States
ATTACH;FMTTYPE=image/png:https://www.empowerbrokerage.com/wp-content/uploads/2025/08/13-0051-First-Look-Pharr-01-scaled.png
ORGANIZER;CN="Claudia Howard%2C Regional Sales Director - Rio Grande Valley &amp%3B Colorado":MAILTO:choward@empowerbrokerage.com
GEO:26.196406;-98.2028433
X-APPLE-STRUCTURED-LOCATION;VALUE=URI;X-ADDRESS=TopGolf – Pharr 1901 W Interstate 2 Pharr 78577 United States;X-APPLE-RADIUS=500;X-TITLE=1901 W Interstate 2:geo:-98.2028433,26.196406
END:VEVENT
BEGIN:VEVENT
DTSTART;TZID=America/Chicago:20250916T100000
DTEND;TZID=America/Chicago:20250916T150000
DTSTAMP:20260424T045839
CREATED:20250820T215907Z
LAST-MODIFIED:20250826T194719Z
UID:477491810000813-1758016800-1758034800@www.empowerbrokerage.com
SUMMARY:Corpus Christi\, TX - 2026 Carrier First Look
DESCRIPTION:Join us as multiple carriers will be in attendance and going over the changes and plans for 2026. \n*Lunch will be provided. Seating is limited. \n  \nRegister
URL:https://www.empowerbrokerage.com/event/corpus-christi-tx-2026-carrier-first-look/
LOCATION:Palenque Grill – Corpus Christi\, 5488 S Padre Island Dr\, Ste #1280\, Corpus Christi\, TX\, 78411\, United States
ATTACH;FMTTYPE=image/png:https://www.empowerbrokerage.com/wp-content/uploads/2025/08/12-0051-First-Look-Corpus-Christi-01-scaled.png
ORGANIZER;CN="Claudia Howard%2C Regional Sales Director - Rio Grande Valley &amp%3B Colorado":MAILTO:choward@empowerbrokerage.com
GEO:27.7112217;-97.3727589
X-APPLE-STRUCTURED-LOCATION;VALUE=URI;X-ADDRESS=Palenque Grill – Corpus Christi 5488 S Padre Island Dr Ste #1280 Corpus Christi TX 78411 United States;X-APPLE-RADIUS=500;X-TITLE=5488 S Padre Island Dr\, Ste #1280:geo:-97.3727589,27.7112217
END:VEVENT
BEGIN:VEVENT
DTSTART;TZID=America/Chicago:20250820T100000
DTEND;TZID=America/Chicago:20250820T110000
DTSTAMP:20260424T045839
CREATED:20250627T131635Z
LAST-MODIFIED:20250801T181512Z
UID:477491810000756-1755684000-1755687600@www.empowerbrokerage.com
SUMMARY:Edinburg\, TX - Humana Certification
DESCRIPTION:Come learn about the Humana certification process. \n  \nRegister
URL:https://www.empowerbrokerage.com/event/edinburg-tx-humana-certification/
LOCATION:Empower Brokerage Edinburg\, 135 Paseo Del Prado\, Edinburg\, TX\, 78539\, United States
ATTACH;FMTTYPE=image/png:https://www.empowerbrokerage.com/wp-content/uploads/2025/06/00042-Edinburg-TX-Humana-Certification.png
ORGANIZER;CN="Claudia Howard%2C Regional Sales Director - Rio Grande Valley &amp%3B Colorado":MAILTO:choward@empowerbrokerage.com
GEO:26.2581621;-98.2011816
X-APPLE-STRUCTURED-LOCATION;VALUE=URI;X-ADDRESS=Empower Brokerage Edinburg 135 Paseo Del Prado Edinburg TX 78539 United States;X-APPLE-RADIUS=500;X-TITLE=135 Paseo Del Prado:geo:-98.2011816,26.2581621
END:VEVENT
BEGIN:VEVENT
DTSTART;TZID=America/Chicago:20250807T110000
DTEND;TZID=America/Chicago:20250807T130000
DTSTAMP:20260424T045839
CREATED:20250801T201026Z
LAST-MODIFIED:20250805T131244Z
UID:477491810000789-1754564400-1754571600@www.empowerbrokerage.com
SUMMARY:Edinburg\, TX - Wellcare First Look
DESCRIPTION:Guest Speaker: Santiago Medrano\, Regional Agency Manager – Wellcare \nGet a first look at all Wellcare will offer in their 2026 plans. \n  \n*Wellcare will be sponsoring lunch. \n  \nRegister
URL:https://www.empowerbrokerage.com/event/edinburg-tx-wellcare-first-look/
LOCATION:Empower Brokerage Edinburg\, 135 Paseo Del Prado\, Edinburg\, TX\, 78539\, United States
ATTACH;FMTTYPE=image/jpeg:https://www.empowerbrokerage.com/wp-content/uploads/2025/08/wellcare-2026-plans.jpg
ORGANIZER;CN="Claudia Howard%2C Regional Sales Director - Rio Grande Valley &amp%3B Colorado":MAILTO:choward@empowerbrokerage.com
GEO:26.2581621;-98.2011816
X-APPLE-STRUCTURED-LOCATION;VALUE=URI;X-ADDRESS=Empower Brokerage Edinburg 135 Paseo Del Prado Edinburg TX 78539 United States;X-APPLE-RADIUS=500;X-TITLE=135 Paseo Del Prado:geo:-98.2011816,26.2581621
END:VEVENT
BEGIN:VEVENT
DTSTART;TZID=America/Chicago:20250723T103000
DTEND;TZID=America/Chicago:20250723T123000
DTSTAMP:20260424T045839
CREATED:20250710T133516Z
LAST-MODIFIED:20250711T132335Z
UID:477491810000769-1753266600-1753273800@www.empowerbrokerage.com
SUMMARY:Edinburg\, TX - Get AHIP Ready
DESCRIPTION:Join us to get assistance with your 2026 AHIP certification! \n  \nRegister
URL:https://www.empowerbrokerage.com/event/edinburg-tx-get-ahip-ready/
LOCATION:Empower Brokerage Edinburg\, 135 Paseo Del Prado\, Edinburg\, TX\, 78539\, United States
ATTACH;FMTTYPE=image/jpeg:https://www.empowerbrokerage.com/wp-content/uploads/2025/07/edinburg-tx-get-ahip-ready2048x1365.jpg
ORGANIZER;CN="Claudia Howard%2C Regional Sales Director - Rio Grande Valley &amp%3B Colorado":MAILTO:choward@empowerbrokerage.com
GEO:26.2581621;-98.2011816
X-APPLE-STRUCTURED-LOCATION;VALUE=URI;X-ADDRESS=Empower Brokerage Edinburg 135 Paseo Del Prado Edinburg TX 78539 United States;X-APPLE-RADIUS=500;X-TITLE=135 Paseo Del Prado:geo:-98.2011816,26.2581621
END:VEVENT
BEGIN:VEVENT
DTSTART;TZID=America/Chicago:20250716T100000
DTEND;TZID=America/Chicago:20250716T110000
DTSTAMP:20260424T045839
CREATED:20250627T131204Z
LAST-MODIFIED:20250627T165848Z
UID:477491810000755-1752660000-1752663600@www.empowerbrokerage.com
SUMMARY:Edinburg\, TX - Come Learn About CMS Integration
DESCRIPTION:Guest Speaker: Carolina Cisneros\, Broker Manager – Molina MA \nTalking Points: \n\nLearn about the acronyms: HIDE\, FIDE\, EAE\, CO\, AIP\, and why it’s important to understand them.\nGet a clear understanding of the dual eligibility requirements and changes for 2026.\nHear why you should add the Molina Medicare Advantage Plan to your portfolio!\n\n  \nRegister
URL:https://www.empowerbrokerage.com/event/edinburg-tx-come-learn-about-cms-integration/
LOCATION:Empower Brokerage Edinburg\, 135 Paseo Del Prado\, Edinburg\, TX\, 78539\, United States
ATTACH;FMTTYPE=image/png:https://www.empowerbrokerage.com/wp-content/uploads/2025/06/00042-Edinburg-TX-Come-Learn-About-CMS-Integration.png
ORGANIZER;CN="Claudia Howard%2C Regional Sales Director - Rio Grande Valley &amp%3B Colorado":MAILTO:choward@empowerbrokerage.com
GEO:26.2581621;-98.2011816
X-APPLE-STRUCTURED-LOCATION;VALUE=URI;X-ADDRESS=Empower Brokerage Edinburg 135 Paseo Del Prado Edinburg TX 78539 United States;X-APPLE-RADIUS=500;X-TITLE=135 Paseo Del Prado:geo:-98.2011816,26.2581621
END:VEVENT
BEGIN:VEVENT
DTSTART;TZID=America/Chicago:20250709T103000
DTEND;TZID=America/Chicago:20250709T113000
DTSTAMP:20260424T045839
CREATED:20250618T182054Z
LAST-MODIFIED:20250627T181929Z
UID:477491810000749-1752057000-1752060600@www.empowerbrokerage.com
SUMMARY:Let's Talk Social Media with Kayla Gonzalez
DESCRIPTION:Guest Speaker: Kayla Gonzalez\, Social Media Manager – Empower Brokerage \nJoin us as Kayla shares the wonderful social media resources that Empower offers to our agents\, along with best practices for starting your own social media journey.
URL:https://www.empowerbrokerage.com/event/lets-talk-social-media-with-kayla-gonzalez/
ATTACH;FMTTYPE=image/png:https://www.empowerbrokerage.com/wp-content/uploads/2025/06/0042-Lets-Talk-Social-Media-With-Kayla-Gonzalez.png
ORGANIZER;CN="Matthew Huerta%2C Regional Sales Director - Rio Grande Valley":MAILTO:mhuerta@empowerbrokerage.com
LOCATION:https://register.gotowebinar.com/register/2146597889696363353
END:VEVENT
BEGIN:VEVENT
DTSTART;TZID=America/Chicago:20250702T103000
DTEND;TZID=America/Chicago:20250702T113000
DTSTAMP:20260424T045839
CREATED:20250618T185639Z
LAST-MODIFIED:20250627T165820Z
UID:477491810000751-1751452200-1751455800@www.empowerbrokerage.com
SUMMARY:Edinburg\, TX - Cigna Product Overview
DESCRIPTION:Guest Speakers: Daisy Polanco & Iliana Garza – Cigna Representatives \nJoin us as we do an overview of all the products Cigna has to offer your clients. \n  \nRegister
URL:https://www.empowerbrokerage.com/event/edinburg-tx-cigna-product-overview/
LOCATION:Empower Brokerage Edinburg\, 135 Paseo Del Prado\, Edinburg\, TX\, 78539\, United States
ATTACH;FMTTYPE=image/png:https://www.empowerbrokerage.com/wp-content/uploads/2025/06/00042-Edinburg-TX-Cigna-Product-Overview.png
ORGANIZER;CN="Claudia Howard%2C Regional Sales Director - Rio Grande Valley &amp%3B Colorado":MAILTO:choward@empowerbrokerage.com
GEO:26.2581621;-98.2011816
X-APPLE-STRUCTURED-LOCATION;VALUE=URI;X-ADDRESS=Empower Brokerage Edinburg 135 Paseo Del Prado Edinburg TX 78539 United States;X-APPLE-RADIUS=500;X-TITLE=135 Paseo Del Prado:geo:-98.2011816,26.2581621
END:VEVENT
BEGIN:VEVENT
DTSTART;TZID=America/Chicago:20250626T103000
DTEND;TZID=America/Chicago:20250626T113000
DTSTAMP:20260424T045839
CREATED:20250618T185013Z
LAST-MODIFIED:20250618T185013Z
UID:477491810000750-1750933800-1750937400@www.empowerbrokerage.com
SUMMARY:C-SNP with Matthew Pollock
DESCRIPTION:Guest Speaker: Matthew Pollock
URL:https://www.empowerbrokerage.com/event/c-snp-with-matthew-pollock/
ORGANIZER;CN="Matthew Huerta%2C Regional Sales Director - Rio Grande Valley":MAILTO:mhuerta@empowerbrokerage.com
LOCATION:https://register.gotowebinar.com/register/3404860304825291866
END:VEVENT
BEGIN:VEVENT
DTSTART;TZID=America/Chicago:20250417T100000
DTEND;TZID=America/Chicago:20250417T150000
DTSTAMP:20260424T045839
CREATED:20250220T190703Z
LAST-MODIFIED:20250331T131700Z
UID:477491810000549-1744884000-1744902000@www.empowerbrokerage.com
SUMMARY:Victoria\, TX - Empower's 2025 Road Show - Ready. Set. Go!
DESCRIPTION:Are you ready to take your business to the next level? Join us for an exciting seminar designed to empower you with the tools\, strategies\, and resources to grow your business like never before! \nAt Ready. Set. GO! you’ll discover how Empower Brokerage can help you: \n\nLeverage cutting-edge training resources\nMaximize results with our proven lead programs\nTake charge of your online social media presence\nGain access to Empower exclusive provider partnership programs\nMaster step-by-step sales strategies that deliver success\nGrow or build an agency from the ground up\n\nWe invite you to meet us face-to-face and discover how we support agents like you. \nDon’t miss this opportunity to gain actionable insights and proven strategies to see more people\, close more deals\, and make more money! \n  \n*Seats are limited\, so reserve your spot today! \nRegister
URL:https://www.empowerbrokerage.com/event/victoria-tx-empowers-2025-road-show-ready-set-go/
LOCATION:Son Valley Ranch – General Store\, 8793 US Hwy 87 N\, Victoria\, TX\, 77904\, United States
ATTACH;FMTTYPE=image/png:https://www.empowerbrokerage.com/wp-content/uploads/2025/02/Victoria-TX-RSD-Road-Show-2025.png
ORGANIZER;CN="Claudia Howard%2C Regional Sales Director - Rio Grande Valley &amp%3B Colorado":MAILTO:choward@empowerbrokerage.com
GEO:28.6390076;-96.7471483
X-APPLE-STRUCTURED-LOCATION;VALUE=URI;X-ADDRESS=Son Valley Ranch – General Store 8793 US Hwy 87 N Victoria TX 77904 United States;X-APPLE-RADIUS=500;X-TITLE=8793 US Hwy 87 N:geo:-96.7471483,28.6390076
END:VEVENT
BEGIN:VEVENT
DTSTART;TZID=America/Chicago:20250415T100000
DTEND;TZID=America/Chicago:20250415T150000
DTSTAMP:20260424T045839
CREATED:20250220T190608Z
LAST-MODIFIED:20250318T203939Z
UID:477491810000547-1744711200-1744729200@www.empowerbrokerage.com
SUMMARY:Kingsville\, TX - Empower's 2025 Road Show - Ready. Set. Go!
DESCRIPTION:Are you ready to take your business to the next level? Join us for an exciting seminar designed to empower you with the tools\, strategies\, and resources to grow your business like never before! \nAt Ready. Set. GO! you’ll discover how Empower Brokerage can help you: \n\nLeverage cutting-edge training resources\nMaximize results with our proven lead programs\nTake charge of your online social media presence\nGain access to Empower exclusive provider partnership programs\nMaster step-by-step sales strategies that deliver success\nGrow or build an agency from the ground up\n\nWe invite you to meet us face-to-face and discover how we support agents like you. \nDon’t miss this opportunity to gain actionable insights and proven strategies to see more people\, close more deals\, and make more money! \n  \n*Seats are limited\, so reserve your spot today! \nRegister
URL:https://www.empowerbrokerage.com/event/kingsville-tx-empowers-2025-road-show-ready-set-go/
LOCATION:J K Northway Exposition Center – EOC Bldg\, 501 E Escondido Road\, Kingsville\, TX\, 78363\, United States
ATTACH;FMTTYPE=image/png:https://www.empowerbrokerage.com/wp-content/uploads/2025/03/Kingsville-TX-RSD-Road-Show-2025.png
ORGANIZER;CN="Claudia Howard%2C Regional Sales Director - Rio Grande Valley &amp%3B Colorado":MAILTO:choward@empowerbrokerage.com
GEO:27.4736792;-97.8579873
X-APPLE-STRUCTURED-LOCATION;VALUE=URI;X-ADDRESS=J K Northway Exposition Center – EOC Bldg 501 E Escondido Road Kingsville TX 78363 United States;X-APPLE-RADIUS=500;X-TITLE=501 E Escondido Road:geo:-97.8579873,27.4736792
END:VEVENT
BEGIN:VEVENT
DTSTART;TZID=America/Chicago:20250402T110000
DTEND;TZID=America/Chicago:20250402T130000
DTSTAMP:20260424T045839
CREATED:20250327T214946Z
LAST-MODIFIED:20250328T173154Z
UID:477491810000595-1743591600-1743598800@www.empowerbrokerage.com
SUMMARY:Edinburg\, TX - Cigna: Understanding Election Periods
DESCRIPTION:Guest Speakers: Daisy Polanco & Iliana Garza – Cigna \nEvent Details: \nJoin us as we discuss the ins and outs of Election Periods. \nLunch will be provided by Cigna. \nRegister
URL:https://www.empowerbrokerage.com/event/edinburg-tx-cigna-understanding-election-periods/
LOCATION:Empower Brokerage Edinburg\, 135 Paseo Del Prado\, Edinburg\, TX\, 78539\, United States
ORGANIZER;CN="Matthew Huerta%2C Regional Sales Director - Rio Grande Valley":MAILTO:mhuerta@empowerbrokerage.com
GEO:26.2581621;-98.2011816
X-APPLE-STRUCTURED-LOCATION;VALUE=URI;X-ADDRESS=Empower Brokerage Edinburg 135 Paseo Del Prado Edinburg TX 78539 United States;X-APPLE-RADIUS=500;X-TITLE=135 Paseo Del Prado:geo:-98.2011816,26.2581621
END:VEVENT
BEGIN:VEVENT
DTSTART;TZID=America/Chicago:20250305T100000
DTEND;TZID=America/Chicago:20250305T110000
DTSTAMP:20260424T045839
CREATED:20250228T195112Z
LAST-MODIFIED:20250228T195112Z
UID:477491810000560-1741168800-1741172400@www.empowerbrokerage.com
SUMMARY:UCARD & DSNP Deep Dive 2025
DESCRIPTION:Join Mimi Castaneda from UHC to discuss UCARD and DSNP products in 2025.
URL:https://www.empowerbrokerage.com/event/ucard-dsnp-deep-dive-2025/
ORGANIZER;CN="Matthew Huerta%2C Regional Sales Director - Rio Grande Valley":MAILTO:mhuerta@empowerbrokerage.com
LOCATION:https://urldefense.proofpoint.com/v2/url?u=https-3A__events.teams.microsoft.com_event_e9b9d70e-2Dc061-2D4b89-2Dbe3f-2D947e85747363-40db05faca-2Dc82a-2D4b9d-2Db9c5-2D0f64b6755421&d=DwMFAg&c=euGZstcaTDllvimEN8b7jXrwqOf-v5A_CdpgnVfiiMM&r=CU7GnF3apS5eGGuygmDLQF--vWB9hYnSN53hoV4RcZ4&m=Hi_TfoWxHnOJHJY0qKzO52w3K6VgAoJYfHa5f5hyHvV0vga_pjjW6Nij-ntwRjRD&s=7C4CM-Dy0JuxB-Q405rsHhYTIipA8gfCfHomCP2o1FI&e=
END:VEVENT
BEGIN:VEVENT
DTSTART;TZID=America/Chicago:20250219T110000
DTEND;TZID=America/Chicago:20250219T150000
DTSTAMP:20260424T045839
CREATED:20241227T215140Z
LAST-MODIFIED:20250124T144647Z
UID:477491810000091-1739962800-1739977200@www.empowerbrokerage.com
SUMMARY:Harlingen\, TX - Empower's 2025 Road Show - Ready. Set. Go!
DESCRIPTION:Are you ready to take your business to the next level? Join us for an exciting seminar designed to empower you with the tools\, strategies\, and resources to grow your business like never before! \nAt Ready. Set. GO! you’ll discover how Empower Brokerage can help you: \n\nLeverage cutting-edge training resources\nMaximize results with our proven lead programs\nTake charge of your online social media presence\nGain access to Empower exclusive provider partnership programs\nMaster step-by-step sales strategies that deliver success\nGrow or build an agency from the ground up\n\nWe invite you to meet us face-to-face and discover how we support agents like you. \nDon’t miss this opportunity to gain actionable insights and proven strategies to see more people\, close more deals\, and make more money! \n  \n*Seats are limited\, so reserve your spot today! \nRegister
URL:https://www.empowerbrokerage.com/event/harlingen-tx-empowers-2025-road-show-ready-set-go/
LOCATION:Harlingen Country Club\, 5500 El Camino Real\, Harlingen\, TX\, 78552\, United States
ATTACH;FMTTYPE=image/png:https://www.empowerbrokerage.com/wp-content/uploads/2024/12/Road-Show-2025_Harlingenv3.png
ORGANIZER;CN="Claudia Howard%2C Regional Sales Director - Rio Grande Valley &amp%3B Colorado":MAILTO:choward@empowerbrokerage.com
GEO:26.203786;-97.7566477
X-APPLE-STRUCTURED-LOCATION;VALUE=URI;X-ADDRESS=Harlingen Country Club 5500 El Camino Real Harlingen TX 78552 United States;X-APPLE-RADIUS=500;X-TITLE=5500 El Camino Real:geo:-97.7566477,26.203786
END:VEVENT
BEGIN:VEVENT
DTSTART;TZID=America/Chicago:20250218T100000
DTEND;TZID=America/Chicago:20250218T150000
DTSTAMP:20260424T045839
CREATED:20241227T215106Z
LAST-MODIFIED:20250124T144730Z
UID:477491810000090-1739872800-1739890800@www.empowerbrokerage.com
SUMMARY:McAllen\, TX - Empower's 2025 Road Show - Ready. Set. Go!
DESCRIPTION:Are you ready to take your business to the next level? Join us for an exciting seminar designed to empower you with the tools\, strategies\, and resources to grow your business like never before! \nAt Ready. Set. GO! you’ll discover how Empower Brokerage can help you: \n\nLeverage cutting-edge training resources\nMaximize results with our proven lead programs\nTake charge of your online social media presence\nGain access to Empower exclusive provider partnership programs\nMaster step-by-step sales strategies that deliver success\nGrow or build an agency from the ground up\n\nWe invite you to meet us face-to-face and discover how we support agents like you. \nDon’t miss this opportunity to gain actionable insights and proven strategies to see more people\, close more deals\, and make more money! \n  \n*Seats are limited\, so reserve your spot today! \nRegister
URL:https://www.empowerbrokerage.com/event/mcallen-tx-empowers-2025-road-show-ready-set-go/
LOCATION:McAllen Convention Center\, 700 Convention Center Blvd\, McAllen\, TX\, 78501\, United States
ATTACH;FMTTYPE=image/png:https://www.empowerbrokerage.com/wp-content/uploads/2025/01/Road-Show-2025_McAllen.png
ORGANIZER;CN="Matthew Huerta%2C Regional Sales Director - Rio Grande Valley":MAILTO:mhuerta@empowerbrokerage.com
GEO:26.201086;-98.259355
X-APPLE-STRUCTURED-LOCATION;VALUE=URI;X-ADDRESS=McAllen Convention Center 700 Convention Center Blvd McAllen TX 78501 United States;X-APPLE-RADIUS=500;X-TITLE=700 Convention Center Blvd:geo:-98.259355,26.201086
END:VEVENT
BEGIN:VEVENT
DTSTART;TZID=America/Chicago:20250123T110000
DTEND;TZID=America/Chicago:20250123T150000
DTSTAMP:20260424T045839
CREATED:20241227T215007Z
LAST-MODIFIED:20250102T165802Z
UID:477491810000088-1737630000-1737644400@www.empowerbrokerage.com
SUMMARY:Corpus Christi\, TX - Empower's 2025 Road Show - Ready. Set. Go!
DESCRIPTION:Are you ready to take your business to the next level? Join us for an exciting seminar designed to empower you with the tools\, strategies\, and resources to grow your business like never before! \nAt Ready. Set. GO! you’ll discover how Empower Brokerage can help you: \n\nLeverage cutting-edge training resources\nMaximize results with our proven lead programs\nTake charge of your online social media presence\nGain access to Empower exclusive provider partnership programs\nMaster step-by-step sales strategies that deliver success\nGrow or build an agency from the ground up\n\nWe invite you to meet us face-to-face and discover how we support agents like you. \nDon’t miss this opportunity to gain actionable insights and proven strategies to see more people\, close more deals\, and make more money! \n  \n*Seats are limited\, so reserve your spot today! \nRegister
URL:https://www.empowerbrokerage.com/event/corpus-christi-tx-empowers-2025-road-show-ready-set-go/
LOCATION:Saltgrass Steak House – Corpus Christi\, 6729 South Padre Island Dr\, Corpus Christi\, TX\, 78412\, United States
ATTACH;FMTTYPE=image/png:https://www.empowerbrokerage.com/wp-content/uploads/2025/01/Road-Show-2025_Corpus-Christi.png
ORGANIZER;CN="Claudia Howard%2C Regional Sales Director - Rio Grande Valley &amp%3B Colorado":MAILTO:choward@empowerbrokerage.com
GEO:27.6965994;-97.3499946
X-APPLE-STRUCTURED-LOCATION;VALUE=URI;X-ADDRESS=Saltgrass Steak House – Corpus Christi 6729 South Padre Island Dr Corpus Christi TX 78412 United States;X-APPLE-RADIUS=500;X-TITLE=6729 South Padre Island Dr:geo:-97.3499946,27.6965994
END:VEVENT
END:VCALENDAR