BEGIN:VCALENDAR
VERSION:2.0
PRODID:-//Empower Brokerage - ECPv6.15.17.1//NONSGML v1.0//EN
CALSCALE:GREGORIAN
METHOD:PUBLISH
X-WR-CALNAME:Empower Brokerage
X-ORIGINAL-URL:https://www.empowerbrokerage.com
X-WR-CALDESC:Events for Empower Brokerage
REFRESH-INTERVAL;VALUE=DURATION:PT1H
X-Robots-Tag:noindex
X-PUBLISHED-TTL:PT1H
BEGIN:VTIMEZONE
TZID:America/Chicago
BEGIN:DAYLIGHT
TZOFFSETFROM:-0600
TZOFFSETTO:-0500
TZNAME:CDT
DTSTART:20240310T080000
END:DAYLIGHT
BEGIN:STANDARD
TZOFFSETFROM:-0500
TZOFFSETTO:-0600
TZNAME:CST
DTSTART:20241103T070000
END:STANDARD
BEGIN:DAYLIGHT
TZOFFSETFROM:-0600
TZOFFSETTO:-0500
TZNAME:CDT
DTSTART:20250309T080000
END:DAYLIGHT
BEGIN:STANDARD
TZOFFSETFROM:-0500
TZOFFSETTO:-0600
TZNAME:CST
DTSTART:20251102T070000
END:STANDARD
BEGIN:DAYLIGHT
TZOFFSETFROM:-0600
TZOFFSETTO:-0500
TZNAME:CDT
DTSTART:20260308T080000
END:DAYLIGHT
BEGIN:STANDARD
TZOFFSETFROM:-0500
TZOFFSETTO:-0600
TZNAME:CST
DTSTART:20261101T070000
END:STANDARD
END:VTIMEZONE
BEGIN:VEVENT
DTSTART;TZID=America/Chicago:20250924T090000
DTEND;TZID=America/Chicago:20250924T140000
DTSTAMP:20260420T025516
CREATED:20250919T202922Z
LAST-MODIFIED:20250919T202922Z
UID:477491810000835-1758704400-1758722400@www.empowerbrokerage.com
SUMMARY:Broker Round-Up with MS Carriers
DESCRIPTION:Brokers! Have you missed a broker rollout in your area? If so\, several  of the carriers have agreed to participate in a virtual call to discuss products specific to your area of the market. Devoted\, Molina\, and Wellcare have agreed to participate during the timeslots listed below. \n\nWellcare: 9 am – 9:45 am\nCigna: 10 am – 10:45 am\nHealthy MS: 11 am – 11:45 am\nDevoted Health: 12 pm – 12:45 pm\nMolina: 1 pm – 1:45 pm
URL:https://www.empowerbrokerage.com/event/broker-round-up-with-ms-carriers/
ORGANIZER;CN="Gustavus McCoy%2C Regional Sales Director - Mississippi &amp%3B Alabama":MAILTO:gmccoy@empowerbrokerage.com
LOCATION:https://register.gotowebinar.com/register/8450214602025232981
END:VEVENT
BEGIN:VEVENT
DTSTART;TZID=America/Chicago:20250508T110000
DTEND;TZID=America/Chicago:20250508T150000
DTSTAMP:20260420T025516
CREATED:20250321T185020Z
LAST-MODIFIED:20250404T161558Z
UID:477491810000580-1746702000-1746716400@www.empowerbrokerage.com
SUMMARY:Tupelo\, MS - Empower's 2025 Road Show - Ready. Set. Go!
DESCRIPTION:Are you ready to take your business to the next level? Join us for an exciting seminar designed to empower you with the tools\, strategies\, and resources to grow your business like never before! \nAt Ready. Set. GO! you’ll discover how Empower Brokerage can help you: \n\nLeverage cutting-edge training resources\nMaximize results with our proven lead programs\nTake charge of your online social media presence\nGain access to Empower exclusive provider partnership programs\nMaster step-by-step sales strategies that deliver success\nGrow or build an agency from the ground up\n\nWe invite you to meet us face-to-face and discover how we support agents like you. \nDon’t miss this opportunity to gain actionable insights and proven strategies to see more people\, close more deals\, and make more money! \n  \n*Seats are limited\, so reserve your spot today! \nRegister
URL:https://www.empowerbrokerage.com/event/tupelo-ms-empowers-2025-road-show-ready-set-go/
LOCATION:Harvey’s Tupelo\, 424 S Gloster Street\, Tupelo\, MS\, 38801\, United States
ATTACH;FMTTYPE=image/png:https://www.empowerbrokerage.com/wp-content/uploads/2025/03/Tupelo-MS-RSD-Road-Show-2025-01.png
ORGANIZER;CN="Gustavus McCoy%2C Regional Sales Director - Mississippi &amp%3B Alabama":MAILTO:gmccoy@empowerbrokerage.com
GEO:34.2504973;-88.7160274
X-APPLE-STRUCTURED-LOCATION;VALUE=URI;X-ADDRESS=Harvey’s Tupelo 424 S Gloster Street Tupelo MS 38801 United States;X-APPLE-RADIUS=500;X-TITLE=424 S Gloster Street:geo:-88.7160274,34.2504973
END:VEVENT
BEGIN:VEVENT
DTSTART;TZID=America/Chicago:20250506T110000
DTEND;TZID=America/Chicago:20250506T150000
DTSTAMP:20260420T025516
CREATED:20250321T184930Z
LAST-MODIFIED:20250402T185520Z
UID:477491810000579-1746529200-1746543600@www.empowerbrokerage.com
SUMMARY:Memphis\, TN - Empower's 2025 Road Show - Ready. Set. Go!
DESCRIPTION:Are you ready to take your business to the next level? Join us for an exciting seminar designed to empower you with the tools\, strategies\, and resources to grow your business like never before! \nAt Ready. Set. GO! you’ll discover how Empower Brokerage can help you: \n\nLeverage cutting-edge training resources\nMaximize results with our proven lead programs\nTake charge of your online social media presence\nGain access to Empower exclusive provider partnership programs\nMaster step-by-step sales strategies that deliver success\nGrow or build an agency from the ground up\n\nWe invite you to meet us face-to-face and discover how we support agents like you. \nDon’t miss this opportunity to gain actionable insights and proven strategies to see more people\, close more deals\, and make more money! \n  \n*Seats are limited\, so reserve your spot today! \nRegister
URL:https://www.empowerbrokerage.com/event/memphis-tn-empowers-2025-road-show-ready-set-go/
LOCATION:Char Restaurant – Memphis\, 431 S Highland St\, #120\, Memphis\, TN\, 38111\, United States
ATTACH;FMTTYPE=image/png:https://www.empowerbrokerage.com/wp-content/uploads/2025/03/Memphis-TN-RSD-Road-Show-2025.png
ORGANIZER;CN="Gustavus McCoy%2C Regional Sales Director - Mississippi &amp%3B Alabama":MAILTO:gmccoy@empowerbrokerage.com
GEO:35.1195625;-89.9460489
X-APPLE-STRUCTURED-LOCATION;VALUE=URI;X-ADDRESS=Char Restaurant – Memphis 431 S Highland St #120 Memphis TN 38111 United States;X-APPLE-RADIUS=500;X-TITLE=431 S Highland St\, #120:geo:-89.9460489,35.1195625
END:VEVENT
BEGIN:VEVENT
DTSTART;TZID=America/Chicago:20250314T100000
DTEND;TZID=America/Chicago:20250314T150000
DTSTAMP:20260420T025516
CREATED:20250206T223311Z
LAST-MODIFIED:20250210T202118Z
UID:477491810000416-1741946400-1741964400@www.empowerbrokerage.com
SUMMARY:Birmingham\, AL - Empower's 2025 Road Show - Ready. Set. Go!
DESCRIPTION:Are you ready to take your business to the next level? Join us for an exciting seminar designed to empower you with the tools\, strategies\, and resources to grow your business like never before! \nAt Ready. Set. GO! you’ll discover how Empower Brokerage can help you: \n\nLeverage cutting-edge training resources\nMaximize results with our proven lead programs\nTake charge of your online social media presence\nGain access to Empower exclusive provider partnership programs\nMaster step-by-step sales strategies that deliver success\nGrow or build an agency from the ground up\n\nWe invite you to meet us face-to-face and discover how we support agents like you. \nDon’t miss this opportunity to gain actionable insights and proven strategies to see more people\, close more deals\, and make more money! \n  \n*Seats are limited\, so reserve your spot today! \nRegister
URL:https://www.empowerbrokerage.com/event/birmingham-al-empowers-2025-road-show-ready-set-go-2/
LOCATION:Ruth’s Chris Steakhouse – Birmingham\, 2300 Woodcrest Pl\, Birmingham\, AL\, 35209\, United States
ATTACH;FMTTYPE=image/png:https://www.empowerbrokerage.com/wp-content/uploads/2025/02/birmingham-alabama-2.png
ORGANIZER;CN="Gustavus McCoy%2C Regional Sales Director - Mississippi &amp%3B Alabama":MAILTO:gmccoy@empowerbrokerage.com
GEO:33.488631;-86.7884974
X-APPLE-STRUCTURED-LOCATION;VALUE=URI;X-ADDRESS=Ruth’s Chris Steakhouse – Birmingham 2300 Woodcrest Pl Birmingham AL 35209 United States;X-APPLE-RADIUS=500;X-TITLE=2300 Woodcrest Pl:geo:-86.7884974,33.488631
END:VEVENT
BEGIN:VEVENT
DTSTART;TZID=America/Chicago:20250312T110000
DTEND;TZID=America/Chicago:20250312T150000
DTSTAMP:20260420T025516
CREATED:20250124T171607Z
LAST-MODIFIED:20250131T143051Z
UID:477491810000330-1741777200-1741791600@www.empowerbrokerage.com
SUMMARY:Mobile\, AL - Empower's 2025 Road Show - Ready. Set. Go!
DESCRIPTION:Are you ready to take your business to the next level? Join us for an exciting seminar designed to empower you with the tools\, strategies\, and resources to grow your business like never before! \nAt Ready. Set. GO! you’ll discover how Empower Brokerage can help you: \n\nLeverage cutting-edge training resources\nMaximize results with our proven lead programs\nTake charge of your online social media presence\nGain access to Empower exclusive provider partnership programs\nMaster step-by-step sales strategies that deliver success\nGrow or build an agency from the ground up\n\nWe invite you to meet us face-to-face and discover how we support agents like you. \nDon’t miss this opportunity to gain actionable insights and proven strategies to see more people\, close more deals\, and make more money! \n  \n*Seats are limited\, so reserve your spot today! \nRegister
URL:https://www.empowerbrokerage.com/event/mobile-al-empowers-2025-road-show-ready-set-go/
LOCATION:Half Shell Oyster House\, 3654 Airport Blvd\, Ste F\, Mobile\, AL\, 36608\, United States
ATTACH;FMTTYPE=image/png:https://www.empowerbrokerage.com/wp-content/uploads/2025/01/mobile-alabama.png
ORGANIZER;CN="Gustavus McCoy%2C Regional Sales Director - Mississippi &amp%3B Alabama":MAILTO:gmccoy@empowerbrokerage.com
GEO:30.6770988;-88.1304165
X-APPLE-STRUCTURED-LOCATION;VALUE=URI;X-ADDRESS=Half Shell Oyster House 3654 Airport Blvd Ste F Mobile AL 36608 United States;X-APPLE-RADIUS=500;X-TITLE=3654 Airport Blvd\, Ste F:geo:-88.1304165,30.6770988
END:VEVENT
BEGIN:VEVENT
DTSTART;TZID=America/Chicago:20250130T110000
DTEND;TZID=America/Chicago:20250130T150000
DTSTAMP:20260420T025516
CREATED:20241226T224750Z
LAST-MODIFIED:20250124T144916Z
UID:477491810000082-1738234800-1738249200@www.empowerbrokerage.com
SUMMARY:Gulf Port\, MS - Empower's 2025 Road Show - Ready. Set. Go!
DESCRIPTION:Are you ready to take your business to the next level? Join us for an exciting seminar designed to empower you with the tools\, strategies\, and resources to grow your business like never before! \nAt Ready. Set. GO! you’ll discover how Empower Brokerage can help you: \n\nLeverage cutting-edge training resources\nMaximize results with our proven lead programs\nTake charge of your online social media presence\nGain access to Empower exclusive provider partnership programs\nMaster step-by-step sales strategies that deliver success\nGrow or build an agency from the ground up\n\nWe invite you to meet us face-to-face and discover how we support agents like you. \nDon’t miss this opportunity to gain actionable insights and proven strategies to see more people\, close more deals\, and make more money! \n  \n*Seats are limited\, so reserve your spot today! \nRegister
URL:https://www.empowerbrokerage.com/event/gulf-port-ms-empowers-2025-road-show-ready-set-go/
LOCATION:Salute Italian and Seafood Restaurant\, 1712 15th St\, Gulfport\, MS\, 39501\, United States
ATTACH;FMTTYPE=image/png:https://www.empowerbrokerage.com/wp-content/uploads/2025/01/Road-Show-2025_Gulf-Port-v3.png
ORGANIZER;CN="Gustavus McCoy%2C Regional Sales Director - Mississippi &amp%3B Alabama":MAILTO:gmccoy@empowerbrokerage.com
GEO:30.3697315;-89.0823818
X-APPLE-STRUCTURED-LOCATION;VALUE=URI;X-ADDRESS=Salute Italian and Seafood Restaurant 1712 15th St Gulfport MS 39501 United States;X-APPLE-RADIUS=500;X-TITLE=1712 15th St:geo:-89.0823818,30.3697315
END:VEVENT
BEGIN:VEVENT
DTSTART;TZID=America/Chicago:20250128T110000
DTEND;TZID=America/Chicago:20250128T150000
DTSTAMP:20260420T025516
CREATED:20241226T224714Z
LAST-MODIFIED:20250124T144938Z
UID:477491810000081-1738062000-1738076400@www.empowerbrokerage.com
SUMMARY:Jackson\, MS - Empower's 2025 Road Show - Ready. Set. Go!
DESCRIPTION:Are you ready to take your business to the next level? Join us for an exciting seminar designed to empower you with the tools\, strategies\, and resources to grow your business like never before! \nAt Ready. Set. GO! you’ll discover how Empower Brokerage can help you: \n\nLeverage cutting-edge training resources\nMaximize results with our proven lead programs\nTake charge of your online social media presence\nGain access to Empower exclusive provider partnership programs\nMaster step-by-step sales strategies that deliver success\nGrow or build an agency from the ground up\n\nWe invite you to meet us face-to-face and discover how we support agents like you. \nDon’t miss this opportunity to gain actionable insights and proven strategies to see more people\, close more deals\, and make more money! \n  \n*Seats are limited\, so reserve your spot today! \nRegister
URL:https://www.empowerbrokerage.com/event/jackson-ms-empowers-2025-road-show-ready-set-go/
LOCATION:CHAR Restaurant\, 4500 Interstate 55 North Frontage Rd\, Jackson\, MS\, 39211\, United States
ATTACH;FMTTYPE=image/png:https://www.empowerbrokerage.com/wp-content/uploads/2024/12/Road-Show-2025_Jackson-v3.1-1.png
ORGANIZER;CN="Gustavus McCoy%2C Regional Sales Director - Mississippi &amp%3B Alabama":MAILTO:gmccoy@empowerbrokerage.com
GEO:32.3545996;-90.1496207
X-APPLE-STRUCTURED-LOCATION;VALUE=URI;X-ADDRESS=CHAR Restaurant 4500 Interstate 55 North Frontage Rd Jackson MS 39211 United States;X-APPLE-RADIUS=500;X-TITLE=4500 Interstate 55 North Frontage Rd:geo:-90.1496207,32.3545996
END:VEVENT
END:VCALENDAR