BEGIN:VCALENDAR
VERSION:2.0
PRODID:-//Empower Brokerage - ECPv6.15.17.1//NONSGML v1.0//EN
CALSCALE:GREGORIAN
METHOD:PUBLISH
X-ORIGINAL-URL:https://www.empowerbrokerage.com
X-WR-CALDESC:Events for Empower Brokerage
REFRESH-INTERVAL;VALUE=DURATION:PT1H
X-Robots-Tag:noindex
X-PUBLISHED-TTL:PT1H
BEGIN:VTIMEZONE
TZID:America/Chicago
BEGIN:DAYLIGHT
TZOFFSETFROM:-0600
TZOFFSETTO:-0500
TZNAME:CDT
DTSTART:20240310T080000
END:DAYLIGHT
BEGIN:STANDARD
TZOFFSETFROM:-0500
TZOFFSETTO:-0600
TZNAME:CST
DTSTART:20241103T070000
END:STANDARD
BEGIN:DAYLIGHT
TZOFFSETFROM:-0600
TZOFFSETTO:-0500
TZNAME:CDT
DTSTART:20250309T080000
END:DAYLIGHT
BEGIN:STANDARD
TZOFFSETFROM:-0500
TZOFFSETTO:-0600
TZNAME:CST
DTSTART:20251102T070000
END:STANDARD
BEGIN:DAYLIGHT
TZOFFSETFROM:-0600
TZOFFSETTO:-0500
TZNAME:CDT
DTSTART:20260308T080000
END:DAYLIGHT
BEGIN:STANDARD
TZOFFSETFROM:-0500
TZOFFSETTO:-0600
TZNAME:CST
DTSTART:20261101T070000
END:STANDARD
END:VTIMEZONE
BEGIN:VEVENT
DTSTART;TZID=America/Chicago:20250827T100000
DTEND;TZID=America/Chicago:20250827T110000
DTSTAMP:20260420T032443
CREATED:20241127T164031Z
LAST-MODIFIED:20250217T155937Z
UID:477491810000130-1756288800-1756292400@www.empowerbrokerage.com
SUMMARY:Medicare Supplements Sales Strategies
DESCRIPTION:Join John Shinn and fellow agents to learn how to INCREASE YOUR INCOME!
URL:https://www.empowerbrokerage.com/event/medicare-supplements-sales-strategies/2025-08-27/
ATTACH;FMTTYPE=image/jpeg:https://www.empowerbrokerage.com/wp-content/uploads/2024/11/TEMPLATE-Medicare-Supplements-Sales-Strategies-John-Shinn-2-scaled.jpg
ORGANIZER;CN="John Shinn - Senior Benefits Specialist":MAILTO:jshinn@empowerbrokerage.com
LOCATION:https://attendee.gotowebinar.com/register/3709343658254354272
END:VEVENT
BEGIN:VEVENT
DTSTART;TZID=America/Chicago:20250826T110000
DTEND;TZID=America/Chicago:20250826T150000
DTSTAMP:20260420T032443
CREATED:20250818T182802Z
LAST-MODIFIED:20250819T142222Z
UID:477491810000804-1756206000-1756220400@www.empowerbrokerage.com
SUMMARY:Amarillo\, TX - Regional Sales Director Meet & Greet PLUS Prominence First Look
DESCRIPTION:Come join us and meet your new Regional Sales Director for Empower Brokerage – Paul Wood. Paul will be working West Texas/Panhandle area. \nHe is anxious to meet you all and is ready to help you through the busy times ahead. \nIn addition\, Prominence will be joining as well to go over what you can look forward to in 2026. \nPlease register and join us for the opportunity to meet Paul and have a delicious lunch! \n  \nRegister
URL:https://www.empowerbrokerage.com/event/amarillo-tx-regional-sales-director-meet-greet-plus-prominence-first-look/
LOCATION:Macaroni Joe’s\, 1619 S Kentucky Street\, Amarillo\, TX\, 79109\, United States
ATTACH;FMTTYPE=image/png:https://www.empowerbrokerage.com/wp-content/uploads/2025/08/0052-RSD-Meet-and-Greets-8.26.25-01-scaled.png
ORGANIZER;CN="Paul Wood%2C Regional Sales Director - AR%2C LA%2C Amarillo%2C Denison%2C Sherman%2C &amp%3B Wichita Falls%2C TX":MAILTO:pwood@empowerbrokerage.com
GEO:35.1961111;-101.8680556
X-APPLE-STRUCTURED-LOCATION;VALUE=URI;X-ADDRESS=Macaroni Joe’s 1619 S Kentucky Street Amarillo TX 79109 United States;X-APPLE-RADIUS=500;X-TITLE=1619 S Kentucky Street:geo:-101.8680556,35.1961111
END:VEVENT
BEGIN:VEVENT
DTSTART;TZID=America/Chicago:20250820T100000
DTEND;TZID=America/Chicago:20250820T110000
DTSTAMP:20260420T032443
CREATED:20241127T164031Z
LAST-MODIFIED:20250217T155937Z
UID:477491810000129-1755684000-1755687600@www.empowerbrokerage.com
SUMMARY:Medicare Supplements Sales Strategies
DESCRIPTION:Join John Shinn and fellow agents to learn how to INCREASE YOUR INCOME!
URL:https://www.empowerbrokerage.com/event/medicare-supplements-sales-strategies/2025-08-20/
ATTACH;FMTTYPE=image/jpeg:https://www.empowerbrokerage.com/wp-content/uploads/2024/11/TEMPLATE-Medicare-Supplements-Sales-Strategies-John-Shinn-2-scaled.jpg
ORGANIZER;CN="John Shinn - Senior Benefits Specialist":MAILTO:jshinn@empowerbrokerage.com
LOCATION:https://attendee.gotowebinar.com/register/3709343658254354272
END:VEVENT
BEGIN:VEVENT
DTSTART;TZID=America/Chicago:20250813T100000
DTEND;TZID=America/Chicago:20250813T110000
DTSTAMP:20260420T032443
CREATED:20241127T164031Z
LAST-MODIFIED:20250217T155937Z
UID:477491810000128-1755079200-1755082800@www.empowerbrokerage.com
SUMMARY:Medicare Supplements Sales Strategies
DESCRIPTION:Join John Shinn and fellow agents to learn how to INCREASE YOUR INCOME!
URL:https://www.empowerbrokerage.com/event/medicare-supplements-sales-strategies/2025-08-13/
ATTACH;FMTTYPE=image/jpeg:https://www.empowerbrokerage.com/wp-content/uploads/2024/11/TEMPLATE-Medicare-Supplements-Sales-Strategies-John-Shinn-2-scaled.jpg
ORGANIZER;CN="John Shinn - Senior Benefits Specialist":MAILTO:jshinn@empowerbrokerage.com
LOCATION:https://attendee.gotowebinar.com/register/3709343658254354272
END:VEVENT
BEGIN:VEVENT
DTSTART;TZID=America/Chicago:20250806T100000
DTEND;TZID=America/Chicago:20250806T110000
DTSTAMP:20260420T032443
CREATED:20241127T164031Z
LAST-MODIFIED:20250217T155937Z
UID:477491810000127-1754474400-1754478000@www.empowerbrokerage.com
SUMMARY:Medicare Supplements Sales Strategies
DESCRIPTION:Join John Shinn and fellow agents to learn how to INCREASE YOUR INCOME!
URL:https://www.empowerbrokerage.com/event/medicare-supplements-sales-strategies/2025-08-06/
ATTACH;FMTTYPE=image/jpeg:https://www.empowerbrokerage.com/wp-content/uploads/2024/11/TEMPLATE-Medicare-Supplements-Sales-Strategies-John-Shinn-2-scaled.jpg
ORGANIZER;CN="John Shinn - Senior Benefits Specialist":MAILTO:jshinn@empowerbrokerage.com
LOCATION:https://attendee.gotowebinar.com/register/3709343658254354272
END:VEVENT
BEGIN:VEVENT
DTSTART;TZID=America/Chicago:20250730T100000
DTEND;TZID=America/Chicago:20250730T110000
DTSTAMP:20260420T032443
CREATED:20241127T164031Z
LAST-MODIFIED:20250217T155937Z
UID:477491810000126-1753869600-1753873200@www.empowerbrokerage.com
SUMMARY:Medicare Supplements Sales Strategies
DESCRIPTION:Join John Shinn and fellow agents to learn how to INCREASE YOUR INCOME!
URL:https://www.empowerbrokerage.com/event/medicare-supplements-sales-strategies/2025-07-30/
ATTACH;FMTTYPE=image/jpeg:https://www.empowerbrokerage.com/wp-content/uploads/2024/11/TEMPLATE-Medicare-Supplements-Sales-Strategies-John-Shinn-2-scaled.jpg
ORGANIZER;CN="John Shinn - Senior Benefits Specialist":MAILTO:jshinn@empowerbrokerage.com
LOCATION:https://attendee.gotowebinar.com/register/3709343658254354272
END:VEVENT
BEGIN:VEVENT
DTSTART;TZID=America/Chicago:20250723T100000
DTEND;TZID=America/Chicago:20250723T110000
DTSTAMP:20260420T032443
CREATED:20241127T164031Z
LAST-MODIFIED:20250217T155937Z
UID:477491810000125-1753264800-1753268400@www.empowerbrokerage.com
SUMMARY:Medicare Supplements Sales Strategies
DESCRIPTION:Join John Shinn and fellow agents to learn how to INCREASE YOUR INCOME!
URL:https://www.empowerbrokerage.com/event/medicare-supplements-sales-strategies/2025-07-23/
ATTACH;FMTTYPE=image/jpeg:https://www.empowerbrokerage.com/wp-content/uploads/2024/11/TEMPLATE-Medicare-Supplements-Sales-Strategies-John-Shinn-2-scaled.jpg
ORGANIZER;CN="John Shinn - Senior Benefits Specialist":MAILTO:jshinn@empowerbrokerage.com
LOCATION:https://attendee.gotowebinar.com/register/3709343658254354272
END:VEVENT
BEGIN:VEVENT
DTSTART;TZID=America/Chicago:20250716T100000
DTEND;TZID=America/Chicago:20250716T110000
DTSTAMP:20260420T032443
CREATED:20250217T160614Z
LAST-MODIFIED:20250217T160614Z
UID:477491810000512-1752660000-1752663600@www.empowerbrokerage.com
SUMMARY:Medicare Supplements Sales Strategies
DESCRIPTION:Join John Shinn and fellow agents to learn how to INCREASE YOUR INCOME!
URL:https://www.empowerbrokerage.com/event/medicare-supplements-sales-strategies-4/2025-07-16/
ATTACH;FMTTYPE=image/jpeg:https://www.empowerbrokerage.com/wp-content/uploads/2024/11/TEMPLATE-Medicare-Supplements-Sales-Strategies-John-Shinn-2-scaled.jpg
ORGANIZER;CN="John Shinn - Senior Benefits Specialist":MAILTO:jshinn@empowerbrokerage.com
LOCATION:https://attendee.gotowebinar.com/register/3709343658254354272
END:VEVENT
BEGIN:VEVENT
DTSTART;TZID=America/Chicago:20250709T100000
DTEND;TZID=America/Chicago:20250709T110000
DTSTAMP:20260420T032443
CREATED:20250217T160614Z
LAST-MODIFIED:20250217T160614Z
UID:477491810000511-1752055200-1752058800@www.empowerbrokerage.com
SUMMARY:Medicare Supplements Sales Strategies
DESCRIPTION:Join John Shinn and fellow agents to learn how to INCREASE YOUR INCOME!
URL:https://www.empowerbrokerage.com/event/medicare-supplements-sales-strategies-4/2025-07-09/
ATTACH;FMTTYPE=image/jpeg:https://www.empowerbrokerage.com/wp-content/uploads/2024/11/TEMPLATE-Medicare-Supplements-Sales-Strategies-John-Shinn-2-scaled.jpg
ORGANIZER;CN="John Shinn - Senior Benefits Specialist":MAILTO:jshinn@empowerbrokerage.com
LOCATION:https://attendee.gotowebinar.com/register/3709343658254354272
END:VEVENT
BEGIN:VEVENT
DTSTART;TZID=America/Chicago:20250702T100000
DTEND;TZID=America/Chicago:20250702T110000
DTSTAMP:20260420T032443
CREATED:20250217T160614Z
LAST-MODIFIED:20250217T160614Z
UID:477491810000510-1751450400-1751454000@www.empowerbrokerage.com
SUMMARY:Medicare Supplements Sales Strategies
DESCRIPTION:Join John Shinn and fellow agents to learn how to INCREASE YOUR INCOME!
URL:https://www.empowerbrokerage.com/event/medicare-supplements-sales-strategies-4/2025-07-02/
ATTACH;FMTTYPE=image/jpeg:https://www.empowerbrokerage.com/wp-content/uploads/2024/11/TEMPLATE-Medicare-Supplements-Sales-Strategies-John-Shinn-2-scaled.jpg
ORGANIZER;CN="John Shinn - Senior Benefits Specialist":MAILTO:jshinn@empowerbrokerage.com
LOCATION:https://attendee.gotowebinar.com/register/3709343658254354272
END:VEVENT
BEGIN:VEVENT
DTSTART;TZID=America/Chicago:20250625T100000
DTEND;TZID=America/Chicago:20250625T110000
DTSTAMP:20260420T032443
CREATED:20250217T160614Z
LAST-MODIFIED:20250217T160614Z
UID:477491810000509-1750845600-1750849200@www.empowerbrokerage.com
SUMMARY:Medicare Supplements Sales Strategies
DESCRIPTION:Join John Shinn and fellow agents to learn how to INCREASE YOUR INCOME!
URL:https://www.empowerbrokerage.com/event/medicare-supplements-sales-strategies-4/2025-06-25/
ATTACH;FMTTYPE=image/jpeg:https://www.empowerbrokerage.com/wp-content/uploads/2024/11/TEMPLATE-Medicare-Supplements-Sales-Strategies-John-Shinn-2-scaled.jpg
ORGANIZER;CN="John Shinn - Senior Benefits Specialist":MAILTO:jshinn@empowerbrokerage.com
LOCATION:https://attendee.gotowebinar.com/register/3709343658254354272
END:VEVENT
BEGIN:VEVENT
DTSTART;TZID=America/Chicago:20250618T100000
DTEND;TZID=America/Chicago:20250618T110000
DTSTAMP:20260420T032443
CREATED:20250217T160614Z
LAST-MODIFIED:20250217T160614Z
UID:477491810000508-1750240800-1750244400@www.empowerbrokerage.com
SUMMARY:Medicare Supplements Sales Strategies
DESCRIPTION:Join John Shinn and fellow agents to learn how to INCREASE YOUR INCOME!
URL:https://www.empowerbrokerage.com/event/medicare-supplements-sales-strategies-4/2025-06-18/
ATTACH;FMTTYPE=image/jpeg:https://www.empowerbrokerage.com/wp-content/uploads/2024/11/TEMPLATE-Medicare-Supplements-Sales-Strategies-John-Shinn-2-scaled.jpg
ORGANIZER;CN="John Shinn - Senior Benefits Specialist":MAILTO:jshinn@empowerbrokerage.com
LOCATION:https://attendee.gotowebinar.com/register/3709343658254354272
END:VEVENT
BEGIN:VEVENT
DTSTART;TZID=America/Chicago:20250611T100000
DTEND;TZID=America/Chicago:20250611T110000
DTSTAMP:20260420T032443
CREATED:20241127T164031Z
LAST-MODIFIED:20250217T155937Z
UID:477491810000119-1749636000-1749639600@www.empowerbrokerage.com
SUMMARY:Medicare Supplements Sales Strategies
DESCRIPTION:Join John Shinn and fellow agents to learn how to INCREASE YOUR INCOME!
URL:https://www.empowerbrokerage.com/event/medicare-supplements-sales-strategies/2025-06-11/
ATTACH;FMTTYPE=image/jpeg:https://www.empowerbrokerage.com/wp-content/uploads/2024/11/TEMPLATE-Medicare-Supplements-Sales-Strategies-John-Shinn-2-scaled.jpg
ORGANIZER;CN="John Shinn - Senior Benefits Specialist":MAILTO:jshinn@empowerbrokerage.com
LOCATION:https://attendee.gotowebinar.com/register/3709343658254354272
END:VEVENT
BEGIN:VEVENT
DTSTART;TZID=America/Chicago:20250604T100000
DTEND;TZID=America/Chicago:20250604T110000
DTSTAMP:20260420T032443
CREATED:20241127T164031Z
LAST-MODIFIED:20250217T155937Z
UID:477491810000118-1749031200-1749034800@www.empowerbrokerage.com
SUMMARY:Medicare Supplements Sales Strategies
DESCRIPTION:Join John Shinn and fellow agents to learn how to INCREASE YOUR INCOME!
URL:https://www.empowerbrokerage.com/event/medicare-supplements-sales-strategies/2025-06-04/
ATTACH;FMTTYPE=image/jpeg:https://www.empowerbrokerage.com/wp-content/uploads/2024/11/TEMPLATE-Medicare-Supplements-Sales-Strategies-John-Shinn-2-scaled.jpg
ORGANIZER;CN="John Shinn - Senior Benefits Specialist":MAILTO:jshinn@empowerbrokerage.com
LOCATION:https://attendee.gotowebinar.com/register/3709343658254354272
END:VEVENT
BEGIN:VEVENT
DTSTART;TZID=America/Chicago:20250528T100000
DTEND;TZID=America/Chicago:20250528T110000
DTSTAMP:20260420T032443
CREATED:20241127T164031Z
LAST-MODIFIED:20250217T155937Z
UID:477491810000117-1748426400-1748430000@www.empowerbrokerage.com
SUMMARY:Medicare Supplements Sales Strategies
DESCRIPTION:Join John Shinn and fellow agents to learn how to INCREASE YOUR INCOME!
URL:https://www.empowerbrokerage.com/event/medicare-supplements-sales-strategies/2025-05-28/
ATTACH;FMTTYPE=image/jpeg:https://www.empowerbrokerage.com/wp-content/uploads/2024/11/TEMPLATE-Medicare-Supplements-Sales-Strategies-John-Shinn-2-scaled.jpg
ORGANIZER;CN="John Shinn - Senior Benefits Specialist":MAILTO:jshinn@empowerbrokerage.com
LOCATION:https://attendee.gotowebinar.com/register/3709343658254354272
END:VEVENT
BEGIN:VEVENT
DTSTART;TZID=America/Chicago:20250521T100000
DTEND;TZID=America/Chicago:20250521T110000
DTSTAMP:20260420T032443
CREATED:20250217T160614Z
LAST-MODIFIED:20250217T160614Z
UID:477491810000504-1747821600-1747825200@www.empowerbrokerage.com
SUMMARY:Medicare Supplements Sales Strategies
DESCRIPTION:Join John Shinn and fellow agents to learn how to INCREASE YOUR INCOME!
URL:https://www.empowerbrokerage.com/event/medicare-supplements-sales-strategies-4/2025-05-21/
ATTACH;FMTTYPE=image/jpeg:https://www.empowerbrokerage.com/wp-content/uploads/2024/11/TEMPLATE-Medicare-Supplements-Sales-Strategies-John-Shinn-2-scaled.jpg
ORGANIZER;CN="John Shinn - Senior Benefits Specialist":MAILTO:jshinn@empowerbrokerage.com
LOCATION:https://attendee.gotowebinar.com/register/3709343658254354272
END:VEVENT
BEGIN:VEVENT
DTSTART;TZID=America/Chicago:20250514T100000
DTEND;TZID=America/Chicago:20250514T110000
DTSTAMP:20260420T032443
CREATED:20250217T160614Z
LAST-MODIFIED:20250217T160614Z
UID:477491810000503-1747216800-1747220400@www.empowerbrokerage.com
SUMMARY:Medicare Supplements Sales Strategies
DESCRIPTION:Join John Shinn and fellow agents to learn how to INCREASE YOUR INCOME!
URL:https://www.empowerbrokerage.com/event/medicare-supplements-sales-strategies-4/2025-05-14/
ATTACH;FMTTYPE=image/jpeg:https://www.empowerbrokerage.com/wp-content/uploads/2024/11/TEMPLATE-Medicare-Supplements-Sales-Strategies-John-Shinn-2-scaled.jpg
ORGANIZER;CN="John Shinn - Senior Benefits Specialist":MAILTO:jshinn@empowerbrokerage.com
LOCATION:https://attendee.gotowebinar.com/register/3709343658254354272
END:VEVENT
BEGIN:VEVENT
DTSTART;TZID=America/Chicago:20250507T100000
DTEND;TZID=America/Chicago:20250507T110000
DTSTAMP:20260420T032443
CREATED:20250217T160614Z
LAST-MODIFIED:20250217T160614Z
UID:477491810000502-1746612000-1746615600@www.empowerbrokerage.com
SUMMARY:Medicare Supplements Sales Strategies
DESCRIPTION:Join John Shinn and fellow agents to learn how to INCREASE YOUR INCOME!
URL:https://www.empowerbrokerage.com/event/medicare-supplements-sales-strategies-4/2025-05-07/
ATTACH;FMTTYPE=image/jpeg:https://www.empowerbrokerage.com/wp-content/uploads/2024/11/TEMPLATE-Medicare-Supplements-Sales-Strategies-John-Shinn-2-scaled.jpg
ORGANIZER;CN="John Shinn - Senior Benefits Specialist":MAILTO:jshinn@empowerbrokerage.com
LOCATION:https://attendee.gotowebinar.com/register/3709343658254354272
END:VEVENT
BEGIN:VEVENT
DTSTART;TZID=America/Chicago:20250501T110000
DTEND;TZID=America/Chicago:20250501T150000
DTSTAMP:20260420T032443
CREATED:20250331T132708Z
LAST-MODIFIED:20250409T143239Z
UID:477491810000596-1746097200-1746111600@www.empowerbrokerage.com
SUMMARY:Kerrville\, TX - Empower's 2025 Road Show - Ready. Set. Go!
DESCRIPTION:Are you ready to take your business to the next level? Join us for an exciting seminar designed to empower you with the tools\, strategies\, and resources to grow your business like never before! \nAt Ready. Set. GO! you’ll discover how Empower Brokerage can help you: \n\nLeverage cutting-edge training resources\nMaximize results with our proven lead programs\nTake charge of your online social media presence\nGain access to Empower exclusive provider partnership programs\nMaster step-by-step sales strategies that deliver success\nGrow or build an agency from the ground up\nGain one hour of CE Credit – ACA & Rules to Protect Consumer’s Personally Identifiable Information\n\nWe invite you to meet us face-to-face and discover how we support agents like you. \nDon’t miss this opportunity to gain actionable insights and proven strategies to see more people\, close more deals\, and make more money! \n  \n*Seats are limited\, so reserve your spot today! \nRegister
URL:https://www.empowerbrokerage.com/event/kerrville-tx-empowers-2025-road-show-ready-set-go-2/
LOCATION:Cracker Barrel – Kerrville\, 2110 Sidney Baker Street\, Kerrville\, 78028\, United States
ATTACH;FMTTYPE=image/png:https://www.empowerbrokerage.com/wp-content/uploads/2025/03/Kerrville-TX-RSD-Road-Show-2025.png
ORGANIZER;CN="Kenna Rickett%2C Regional Sales Director - San Antonio":MAILTO:krickett@empowerbrokerage.com
GEO:30.0681279;-99.1153429
X-APPLE-STRUCTURED-LOCATION;VALUE=URI;X-ADDRESS=Cracker Barrel – Kerrville 2110 Sidney Baker Street Kerrville 78028 United States;X-APPLE-RADIUS=500;X-TITLE=2110 Sidney Baker Street:geo:-99.1153429,30.0681279
END:VEVENT
BEGIN:VEVENT
DTSTART;TZID=America/Chicago:20250501T110000
DTEND;TZID=America/Chicago:20250501T150000
DTSTAMP:20260420T032443
CREATED:20250310T212918Z
LAST-MODIFIED:20250318T204211Z
UID:477491810000565-1746097200-1746111600@www.empowerbrokerage.com
SUMMARY:Beaumont\, TX - Empower's 2025 Road Show - Ready. Set. Go!
DESCRIPTION:Are you ready to take your business to the next level? Join us for an exciting seminar designed to empower you with the tools\, strategies\, and resources to grow your business like never before! \nAt Ready. Set. GO! you’ll discover how Empower Brokerage can help you: \n\nLeverage cutting-edge training resources\nMaximize results with our proven lead programs\nTake charge of your online social media presence\nGain access to Empower exclusive provider partnership programs\nMaster step-by-step sales strategies that deliver success\nGrow or build an agency from the ground up\n\nWe invite you to meet us face-to-face and discover how we support agents like you. \nDon’t miss this opportunity to gain actionable insights and proven strategies to see more people\, close more deals\, and make more money! \n  \n*Seats are limited\, so reserve your spot today! \nRegister
URL:https://www.empowerbrokerage.com/event/beaumont-tx-empowers-2025-road-show-ready-set-go/
LOCATION:Saltgrass Steak House – Beaumont\, 325 IH 10 N\, Beaumont\, TX\, 77707\, United States
ATTACH;FMTTYPE=image/png:https://www.empowerbrokerage.com/wp-content/uploads/2025/03/Beaumont-TX-RSD-Road-Show-2025.png
ORGANIZER;CN="Zoom Nguyen%2C Regional Sales Director - Houston":MAILTO:znguyen@empowerbrokerage.con
GEO:30.0843503;-94.1368377
X-APPLE-STRUCTURED-LOCATION;VALUE=URI;X-ADDRESS=Saltgrass Steak House – Beaumont 325 IH 10 N Beaumont TX 77707 United States;X-APPLE-RADIUS=500;X-TITLE=325 IH 10 N:geo:-94.1368377,30.0843503
END:VEVENT
BEGIN:VEVENT
DTSTART;TZID=America/Chicago:20250430T100000
DTEND;TZID=America/Chicago:20250430T110000
DTSTAMP:20260420T032443
CREATED:20250217T160614Z
LAST-MODIFIED:20250217T160614Z
UID:477491810000501-1746007200-1746010800@www.empowerbrokerage.com
SUMMARY:Medicare Supplements Sales Strategies
DESCRIPTION:Join John Shinn and fellow agents to learn how to INCREASE YOUR INCOME!
URL:https://www.empowerbrokerage.com/event/medicare-supplements-sales-strategies-4/2025-04-30/
ATTACH;FMTTYPE=image/jpeg:https://www.empowerbrokerage.com/wp-content/uploads/2024/11/TEMPLATE-Medicare-Supplements-Sales-Strategies-John-Shinn-2-scaled.jpg
ORGANIZER;CN="John Shinn - Senior Benefits Specialist":MAILTO:jshinn@empowerbrokerage.com
LOCATION:https://attendee.gotowebinar.com/register/3709343658254354272
END:VEVENT
BEGIN:VEVENT
DTSTART;TZID=America/Chicago:20250423T100000
DTEND;TZID=America/Chicago:20250423T110000
DTSTAMP:20260420T032443
CREATED:20250217T160614Z
LAST-MODIFIED:20250217T160614Z
UID:477491810000500-1745402400-1745406000@www.empowerbrokerage.com
SUMMARY:Medicare Supplements Sales Strategies
DESCRIPTION:Join John Shinn and fellow agents to learn how to INCREASE YOUR INCOME!
URL:https://www.empowerbrokerage.com/event/medicare-supplements-sales-strategies-4/2025-04-23/
ATTACH;FMTTYPE=image/jpeg:https://www.empowerbrokerage.com/wp-content/uploads/2024/11/TEMPLATE-Medicare-Supplements-Sales-Strategies-John-Shinn-2-scaled.jpg
ORGANIZER;CN="John Shinn - Senior Benefits Specialist":MAILTO:jshinn@empowerbrokerage.com
LOCATION:https://attendee.gotowebinar.com/register/3709343658254354272
END:VEVENT
BEGIN:VEVENT
DTSTART;TZID=America/Chicago:20250416T100000
DTEND;TZID=America/Chicago:20250416T110000
DTSTAMP:20260420T032443
CREATED:20241127T164031Z
LAST-MODIFIED:20250217T155937Z
UID:477491810000111-1744797600-1744801200@www.empowerbrokerage.com
SUMMARY:Medicare Supplements Sales Strategies
DESCRIPTION:Join John Shinn and fellow agents to learn how to INCREASE YOUR INCOME!
URL:https://www.empowerbrokerage.com/event/medicare-supplements-sales-strategies/2025-04-16/
ATTACH;FMTTYPE=image/jpeg:https://www.empowerbrokerage.com/wp-content/uploads/2024/11/TEMPLATE-Medicare-Supplements-Sales-Strategies-John-Shinn-2-scaled.jpg
ORGANIZER;CN="John Shinn - Senior Benefits Specialist":MAILTO:jshinn@empowerbrokerage.com
LOCATION:https://attendee.gotowebinar.com/register/3709343658254354272
END:VEVENT
BEGIN:VEVENT
DTSTART;TZID=America/Chicago:20250409T100000
DTEND;TZID=America/Chicago:20250409T110000
DTSTAMP:20260420T032443
CREATED:20250217T160614Z
LAST-MODIFIED:20250217T160614Z
UID:477491810000498-1744192800-1744196400@www.empowerbrokerage.com
SUMMARY:Medicare Supplements Sales Strategies
DESCRIPTION:Join John Shinn and fellow agents to learn how to INCREASE YOUR INCOME!
URL:https://www.empowerbrokerage.com/event/medicare-supplements-sales-strategies-4/2025-04-09/
ATTACH;FMTTYPE=image/jpeg:https://www.empowerbrokerage.com/wp-content/uploads/2024/11/TEMPLATE-Medicare-Supplements-Sales-Strategies-John-Shinn-2-scaled.jpg
ORGANIZER;CN="John Shinn - Senior Benefits Specialist":MAILTO:jshinn@empowerbrokerage.com
LOCATION:https://attendee.gotowebinar.com/register/3709343658254354272
END:VEVENT
BEGIN:VEVENT
DTSTART;TZID=America/Chicago:20250402T100000
DTEND;TZID=America/Chicago:20250402T110000
DTSTAMP:20260420T032443
CREATED:20241127T164031Z
LAST-MODIFIED:20250217T155937Z
UID:477491810000109-1743588000-1743591600@www.empowerbrokerage.com
SUMMARY:Medicare Supplements Sales Strategies
DESCRIPTION:Join John Shinn and fellow agents to learn how to INCREASE YOUR INCOME!
URL:https://www.empowerbrokerage.com/event/medicare-supplements-sales-strategies/2025-04-02/
ATTACH;FMTTYPE=image/jpeg:https://www.empowerbrokerage.com/wp-content/uploads/2024/11/TEMPLATE-Medicare-Supplements-Sales-Strategies-John-Shinn-2-scaled.jpg
ORGANIZER;CN="John Shinn - Senior Benefits Specialist":MAILTO:jshinn@empowerbrokerage.com
LOCATION:https://attendee.gotowebinar.com/register/3709343658254354272
END:VEVENT
BEGIN:VEVENT
DTSTART;TZID=America/Chicago:20250326T100000
DTEND;TZID=America/Chicago:20250326T110000
DTSTAMP:20260420T032443
CREATED:20241127T164031Z
LAST-MODIFIED:20250217T155937Z
UID:477491810000108-1742983200-1742986800@www.empowerbrokerage.com
SUMMARY:Medicare Supplements Sales Strategies
DESCRIPTION:Join John Shinn and fellow agents to learn how to INCREASE YOUR INCOME!
URL:https://www.empowerbrokerage.com/event/medicare-supplements-sales-strategies/2025-03-26/
ATTACH;FMTTYPE=image/jpeg:https://www.empowerbrokerage.com/wp-content/uploads/2024/11/TEMPLATE-Medicare-Supplements-Sales-Strategies-John-Shinn-2-scaled.jpg
ORGANIZER;CN="John Shinn - Senior Benefits Specialist":MAILTO:jshinn@empowerbrokerage.com
LOCATION:https://attendee.gotowebinar.com/register/3709343658254354272
END:VEVENT
BEGIN:VEVENT
DTSTART;TZID=America/Chicago:20250319T100000
DTEND;TZID=America/Chicago:20250319T110000
DTSTAMP:20260420T032443
CREATED:20241127T164031Z
LAST-MODIFIED:20250217T155937Z
UID:477491810000107-1742378400-1742382000@www.empowerbrokerage.com
SUMMARY:Medicare Supplements Sales Strategies
DESCRIPTION:Join John Shinn and fellow agents to learn how to INCREASE YOUR INCOME!
URL:https://www.empowerbrokerage.com/event/medicare-supplements-sales-strategies/2025-03-19/
ATTACH;FMTTYPE=image/jpeg:https://www.empowerbrokerage.com/wp-content/uploads/2024/11/TEMPLATE-Medicare-Supplements-Sales-Strategies-John-Shinn-2-scaled.jpg
ORGANIZER;CN="John Shinn - Senior Benefits Specialist":MAILTO:jshinn@empowerbrokerage.com
LOCATION:https://attendee.gotowebinar.com/register/3709343658254354272
END:VEVENT
BEGIN:VEVENT
DTSTART;TZID=America/Chicago:20250314T110000
DTEND;TZID=America/Chicago:20250314T150000
DTSTAMP:20260420T032443
CREATED:20250123T200111Z
LAST-MODIFIED:20250124T150941Z
UID:477491810000328-1741950000-1741964400@www.empowerbrokerage.com
SUMMARY:New Braunfels\, TX - Empower's 2025 Road Show - Ready. Set. Go!
DESCRIPTION:Are you ready to take your business to the next level? Join us for an exciting seminar designed to empower you with the tools\, strategies\, and resources to grow your business like never before! \nAt Ready. Set. GO! you’ll discover how Empower Brokerage can help you: \n\nLeverage cutting-edge training resources\nMaximize results with our proven lead programs\nTake charge of your online social media presence\nGain access to Empower exclusive provider partnership programs\nMaster step-by-step sales strategies that deliver success\nGrow or build an agency from the ground up\n\nWe invite you to meet us face-to-face and discover how we support agents like you. \nDon’t miss this opportunity to gain actionable insights and proven strategies to see more people\, close more deals\, and make more money! \n  \n*Seats are limited\, so reserve your spot today! \nRegister
URL:https://www.empowerbrokerage.com/event/new-braunfels-tx-empowers-2025-road-show-ready-set-go/
LOCATION:La Cosecha Mexican Table\, 505 N Business IH 35\, New Braunfels\, TX\, 78130\, United States
ATTACH;FMTTYPE=image/png:https://www.empowerbrokerage.com/wp-content/uploads/2025/01/RSD-NewBraunfels-1.png
ORGANIZER;CN="Kenna Rickett%2C Regional Sales Director - San Antonio":MAILTO:krickett@empowerbrokerage.com
GEO:29.6955845;-98.1026669
X-APPLE-STRUCTURED-LOCATION;VALUE=URI;X-ADDRESS=La Cosecha Mexican Table 505 N Business IH 35 New Braunfels TX 78130 United States;X-APPLE-RADIUS=500;X-TITLE=505 N Business IH 35:geo:-98.1026669,29.6955845
END:VEVENT
BEGIN:VEVENT
DTSTART;TZID=America/Chicago:20250312T100000
DTEND;TZID=America/Chicago:20250312T110000
DTSTAMP:20260420T032443
CREATED:20241127T164031Z
LAST-MODIFIED:20250217T155937Z
UID:477491810000106-1741773600-1741777200@www.empowerbrokerage.com
SUMMARY:Medicare Supplements Sales Strategies
DESCRIPTION:Join John Shinn and fellow agents to learn how to INCREASE YOUR INCOME!
URL:https://www.empowerbrokerage.com/event/medicare-supplements-sales-strategies/2025-03-12/
ATTACH;FMTTYPE=image/jpeg:https://www.empowerbrokerage.com/wp-content/uploads/2024/11/TEMPLATE-Medicare-Supplements-Sales-Strategies-John-Shinn-2-scaled.jpg
ORGANIZER;CN="John Shinn - Senior Benefits Specialist":MAILTO:jshinn@empowerbrokerage.com
LOCATION:https://attendee.gotowebinar.com/register/3709343658254354272
END:VEVENT
BEGIN:VEVENT
DTSTART;TZID=America/Chicago:20250305T100000
DTEND;TZID=America/Chicago:20250305T110000
DTSTAMP:20260420T032443
CREATED:20241127T164031Z
LAST-MODIFIED:20250217T155937Z
UID:477491810000105-1741168800-1741172400@www.empowerbrokerage.com
SUMMARY:Medicare Supplements Sales Strategies
DESCRIPTION:Join John Shinn and fellow agents to learn how to INCREASE YOUR INCOME!
URL:https://www.empowerbrokerage.com/event/medicare-supplements-sales-strategies/2025-03-05/
ATTACH;FMTTYPE=image/jpeg:https://www.empowerbrokerage.com/wp-content/uploads/2024/11/TEMPLATE-Medicare-Supplements-Sales-Strategies-John-Shinn-2-scaled.jpg
ORGANIZER;CN="John Shinn - Senior Benefits Specialist":MAILTO:jshinn@empowerbrokerage.com
LOCATION:https://attendee.gotowebinar.com/register/3709343658254354272
END:VEVENT
END:VCALENDAR