BEGIN:VCALENDAR
VERSION:2.0
PRODID:-//Empower Brokerage - ECPv6.15.17.1//NONSGML v1.0//EN
CALSCALE:GREGORIAN
METHOD:PUBLISH
X-WR-CALNAME:Empower Brokerage
X-ORIGINAL-URL:https://www.empowerbrokerage.com
X-WR-CALDESC:Events for Empower Brokerage
REFRESH-INTERVAL;VALUE=DURATION:PT1H
X-Robots-Tag:noindex
X-PUBLISHED-TTL:PT1H
BEGIN:VTIMEZONE
TZID:America/Chicago
BEGIN:DAYLIGHT
TZOFFSETFROM:-0600
TZOFFSETTO:-0500
TZNAME:CDT
DTSTART:20230312T080000
END:DAYLIGHT
BEGIN:STANDARD
TZOFFSETFROM:-0500
TZOFFSETTO:-0600
TZNAME:CST
DTSTART:20231105T070000
END:STANDARD
BEGIN:DAYLIGHT
TZOFFSETFROM:-0600
TZOFFSETTO:-0500
TZNAME:CDT
DTSTART:20240310T080000
END:DAYLIGHT
BEGIN:STANDARD
TZOFFSETFROM:-0500
TZOFFSETTO:-0600
TZNAME:CST
DTSTART:20241103T070000
END:STANDARD
BEGIN:DAYLIGHT
TZOFFSETFROM:-0600
TZOFFSETTO:-0500
TZNAME:CDT
DTSTART:20250309T080000
END:DAYLIGHT
BEGIN:STANDARD
TZOFFSETFROM:-0500
TZOFFSETTO:-0600
TZNAME:CST
DTSTART:20251102T070000
END:STANDARD
BEGIN:DAYLIGHT
TZOFFSETFROM:-0600
TZOFFSETTO:-0500
TZNAME:CDT
DTSTART:20260308T080000
END:DAYLIGHT
BEGIN:STANDARD
TZOFFSETFROM:-0500
TZOFFSETTO:-0600
TZNAME:CST
DTSTART:20261101T070000
END:STANDARD
END:VTIMEZONE
BEGIN:VEVENT
DTSTART;TZID=America/Chicago:20250402T100000
DTEND;TZID=America/Chicago:20250402T110000
DTSTAMP:20260422T050229
CREATED:20241127T164031Z
LAST-MODIFIED:20250217T155937Z
UID:477491810000109-1743588000-1743591600@www.empowerbrokerage.com
SUMMARY:Medicare Supplements Sales Strategies
DESCRIPTION:Join John Shinn and fellow agents to learn how to INCREASE YOUR INCOME!
URL:https://www.empowerbrokerage.com/event/medicare-supplements-sales-strategies/2025-04-02/
ATTACH;FMTTYPE=image/jpeg:https://www.empowerbrokerage.com/wp-content/uploads/2024/11/TEMPLATE-Medicare-Supplements-Sales-Strategies-John-Shinn-2-scaled.jpg
ORGANIZER;CN="John Shinn - Senior Benefits Specialist":MAILTO:jshinn@empowerbrokerage.com
LOCATION:https://attendee.gotowebinar.com/register/3709343658254354272
END:VEVENT
BEGIN:VEVENT
DTSTART;TZID=America/Chicago:20250326T100000
DTEND;TZID=America/Chicago:20250326T110000
DTSTAMP:20260422T050229
CREATED:20241127T164031Z
LAST-MODIFIED:20250217T155937Z
UID:477491810000108-1742983200-1742986800@www.empowerbrokerage.com
SUMMARY:Medicare Supplements Sales Strategies
DESCRIPTION:Join John Shinn and fellow agents to learn how to INCREASE YOUR INCOME!
URL:https://www.empowerbrokerage.com/event/medicare-supplements-sales-strategies/2025-03-26/
ATTACH;FMTTYPE=image/jpeg:https://www.empowerbrokerage.com/wp-content/uploads/2024/11/TEMPLATE-Medicare-Supplements-Sales-Strategies-John-Shinn-2-scaled.jpg
ORGANIZER;CN="John Shinn - Senior Benefits Specialist":MAILTO:jshinn@empowerbrokerage.com
LOCATION:https://attendee.gotowebinar.com/register/3709343658254354272
END:VEVENT
BEGIN:VEVENT
DTSTART;TZID=America/Chicago:20250319T100000
DTEND;TZID=America/Chicago:20250319T110000
DTSTAMP:20260422T050229
CREATED:20241127T164031Z
LAST-MODIFIED:20250217T155937Z
UID:477491810000107-1742378400-1742382000@www.empowerbrokerage.com
SUMMARY:Medicare Supplements Sales Strategies
DESCRIPTION:Join John Shinn and fellow agents to learn how to INCREASE YOUR INCOME!
URL:https://www.empowerbrokerage.com/event/medicare-supplements-sales-strategies/2025-03-19/
ATTACH;FMTTYPE=image/jpeg:https://www.empowerbrokerage.com/wp-content/uploads/2024/11/TEMPLATE-Medicare-Supplements-Sales-Strategies-John-Shinn-2-scaled.jpg
ORGANIZER;CN="John Shinn - Senior Benefits Specialist":MAILTO:jshinn@empowerbrokerage.com
LOCATION:https://attendee.gotowebinar.com/register/3709343658254354272
END:VEVENT
BEGIN:VEVENT
DTSTART;TZID=America/Chicago:20250314T110000
DTEND;TZID=America/Chicago:20250314T150000
DTSTAMP:20260422T050229
CREATED:20250123T200111Z
LAST-MODIFIED:20250124T150941Z
UID:477491810000328-1741950000-1741964400@www.empowerbrokerage.com
SUMMARY:New Braunfels\, TX - Empower's 2025 Road Show - Ready. Set. Go!
DESCRIPTION:Are you ready to take your business to the next level? Join us for an exciting seminar designed to empower you with the tools\, strategies\, and resources to grow your business like never before! \nAt Ready. Set. GO! you’ll discover how Empower Brokerage can help you: \n\nLeverage cutting-edge training resources\nMaximize results with our proven lead programs\nTake charge of your online social media presence\nGain access to Empower exclusive provider partnership programs\nMaster step-by-step sales strategies that deliver success\nGrow or build an agency from the ground up\n\nWe invite you to meet us face-to-face and discover how we support agents like you. \nDon’t miss this opportunity to gain actionable insights and proven strategies to see more people\, close more deals\, and make more money! \n  \n*Seats are limited\, so reserve your spot today! \nRegister
URL:https://www.empowerbrokerage.com/event/new-braunfels-tx-empowers-2025-road-show-ready-set-go/
LOCATION:La Cosecha Mexican Table\, 505 N Business IH 35\, New Braunfels\, TX\, 78130\, United States
ATTACH;FMTTYPE=image/png:https://www.empowerbrokerage.com/wp-content/uploads/2025/01/RSD-NewBraunfels-1.png
ORGANIZER;CN="Kenna Rickett%2C Regional Sales Director - San Antonio":MAILTO:krickett@empowerbrokerage.com
GEO:29.6955845;-98.1026669
X-APPLE-STRUCTURED-LOCATION;VALUE=URI;X-ADDRESS=La Cosecha Mexican Table 505 N Business IH 35 New Braunfels TX 78130 United States;X-APPLE-RADIUS=500;X-TITLE=505 N Business IH 35:geo:-98.1026669,29.6955845
END:VEVENT
BEGIN:VEVENT
DTSTART;TZID=America/Chicago:20250312T100000
DTEND;TZID=America/Chicago:20250312T110000
DTSTAMP:20260422T050229
CREATED:20241127T164031Z
LAST-MODIFIED:20250217T155937Z
UID:477491810000106-1741773600-1741777200@www.empowerbrokerage.com
SUMMARY:Medicare Supplements Sales Strategies
DESCRIPTION:Join John Shinn and fellow agents to learn how to INCREASE YOUR INCOME!
URL:https://www.empowerbrokerage.com/event/medicare-supplements-sales-strategies/2025-03-12/
ATTACH;FMTTYPE=image/jpeg:https://www.empowerbrokerage.com/wp-content/uploads/2024/11/TEMPLATE-Medicare-Supplements-Sales-Strategies-John-Shinn-2-scaled.jpg
ORGANIZER;CN="John Shinn - Senior Benefits Specialist":MAILTO:jshinn@empowerbrokerage.com
LOCATION:https://attendee.gotowebinar.com/register/3709343658254354272
END:VEVENT
BEGIN:VEVENT
DTSTART;TZID=America/Chicago:20250305T100000
DTEND;TZID=America/Chicago:20250305T110000
DTSTAMP:20260422T050229
CREATED:20241127T164031Z
LAST-MODIFIED:20250217T155937Z
UID:477491810000105-1741168800-1741172400@www.empowerbrokerage.com
SUMMARY:Medicare Supplements Sales Strategies
DESCRIPTION:Join John Shinn and fellow agents to learn how to INCREASE YOUR INCOME!
URL:https://www.empowerbrokerage.com/event/medicare-supplements-sales-strategies/2025-03-05/
ATTACH;FMTTYPE=image/jpeg:https://www.empowerbrokerage.com/wp-content/uploads/2024/11/TEMPLATE-Medicare-Supplements-Sales-Strategies-John-Shinn-2-scaled.jpg
ORGANIZER;CN="John Shinn - Senior Benefits Specialist":MAILTO:jshinn@empowerbrokerage.com
LOCATION:https://attendee.gotowebinar.com/register/3709343658254354272
END:VEVENT
BEGIN:VEVENT
DTSTART;TZID=America/Chicago:20250226T100000
DTEND;TZID=America/Chicago:20250226T110000
DTSTAMP:20260422T050229
CREATED:20250217T160614Z
LAST-MODIFIED:20250217T160614Z
UID:477491810000535-1740564000-1740567600@www.empowerbrokerage.com
SUMMARY:Medicare Supplements Sales Strategies
DESCRIPTION:Join John Shinn and fellow agents to learn how to INCREASE YOUR INCOME!
URL:https://www.empowerbrokerage.com/event/medicare-supplements-sales-strategies-4/2025-02-26/
ATTACH;FMTTYPE=image/jpeg:https://www.empowerbrokerage.com/wp-content/uploads/2024/11/TEMPLATE-Medicare-Supplements-Sales-Strategies-John-Shinn-2-scaled.jpg
ORGANIZER;CN="John Shinn - Senior Benefits Specialist":MAILTO:jshinn@empowerbrokerage.com
LOCATION:https://attendee.gotowebinar.com/register/3709343658254354272
END:VEVENT
BEGIN:VEVENT
DTSTART;TZID=America/Chicago:20250219T100000
DTEND;TZID=America/Chicago:20250219T150000
DTSTAMP:20260422T050229
CREATED:20250108T214512Z
LAST-MODIFIED:20250124T144709Z
UID:477491810000201-1739959200-1739977200@www.empowerbrokerage.com
SUMMARY:San Antonio\, TX - Empower's 2025 Road Show - Ready. Set. Go!
DESCRIPTION:Are you ready to take your business to the next level? Join us for an exciting seminar designed to empower you with the tools\, strategies\, and resources to grow your business like never before! \nAt Ready. Set. GO! you’ll discover how Empower Brokerage can help you: \n\nLeverage cutting-edge training resources\nMaximize results with our proven lead programs\nTake charge of your online social media presence\nGain access to Empower exclusive provider partnership programs\nMaster step-by-step sales strategies that deliver success\nGrow or build an agency from the ground up\n\nWe invite you to meet us face-to-face and discover how we support agents like you. \nDon’t miss this opportunity to gain actionable insights and proven strategies to see more people\, close more deals\, and make more money! \n  \n*Seats are limited\, so reserve your spot today! \nRegister
URL:https://www.empowerbrokerage.com/event/san-antonio-tx-empowers-2025-road-show-ready-set-go/
LOCATION:Maggiano’s Little Italy – San Antonio\, 17603 I-10\, San Antonio\, TX\, 78257\, United States
ATTACH;FMTTYPE=image/png:https://www.empowerbrokerage.com/wp-content/uploads/2025/01/Road-Show-2025_SanAntonio.png
ORGANIZER;CN="John Shinn - Senior Benefits Specialist":MAILTO:jshinn@empowerbrokerage.com
GEO:29.6083922;-98.6013807
X-APPLE-STRUCTURED-LOCATION;VALUE=URI;X-ADDRESS=Maggiano’s Little Italy – San Antonio 17603 I-10 San Antonio TX 78257 United States;X-APPLE-RADIUS=500;X-TITLE=17603 I-10:geo:-98.6013807,29.6083922
END:VEVENT
BEGIN:VEVENT
DTSTART;TZID=America/Chicago:20250213T100000
DTEND;TZID=America/Chicago:20250213T150000
DTSTAMP:20260422T050229
CREATED:20250108T220347Z
LAST-MODIFIED:20250124T144741Z
UID:477491810000203-1739440800-1739458800@www.empowerbrokerage.com
SUMMARY:Houston\, TX - Empower's 2025 Road Show - Ready. Set. Go!
DESCRIPTION:Are you ready to take your business to the next level? Join us for an exciting seminar designed to empower you with the tools\, strategies\, and resources to grow your business like never before! \nAt Ready. Set. GO! you’ll discover how Empower Brokerage can help you: \n\nLeverage cutting-edge training resources\nMaximize results with our proven lead programs\nTake charge of your online social media presence\nGain access to Empower exclusive provider partnership programs\nMaster step-by-step sales strategies that deliver success\nGrow or build an agency from the ground up\n\nWe invite you to meet us face-to-face and discover how we support agents like you. \nDon’t miss this opportunity to gain actionable insights and proven strategies to see more people\, close more deals\, and make more money! \n  \n*Seats are limited\, so reserve your spot today! \nRegister
URL:https://www.empowerbrokerage.com/event/houston-tx-empowers-2025-road-show-ready-set-go/
LOCATION:Maggiano’s Little Italy – Houston\, 602 Memorial City Mall\, Houston\, TX\, 77024\, United States
ATTACH;FMTTYPE=image/png:https://www.empowerbrokerage.com/wp-content/uploads/2025/01/Road-Show-2025_Houston.png
ORGANIZER;CN="John Shinn - Senior Benefits Specialist":MAILTO:jshinn@empowerbrokerage.com
GEO:29.7812593;-95.5431324
X-APPLE-STRUCTURED-LOCATION;VALUE=URI;X-ADDRESS=Maggiano’s Little Italy – Houston 602 Memorial City Mall Houston TX 77024 United States;X-APPLE-RADIUS=500;X-TITLE=602 Memorial City Mall:geo:-95.5431324,29.7812593
END:VEVENT
BEGIN:VEVENT
DTSTART;TZID=America/Chicago:20250212T100000
DTEND;TZID=America/Chicago:20250212T110000
DTSTAMP:20260422T050229
CREATED:20241127T164031Z
LAST-MODIFIED:20250217T155937Z
UID:477491810000102-1739354400-1739358000@www.empowerbrokerage.com
SUMMARY:Medicare Supplements Sales Strategies
DESCRIPTION:Join John Shinn and fellow agents to learn how to INCREASE YOUR INCOME!
URL:https://www.empowerbrokerage.com/event/medicare-supplements-sales-strategies/2025-02-12/
ATTACH;FMTTYPE=image/jpeg:https://www.empowerbrokerage.com/wp-content/uploads/2024/11/TEMPLATE-Medicare-Supplements-Sales-Strategies-John-Shinn-2-scaled.jpg
ORGANIZER;CN="John Shinn - Senior Benefits Specialist":MAILTO:jshinn@empowerbrokerage.com
LOCATION:https://attendee.gotowebinar.com/register/3709343658254354272
END:VEVENT
BEGIN:VEVENT
DTSTART;TZID=America/Chicago:20250211T110000
DTEND;TZID=America/Chicago:20250211T150000
DTSTAMP:20260422T050229
CREATED:20250110T143939Z
LAST-MODIFIED:20250211T162409Z
UID:477491810000210-1739271600-1739286000@www.empowerbrokerage.com
SUMMARY:Spring\, TX - Empower's 2025 Road Show - Ready. Set. Go!
DESCRIPTION:Are you ready to take your business to the next level? Join us for an exciting seminar designed to empower you with the tools\, strategies\, and resources to grow your business like never before! \nAt Ready. Set. GO! you’ll discover how Empower Brokerage can help you: \n\nLeverage cutting-edge training resources\nMaximize results with our proven lead programs\nTake charge of your online social media presence\nGain access to Empower exclusive provider partnership programs\nMaster step-by-step sales strategies that deliver success\nGrow or build an agency from the ground up\n\nWe invite you to meet us face-to-face and discover how we support agents like you. \nDon’t miss this opportunity to gain actionable insights and proven strategies to see more people\, close more deals\, and make more money! \n  \n*Seats are limited\, so reserve your spot today! \nRegister
URL:https://www.empowerbrokerage.com/event/spring-tx-empowers-2025-road-show-ready-set-go/
LOCATION:Pappasito’s Cantina – Spring\, 15280 I-45 N. at Airtex\, Spring\, TX\, 77090\, United States
ATTACH;FMTTYPE=image/png:https://www.empowerbrokerage.com/wp-content/uploads/2025/01/RSD-Springpng.png
ORGANIZER;CN="John Shinn - Senior Benefits Specialist":MAILTO:jshinn@empowerbrokerage.com
GEO:30.0699284;-95.4349387
X-APPLE-STRUCTURED-LOCATION;VALUE=URI;X-ADDRESS=Pappasito’s Cantina – Spring 15280 I-45 N. at Airtex Spring TX 77090 United States;X-APPLE-RADIUS=500;X-TITLE=15280 I-45 N. at Airtex:geo:-95.4349387,30.0699284
END:VEVENT
BEGIN:VEVENT
DTSTART;TZID=America/Chicago:20250205T100000
DTEND;TZID=America/Chicago:20250205T110000
DTSTAMP:20260422T050229
CREATED:20241127T164031Z
LAST-MODIFIED:20250217T155937Z
UID:477491810000101-1738749600-1738753200@www.empowerbrokerage.com
SUMMARY:Medicare Supplements Sales Strategies
DESCRIPTION:Join John Shinn and fellow agents to learn how to INCREASE YOUR INCOME!
URL:https://www.empowerbrokerage.com/event/medicare-supplements-sales-strategies/2025-02-05/
ATTACH;FMTTYPE=image/jpeg:https://www.empowerbrokerage.com/wp-content/uploads/2024/11/TEMPLATE-Medicare-Supplements-Sales-Strategies-John-Shinn-2-scaled.jpg
ORGANIZER;CN="John Shinn - Senior Benefits Specialist":MAILTO:jshinn@empowerbrokerage.com
LOCATION:https://attendee.gotowebinar.com/register/3709343658254354272
END:VEVENT
BEGIN:VEVENT
DTSTART;TZID=America/Chicago:20250129T100000
DTEND;TZID=America/Chicago:20250129T110000
DTSTAMP:20260422T050229
CREATED:20241127T164031Z
LAST-MODIFIED:20250217T155937Z
UID:477491810000100-1738144800-1738148400@www.empowerbrokerage.com
SUMMARY:Medicare Supplements Sales Strategies
DESCRIPTION:Join John Shinn and fellow agents to learn how to INCREASE YOUR INCOME!
URL:https://www.empowerbrokerage.com/event/medicare-supplements-sales-strategies/2025-01-29/
ATTACH;FMTTYPE=image/jpeg:https://www.empowerbrokerage.com/wp-content/uploads/2024/11/TEMPLATE-Medicare-Supplements-Sales-Strategies-John-Shinn-2-scaled.jpg
ORGANIZER;CN="John Shinn - Senior Benefits Specialist":MAILTO:jshinn@empowerbrokerage.com
LOCATION:https://attendee.gotowebinar.com/register/3709343658254354272
END:VEVENT
BEGIN:VEVENT
DTSTART;TZID=America/Chicago:20250122T100000
DTEND;TZID=America/Chicago:20250122T110000
DTSTAMP:20260422T050229
CREATED:20241127T164031Z
LAST-MODIFIED:20250217T155937Z
UID:477491810000099-1737540000-1737543600@www.empowerbrokerage.com
SUMMARY:Medicare Supplements Sales Strategies
DESCRIPTION:Join John Shinn and fellow agents to learn how to INCREASE YOUR INCOME!
URL:https://www.empowerbrokerage.com/event/medicare-supplements-sales-strategies/2025-01-22/
ATTACH;FMTTYPE=image/jpeg:https://www.empowerbrokerage.com/wp-content/uploads/2024/11/TEMPLATE-Medicare-Supplements-Sales-Strategies-John-Shinn-2-scaled.jpg
ORGANIZER;CN="John Shinn - Senior Benefits Specialist":MAILTO:jshinn@empowerbrokerage.com
LOCATION:https://attendee.gotowebinar.com/register/3709343658254354272
END:VEVENT
BEGIN:VEVENT
DTSTART;TZID=America/Chicago:20250115T100000
DTEND;TZID=America/Chicago:20250115T110000
DTSTAMP:20260422T050229
CREATED:20241127T164031Z
LAST-MODIFIED:20250217T155937Z
UID:477491810000098-1736935200-1736938800@www.empowerbrokerage.com
SUMMARY:Medicare Supplements Sales Strategies
DESCRIPTION:Join John Shinn and fellow agents to learn how to INCREASE YOUR INCOME!
URL:https://www.empowerbrokerage.com/event/medicare-supplements-sales-strategies/2025-01-15/
ATTACH;FMTTYPE=image/jpeg:https://www.empowerbrokerage.com/wp-content/uploads/2024/11/TEMPLATE-Medicare-Supplements-Sales-Strategies-John-Shinn-2-scaled.jpg
ORGANIZER;CN="John Shinn - Senior Benefits Specialist":MAILTO:jshinn@empowerbrokerage.com
LOCATION:https://attendee.gotowebinar.com/register/3709343658254354272
END:VEVENT
BEGIN:VEVENT
DTSTART;TZID=America/Chicago:20250108T100000
DTEND;TZID=America/Chicago:20250108T110000
DTSTAMP:20260422T050229
CREATED:20241127T164031Z
LAST-MODIFIED:20250217T155937Z
UID:477491810000097-1736330400-1736334000@www.empowerbrokerage.com
SUMMARY:Medicare Supplements Sales Strategies
DESCRIPTION:Join John Shinn and fellow agents to learn how to INCREASE YOUR INCOME!
URL:https://www.empowerbrokerage.com/event/medicare-supplements-sales-strategies/2025-01-08/
ATTACH;FMTTYPE=image/jpeg:https://www.empowerbrokerage.com/wp-content/uploads/2024/11/TEMPLATE-Medicare-Supplements-Sales-Strategies-John-Shinn-2-scaled.jpg
ORGANIZER;CN="John Shinn - Senior Benefits Specialist":MAILTO:jshinn@empowerbrokerage.com
LOCATION:https://attendee.gotowebinar.com/register/3709343658254354272
END:VEVENT
BEGIN:VEVENT
DTSTART;TZID=America/Chicago:20241218T100000
DTEND;TZID=America/Chicago:20241218T110000
DTSTAMP:20260422T050229
CREATED:20241127T164136Z
LAST-MODIFIED:20241127T164509Z
UID:477491810000006-1734516000-1734519600@www.empowerbrokerage.com
SUMMARY:Medicare Supplements Sales Strategies
DESCRIPTION:Join John Shinn and fellow agents to learn how to INCREASE YOUR INCOME!
URL:https://www.empowerbrokerage.com/event/medicare-supplements-sales-strategies-3/
ATTACH;FMTTYPE=image/jpeg:https://www.empowerbrokerage.com/wp-content/uploads/2024/11/TEMPLATE-Medicare-Supplements-Sales-Strategies-John-Shinn-2-scaled.jpg
ORGANIZER;CN="John Shinn - Senior Benefits Specialist":MAILTO:jshinn@empowerbrokerage.com
LOCATION:https://register.gotowebinar.com/rt/1974695829078848853
END:VEVENT
BEGIN:VEVENT
DTSTART;TZID=America/Chicago:20241211T100000
DTEND;TZID=America/Chicago:20241211T110000
DTSTAMP:20260422T050229
CREATED:20241127T164112Z
LAST-MODIFIED:20241127T164441Z
UID:477491810000005-1733911200-1733914800@www.empowerbrokerage.com
SUMMARY:Medicare Supplements Sales Strategies
DESCRIPTION:Join John Shinn and fellow agents to learn how to INCREASE YOUR INCOME!
URL:https://www.empowerbrokerage.com/event/medicare-supplements-sales-strategies-2/
ATTACH;FMTTYPE=image/jpeg:https://www.empowerbrokerage.com/wp-content/uploads/2024/11/TEMPLATE-Medicare-Supplements-Sales-Strategies-John-Shinn-2-scaled.jpg
ORGANIZER;CN="John Shinn - Senior Benefits Specialist":MAILTO:jshinn@empowerbrokerage.com
LOCATION:https://register.gotowebinar.com/rt/1974695829078848853
END:VEVENT
END:VCALENDAR