BEGIN:VCALENDAR
VERSION:2.0
PRODID:-//Empower Brokerage - ECPv6.15.17.1//NONSGML v1.0//EN
CALSCALE:GREGORIAN
METHOD:PUBLISH
X-ORIGINAL-URL:https://www.empowerbrokerage.com
X-WR-CALDESC:Events for Empower Brokerage
REFRESH-INTERVAL;VALUE=DURATION:PT1H
X-Robots-Tag:noindex
X-PUBLISHED-TTL:PT1H
BEGIN:VTIMEZONE
TZID:America/New_York
BEGIN:DAYLIGHT
TZOFFSETFROM:-0500
TZOFFSETTO:-0400
TZNAME:EDT
DTSTART:20240310T070000
END:DAYLIGHT
BEGIN:STANDARD
TZOFFSETFROM:-0400
TZOFFSETTO:-0500
TZNAME:EST
DTSTART:20241103T060000
END:STANDARD
BEGIN:DAYLIGHT
TZOFFSETFROM:-0500
TZOFFSETTO:-0400
TZNAME:EDT
DTSTART:20250309T070000
END:DAYLIGHT
BEGIN:STANDARD
TZOFFSETFROM:-0400
TZOFFSETTO:-0500
TZNAME:EST
DTSTART:20251102T060000
END:STANDARD
BEGIN:DAYLIGHT
TZOFFSETFROM:-0500
TZOFFSETTO:-0400
TZNAME:EDT
DTSTART:20260308T070000
END:DAYLIGHT
BEGIN:STANDARD
TZOFFSETFROM:-0400
TZOFFSETTO:-0500
TZNAME:EST
DTSTART:20261101T060000
END:STANDARD
END:VTIMEZONE
BEGIN:VTIMEZONE
TZID:America/Chicago
BEGIN:DAYLIGHT
TZOFFSETFROM:-0600
TZOFFSETTO:-0500
TZNAME:CDT
DTSTART:20230312T080000
END:DAYLIGHT
BEGIN:STANDARD
TZOFFSETFROM:-0500
TZOFFSETTO:-0600
TZNAME:CST
DTSTART:20231105T070000
END:STANDARD
BEGIN:DAYLIGHT
TZOFFSETFROM:-0600
TZOFFSETTO:-0500
TZNAME:CDT
DTSTART:20240310T080000
END:DAYLIGHT
BEGIN:STANDARD
TZOFFSETFROM:-0500
TZOFFSETTO:-0600
TZNAME:CST
DTSTART:20241103T070000
END:STANDARD
BEGIN:DAYLIGHT
TZOFFSETFROM:-0600
TZOFFSETTO:-0500
TZNAME:CDT
DTSTART:20250309T080000
END:DAYLIGHT
BEGIN:STANDARD
TZOFFSETFROM:-0500
TZOFFSETTO:-0600
TZNAME:CST
DTSTART:20251102T070000
END:STANDARD
BEGIN:DAYLIGHT
TZOFFSETFROM:-0600
TZOFFSETTO:-0500
TZNAME:CDT
DTSTART:20260308T080000
END:DAYLIGHT
BEGIN:STANDARD
TZOFFSETFROM:-0500
TZOFFSETTO:-0600
TZNAME:CST
DTSTART:20261101T070000
END:STANDARD
END:VTIMEZONE
BEGIN:VEVENT
DTSTART;TZID=America/New_York:20250402T100000
DTEND;TZID=America/New_York:20250402T110000
DTSTAMP:20260421T201721
CREATED:20250220T194558Z
LAST-MODIFIED:20250225T223422Z
UID:477491810000555-1743588000-1743591600@www.empowerbrokerage.com
SUMMARY:Humpday Huddle: Ready. Set. Go! with Shania Chambliss
DESCRIPTION:10 AM (EST) \nReady: Why Empower Brokerage? Join me as we uncover all the tools and resources Empower has to offer agents. With\, a special guest\, David Selden\, Regional Sales Director – Colorado.
URL:https://www.empowerbrokerage.com/event/humpday-huddle-ready-set-go-with-shania-chambliss-5/
ATTACH;FMTTYPE=image/jpeg:https://www.empowerbrokerage.com/wp-content/uploads/2024/11/TEMPLATE-Humpday-Huddle-with-Shania-Chamblis-V1-scaled.jpg
ORGANIZER;CN="Shania Chambliss%2C Regional Sales Director - Georgia":MAILTO:schambliss@empowerbrokerage.com
LOCATION:https://register.gotowebinar.com/rt/6475109083826555733
END:VEVENT
BEGIN:VEVENT
DTSTART;TZID=America/Chicago:20250326T100000
DTEND;TZID=America/Chicago:20250326T130000
DTSTAMP:20260421T201721
CREATED:20250310T130958Z
LAST-MODIFIED:20250318T204025Z
UID:477491810000563-1742983200-1742994000@www.empowerbrokerage.com
SUMMARY:Atlanta\, GA - Insurance 101
DESCRIPTION:10 AM – 1 PM (EST) \nJoin Shania as she covers: \n\nACA\, Medicare\, Life and Ancillary products. She will provide insights on starting a career in the insurance industry.\nUtilizing Tools and Resources offered by Empower Brokerage.\n\nThis will also be an opportunity to network with other agents and gain hands-on experience! \n  \nRegister
URL:https://www.empowerbrokerage.com/event/atlanta-ga-insurance-101/
LOCATION:Sandy Springs Library\, 395 Mount Vernon Highway NE\, Atlanta\, GA\, 33028\, United States
ATTACH;FMTTYPE=image/png:https://www.empowerbrokerage.com/wp-content/uploads/2025/03/0024-Atlanta-GA-Insurance-101.png
ORGANIZER;CN="Shania Chambliss%2C Regional Sales Director - Georgia":MAILTO:schambliss@empowerbrokerage.com
GEO:33.9240116;-84.3740527
X-APPLE-STRUCTURED-LOCATION;VALUE=URI;X-ADDRESS=Sandy Springs Library 395 Mount Vernon Highway NE Atlanta GA 33028 United States;X-APPLE-RADIUS=500;X-TITLE=395 Mount Vernon Highway NE:geo:-84.3740527,33.9240116
END:VEVENT
BEGIN:VEVENT
DTSTART;TZID=America/New_York:20250319T100000
DTEND;TZID=America/New_York:20250319T110000
DTSTAMP:20260421T201721
CREATED:20250220T194420Z
LAST-MODIFIED:20250225T223340Z
UID:477491810000554-1742378400-1742382000@www.empowerbrokerage.com
SUMMARY:Humpday Huddle: Ready. Set. Go! with Shania Chambliss
DESCRIPTION:10 AM (EST) \nGo: Hear all about the Empower Brokerage University\, our lead programs\, marketing plans\, setting appointments and compliance\, OEP and SEPs\, and application platforms\, like Health Sherpa. We’ll be joined by Garrett Wilczynski – Leads Administrator\, ACA & Allstate Product Specialist.
URL:https://www.empowerbrokerage.com/event/humpday-huddle-ready-set-go-with-shania-chambliss-4/
ATTACH;FMTTYPE=image/jpeg:https://www.empowerbrokerage.com/wp-content/uploads/2024/11/TEMPLATE-Humpday-Huddle-with-Shania-Chamblis-V1-scaled.jpg
ORGANIZER;CN="Shania Chambliss%2C Regional Sales Director - Georgia":MAILTO:schambliss@empowerbrokerage.com
LOCATION:https://register.gotowebinar.com/rt/6475109083826555733
END:VEVENT
BEGIN:VEVENT
DTSTART;TZID=America/New_York:20250312T100000
DTEND;TZID=America/New_York:20250312T110000
DTSTAMP:20260421T201721
CREATED:20250220T194106Z
LAST-MODIFIED:20250225T223309Z
UID:477491810000553-1741773600-1741777200@www.empowerbrokerage.com
SUMMARY:Humpday Huddle: Ready. Set. Go! with Shania Chambliss
DESCRIPTION:10 AM (EST) \nSet: Let us help with contracting by providing a Surancebay walkthrough\, covering certifications\, and discussing marketing plans. With guest speaker Les Lipscomb – Devoted.
URL:https://www.empowerbrokerage.com/event/humpday-huddle-ready-set-go-with-shania-chambliss-2/
ATTACH;FMTTYPE=image/jpeg:https://www.empowerbrokerage.com/wp-content/uploads/2024/11/TEMPLATE-Humpday-Huddle-with-Shania-Chamblis-V1-scaled.jpg
ORGANIZER;CN="Shania Chambliss%2C Regional Sales Director - Georgia":MAILTO:schambliss@empowerbrokerage.com
LOCATION:https://register.gotowebinar.com/rt/6475109083826555733
END:VEVENT
BEGIN:VEVENT
DTSTART;TZID=America/New_York:20250305T100000
DTEND;TZID=America/New_York:20250305T110000
DTSTAMP:20260421T201721
CREATED:20250220T194204Z
LAST-MODIFIED:20250225T223214Z
UID:477491810000552-1741168800-1741172400@www.empowerbrokerage.com
SUMMARY:Humpday Huddle: Ready. Set. Go! with Shania Chambliss
DESCRIPTION:10 AM (EST) \nReady: Why Empower Brokerage? Join me as we uncover all the tools and resources Empower has to offer agents. With\, a special guest\, Savva Zingas\, Regional Sales Director – DFW.
URL:https://www.empowerbrokerage.com/event/humpday-huddle-ready-set-go-with-shania-chambliss-3/
ATTACH;FMTTYPE=image/jpeg:https://www.empowerbrokerage.com/wp-content/uploads/2024/11/TEMPLATE-Humpday-Huddle-with-Shania-Chamblis-V1-scaled.jpg
ORGANIZER;CN="Shania Chambliss%2C Regional Sales Director - Georgia":MAILTO:schambliss@empowerbrokerage.com
LOCATION:https://register.gotowebinar.com/rt/6475109083826555733
END:VEVENT
BEGIN:VEVENT
DTSTART;TZID=America/Chicago:20250212T110000
DTEND;TZID=America/Chicago:20250212T150000
DTSTAMP:20260421T201721
CREATED:20250115T191522Z
LAST-MODIFIED:20250124T144753Z
UID:477491810000217-1739358000-1739372400@www.empowerbrokerage.com
SUMMARY:Macon\, GA - Empower's 2025 Road Show - Ready. Set. Go!
DESCRIPTION:Are you ready to take your business to the next level? Join us for an exciting seminar designed to empower you with the tools\, strategies\, and resources to grow your business like never before! \nAt Ready. Set. GO! you’ll discover how Empower Brokerage can help you: \n\nLeverage cutting-edge training resources\nMaximize results with our proven lead programs\nTake charge of your online social media presence\nGain access to Empower exclusive provider partnership programs\nMaster step-by-step sales strategies that deliver success\nGrow or build an agency from the ground up\n\nWe invite you to meet us face-to-face and discover how we support agents like you. \nDon’t miss this opportunity to gain actionable insights and proven strategies to see more people\, close more deals\, and make more money! \n  \n*Seats are limited\, so reserve your spot today! \nRegister
URL:https://www.empowerbrokerage.com/event/macon-ga-empowers-2025-road-show-ready-set-go/
LOCATION:Fountain of Juice\, 4123 Forsyth Road\, Ste I\, Macon\, GA\, 31210\, United States
ATTACH;FMTTYPE=image/png:https://www.empowerbrokerage.com/wp-content/uploads/2025/01/RSD-Macon-Georgia.png
ORGANIZER;CN="Shania Chambliss%2C Regional Sales Director - Georgia":MAILTO:schambliss@empowerbrokerage.com
GEO:32.8660452;-83.6923885
X-APPLE-STRUCTURED-LOCATION;VALUE=URI;X-ADDRESS=Fountain of Juice 4123 Forsyth Road Ste I Macon GA 31210 United States;X-APPLE-RADIUS=500;X-TITLE=4123 Forsyth Road\, Ste I:geo:-83.6923885,32.8660452
END:VEVENT
BEGIN:VEVENT
DTSTART;TZID=America/Chicago:20250211T100000
DTEND;TZID=America/Chicago:20250211T150000
DTSTAMP:20260421T201721
CREATED:20250114T225716Z
LAST-MODIFIED:20250124T144818Z
UID:477491810000213-1739268000-1739286000@www.empowerbrokerage.com
SUMMARY:Atlanta\, GA - Empower's 2025 Road Show - Ready. Set. Go!
DESCRIPTION:Are you ready to take your business to the next level? Join us for an exciting seminar designed to empower you with the tools\, strategies\, and resources to grow your business like never before! \nAt Ready. Set. GO! you’ll discover how Empower Brokerage can help you: \n\nLeverage cutting-edge training resources\nMaximize results with our proven lead programs\nTake charge of your online social media presence\nGain access to Empower exclusive provider partnership programs\nMaster step-by-step sales strategies that deliver success\nGrow or build an agency from the ground up\n\nWe invite you to meet us face-to-face and discover how we support agents like you. \nDon’t miss this opportunity to gain actionable insights and proven strategies to see more people\, close more deals\, and make more money! \n  \n*Seats are limited\, so reserve your spot today! \nRegister
URL:https://www.empowerbrokerage.com/event/atlanta-ga-empowers-2025-road-show-ready-set-go/
LOCATION:Maggiano’s Little Italy – Buckhead\, 3368 Peachtree Rd NE\, Atlanta\, GA\, 30326\, United States
ATTACH;FMTTYPE=image/png:https://www.empowerbrokerage.com/wp-content/uploads/2025/01/Road-Show-2025_Atlanta.png
ORGANIZER;CN="Shania Chambliss%2C Regional Sales Director - Georgia":MAILTO:schambliss@empowerbrokerage.com
GEO:33.8482436;-84.3671019
X-APPLE-STRUCTURED-LOCATION;VALUE=URI;X-ADDRESS=Maggiano’s Little Italy – Buckhead 3368 Peachtree Rd NE Atlanta GA 30326 United States;X-APPLE-RADIUS=500;X-TITLE=3368 Peachtree Rd NE:geo:-84.3671019,33.8482436
END:VEVENT
BEGIN:VEVENT
DTSTART;TZID=America/Chicago:20241218T093000
DTEND;TZID=America/Chicago:20241218T103000
DTSTAMP:20260421T201721
CREATED:20241127T162931Z
LAST-MODIFIED:20241127T164457Z
UID:477491810000003-1734514200-1734517800@www.empowerbrokerage.com
SUMMARY:The Humpday Huddle with Shania Chambliss
DESCRIPTION:Join Regional Sales Director\, Shania Chambliss\, for a “humpday huddle” every Wednesday at 9:30 a.m. (EDT). Discuss what’s new and get all your questions answered!
URL:https://www.empowerbrokerage.com/event/the-humpday-huddle-with-shania-chambliss-3/
ATTACH;FMTTYPE=image/jpeg:https://www.empowerbrokerage.com/wp-content/uploads/2024/11/TEMPLATE-Humpday-Huddle-with-Shania-Chamblis-V1-scaled.jpg
ORGANIZER;CN="Shania Chambliss%2C Regional Sales Director - Georgia":MAILTO:schambliss@empowerbrokerage.com
LOCATION:https://meet.goto.com/Empowersoutheast/humpdayhuddle
END:VEVENT
BEGIN:VEVENT
DTSTART;TZID=America/Chicago:20241211T093000
DTEND;TZID=America/Chicago:20241211T103000
DTSTAMP:20260421T201721
CREATED:20241127T162906Z
LAST-MODIFIED:20241127T164427Z
UID:477491810000002-1733909400-1733913000@www.empowerbrokerage.com
SUMMARY:The Humpday Huddle with Shania Chambliss
DESCRIPTION:Join Regional Sales Director\, Shania Chambliss\, for a “humpday huddle” every Wednesday at 9:30 a.m. (EDT). Discuss what’s new and get all your questions answered!
URL:https://www.empowerbrokerage.com/event/the-humpday-huddle-with-shania-chambliss-2/
ATTACH;FMTTYPE=image/jpeg:https://www.empowerbrokerage.com/wp-content/uploads/2024/11/TEMPLATE-Humpday-Huddle-with-Shania-Chamblis-V1-scaled.jpg
ORGANIZER;CN="Shania Chambliss%2C Regional Sales Director - Georgia":MAILTO:schambliss@empowerbrokerage.com
LOCATION:https://meet.goto.com/Empowersoutheast/humpdayhuddle
END:VEVENT
BEGIN:VEVENT
DTSTART;TZID=America/Chicago:20241204T093000
DTEND;TZID=America/Chicago:20241204T103000
DTSTAMP:20260421T201721
CREATED:20241125T162531Z
LAST-MODIFIED:20241127T164324Z
UID:477491810000001-1733304600-1733308200@www.empowerbrokerage.com
SUMMARY:The Humpday Huddle with Shania Chambliss
DESCRIPTION:Join Regional Sales Director\, Shania Chambliss\, for a “humpday huddle” every Wednesday at 9:30 a.m. (EDT). Discuss what’s new and get all your questions answered!
URL:https://www.empowerbrokerage.com/event/the-humpday-huddle-with-shania-chambliss/
ATTACH;FMTTYPE=image/jpeg:https://www.empowerbrokerage.com/wp-content/uploads/2024/11/TEMPLATE-Humpday-Huddle-with-Shania-Chamblis-V1-scaled.jpg
ORGANIZER;CN="Shania Chambliss%2C Regional Sales Director - Georgia":MAILTO:schambliss@empowerbrokerage.com
LOCATION:https://meet.goto.com/Empowersoutheast/humpdayhuddle
END:VEVENT
END:VCALENDAR