BEGIN:VCALENDAR
VERSION:2.0
PRODID:-//Empower Brokerage - ECPv6.15.17.1//NONSGML v1.0//EN
CALSCALE:GREGORIAN
METHOD:PUBLISH
X-WR-CALNAME:Empower Brokerage
X-ORIGINAL-URL:https://www.empowerbrokerage.com
X-WR-CALDESC:Events for Empower Brokerage
REFRESH-INTERVAL;VALUE=DURATION:PT1H
X-Robots-Tag:noindex
X-PUBLISHED-TTL:PT1H
BEGIN:VTIMEZONE
TZID:America/Chicago
BEGIN:DAYLIGHT
TZOFFSETFROM:-0600
TZOFFSETTO:-0500
TZNAME:CDT
DTSTART:20240310T080000
END:DAYLIGHT
BEGIN:STANDARD
TZOFFSETFROM:-0500
TZOFFSETTO:-0600
TZNAME:CST
DTSTART:20241103T070000
END:STANDARD
BEGIN:DAYLIGHT
TZOFFSETFROM:-0600
TZOFFSETTO:-0500
TZNAME:CDT
DTSTART:20250309T080000
END:DAYLIGHT
BEGIN:STANDARD
TZOFFSETFROM:-0500
TZOFFSETTO:-0600
TZNAME:CST
DTSTART:20251102T070000
END:STANDARD
BEGIN:DAYLIGHT
TZOFFSETFROM:-0600
TZOFFSETTO:-0500
TZNAME:CDT
DTSTART:20260308T080000
END:DAYLIGHT
BEGIN:STANDARD
TZOFFSETFROM:-0500
TZOFFSETTO:-0600
TZNAME:CST
DTSTART:20261101T070000
END:STANDARD
END:VTIMEZONE
BEGIN:VEVENT
DTSTART;TZID=America/Chicago:20250918T150000
DTEND;TZID=America/Chicago:20250918T160000
DTSTAMP:20260419T225737
CREATED:20250721T183017Z
LAST-MODIFIED:20250721T191842Z
UID:477491810000773-1758207600-1758211200@www.empowerbrokerage.com
SUMMARY:GTL's New E-App Platform Training
DESCRIPTION:Guest Speaker: Greg Esposito – GTL \nIn this training\, Greg Esposito from GTL will review GTL’s Brand-New E-App platform. This new platform is lightning fast and allows all GTL E-App platforms to work in sync!
URL:https://www.empowerbrokerage.com/event/gtls-new-e-app-platform-training/
ATTACH;FMTTYPE=image/png:https://www.empowerbrokerage.com/wp-content/uploads/2025/07/0047-GTL-New-E-App-Platform-Training01-01.png
ORGANIZER;CN="Tyler Culp%2C Vice President of Sales":MAILTO:tculp@empowerbrokerage.com
LOCATION:https://attendee.gotowebinar.com/register/2905518199201073493
END:VEVENT
BEGIN:VEVENT
DTSTART;TZID=America/Chicago:20250903T100000
DTEND;TZID=America/Chicago:20250903T110000
DTSTAMP:20260419T225737
CREATED:20250425T135002Z
LAST-MODIFIED:20250806T225850Z
UID:477491810000611-1756893600-1756897200@www.empowerbrokerage.com
SUMMARY:Cigna Healthspring Medicare Footprint - 2026 Product Rollout
DESCRIPTION:This dynamic session immerses agents in Cigna Healthspring’s 2026 Medicare Footprint expansion and product rollout\, detailing new plan designs\, target markets\, and key implementation timelines. Through interactive road mapping exercises and real-world scenario planning\, participants will learn how to align sales strategies\, update systems\, and engage prospects to capitalize on Cigna Healthspring’s growing Medicare presence.
URL:https://www.empowerbrokerage.com/event/cigna-medicare-footprint-2026-product-rollout/
ATTACH;FMTTYPE=image/png:https://www.empowerbrokerage.com/wp-content/uploads/2025/04/0031-Cigna-with-Tyler-and-Dustin-05.png
ORGANIZER;CN="Tyler Culp%2C Vice President of Sales":MAILTO:tculp@empowerbrokerage.com
LOCATION:https://attendee.gotowebinar.com/register/250954080290710357
END:VEVENT
BEGIN:VEVENT
DTSTART;TZID=America/Chicago:20250826T110000
DTEND;TZID=America/Chicago:20250826T120000
DTSTAMP:20260419T225737
CREATED:20250721T182834Z
LAST-MODIFIED:20250721T191813Z
UID:477491810000772-1756206000-1756209600@www.empowerbrokerage.com
SUMMARY:GTL's Advantage Plus Elite Product Training
DESCRIPTION:Guest Speaker: Greg Esposito – GTL \nIn this training\, Greg Esposito from GTL will review all the exciting updates and enhanced benefits that GTL’s Advantage Plus Elite product has to offer!
URL:https://www.empowerbrokerage.com/event/gtls-advantage-plus-elite-product-training/
ATTACH;FMTTYPE=image/png:https://www.empowerbrokerage.com/wp-content/uploads/2025/07/0047-GTL-Advantage-Plus-Elite-Product-Training01-01.png
ORGANIZER;CN="Tyler Culp%2C Vice President of Sales":MAILTO:tculp@empowerbrokerage.com
LOCATION:https://attendee.gotowebinar.com/register/4020172301114750806
END:VEVENT
BEGIN:VEVENT
DTSTART;TZID=America/Chicago:20250806T100000
DTEND;TZID=America/Chicago:20250806T110000
DTSTAMP:20260419T225737
CREATED:20250425T134633Z
LAST-MODIFIED:20250425T155124Z
UID:477491810000610-1754474400-1754478000@www.empowerbrokerage.com
SUMMARY:Producer's University Website Overview
DESCRIPTION:This comprehensive orientation for Cigna’s Producer University equips agents with in-depth product training\, compliance guidance\, and sales strategies through on-demand modules and live virtual workshops. Participants will learn to navigate the platform\, track their continuing education credits\, and leverage advanced resources to sharpen their expertise and grow their book of business.
URL:https://www.empowerbrokerage.com/event/producers-university-website-overview/
ATTACH;FMTTYPE=image/png:https://www.empowerbrokerage.com/wp-content/uploads/2025/04/0031-Cigna-with-Tyler-and-Dustin-04.png
ORGANIZER;CN="Tyler Culp%2C Vice President of Sales":MAILTO:tculp@empowerbrokerage.com
LOCATION:https://attendee.gotowebinar.com/register/4206520828493891671
END:VEVENT
BEGIN:VEVENT
DTSTART;TZID=America/Chicago:20250702T100000
DTEND;TZID=America/Chicago:20250702T110000
DTSTAMP:20260419T225737
CREATED:20250425T134342Z
LAST-MODIFIED:20250425T155111Z
UID:477491810000609-1751450400-1751454000@www.empowerbrokerage.com
SUMMARY:Supplemental Benefits Offered by Cigna Medicare Advantage Plans
DESCRIPTION:This interactive workshop dives into the supplemental benefits offered by Cigna Medicare – including dental\, vision\, hearing\, fitness and wellness programs\, and prescription drug assistance – to help participants understand the full range of add-on coverages. Through guided discussions\, attendees will learn eligibility criteria\, enrollment steps\, and practical strategies for maximizing these benefits to support both health and financial well-being.
URL:https://www.empowerbrokerage.com/event/central-supplemental-benefits-offered-by-cigna-medicare-advantage-plans/
ATTACH;FMTTYPE=image/png:https://www.empowerbrokerage.com/wp-content/uploads/2025/04/0031-Cigna-with-Tyler-and-Dustin-03.png
ORGANIZER;CN="Tyler Culp%2C Vice President of Sales":MAILTO:tculp@empowerbrokerage.com
LOCATION:https://attendee.gotowebinar.com/register/574541451856742235
END:VEVENT
BEGIN:VEVENT
DTSTART;TZID=America/Chicago:20250604T100000
DTEND;TZID=America/Chicago:20250604T110000
DTSTAMP:20260419T225737
CREATED:20250425T134053Z
LAST-MODIFIED:20250425T155048Z
UID:477491810000608-1749031200-1749034800@www.empowerbrokerage.com
SUMMARY:Utilizing Cigna for Brokers Website
DESCRIPTION:This webinar guides brokers through every feature of Cigna’s Broker Portal – from generating quotes and submitting enrollments to accessing sales analytics and training resources – to streamline your day-to-day workflow. Through live demonstrations and interactive exercises\, you’ll master best practices for proposal customization\, client management\, and leveraging Cigna’s support tools to boost efficiency and close more business.
URL:https://www.empowerbrokerage.com/event/utilizing-cigna-for-brokers-website/
ATTACH;FMTTYPE=image/png:https://www.empowerbrokerage.com/wp-content/uploads/2025/04/0031-Cigna-with-Tyler-and-Dustin-02.png
ORGANIZER;CN="Tyler Culp%2C Vice President of Sales":MAILTO:tculp@empowerbrokerage.com
LOCATION:https://attendee.gotowebinar.com/register/5576605775191062112
END:VEVENT
BEGIN:VEVENT
DTSTART;TZID=America/Chicago:20250528T100000
DTEND;TZID=America/Chicago:20250528T110000
DTSTAMP:20260419T225737
CREATED:20250519T204846Z
LAST-MODIFIED:20250519T204846Z
UID:477491810000654-1748426400-1748430000@www.empowerbrokerage.com
SUMMARY:Navigating Individual Health Marketplace Changes with United Healthcare
DESCRIPTION:Guest Speakers: Sonia Porras and William Vaughn \nIn this training\, our United Healthcare ACA rep\, Sonia Porras\, and our UHOne rep\, William Vaughn\, will be updating us on some of the pending changes in the Individual Health Marketplace and how to navigate those changes to ensure you’re offering the most comprehensive product solutions for your clients. Join us to take advantage of the upcoming major changes in the individual health insurance market!
URL:https://www.empowerbrokerage.com/event/navigating-individual-health-marketplace-changes-with-united-healthcare/
ORGANIZER;CN="Tyler Culp%2C Vice President of Sales":MAILTO:tculp@empowerbrokerage.com
LOCATION:https://attendee.gotowebinar.com/register/5788615805988939869
END:VEVENT
BEGIN:VEVENT
DTSTART;TZID=America/Chicago:20250514T100000
DTEND;TZID=America/Chicago:20250514T110000
DTSTAMP:20260419T225737
CREATED:20250425T133355Z
LAST-MODIFIED:20250425T155034Z
UID:477491810000607-1747216800-1747220400@www.empowerbrokerage.com
SUMMARY:Why Cigna Healthcare Medicare?
DESCRIPTION:Join us to learn what Cigna  Medicare has to offer. In this training\, you will learn about all the amazing tools and resources offered by Cigna.
URL:https://www.empowerbrokerage.com/event/why-cigna-healthcare-medicare/
ATTACH;FMTTYPE=image/png:https://www.empowerbrokerage.com/wp-content/uploads/2025/04/0031-Cigna-with-Tyler-and-Dustin-01.png
ORGANIZER;CN="Tyler Culp%2C Vice President of Sales":MAILTO:tculp@empowerbrokerage.com
LOCATION:https://attendee.gotowebinar.com/register/7669981356476424280
END:VEVENT
BEGIN:VEVENT
DTSTART;TZID=America/Chicago:20250403T110000
DTEND;TZID=America/Chicago:20250403T150000
DTSTAMP:20260419T225737
CREATED:20250129T211128Z
LAST-MODIFIED:20250129T213246Z
UID:477491810000355-1743678000-1743692400@www.empowerbrokerage.com
SUMMARY:Lubbock\, TX - Empower's 2025 Road Show - Ready. Set. Go!
DESCRIPTION:Are you ready to take your business to the next level? Join us for an exciting seminar designed to empower you with the tools\, strategies\, and resources to grow your business like never before! \nAt Ready. Set. GO! you’ll discover how Empower Brokerage can help you: \n\nLeverage cutting-edge training resources\nMaximize results with our proven lead programs\nTake charge of your online social media presence\nGain access to Empower exclusive provider partnership programs\nMaster step-by-step sales strategies that deliver success\nGrow or build an agency from the ground up\n\nWe invite you to meet us face-to-face and discover how we support agents like you. \nDon’t miss this opportunity to gain actionable insights and proven strategies to see more people\, close more deals\, and make more money! \n  \n*Seats are limited\, so reserve your spot today! \nRegister
URL:https://www.empowerbrokerage.com/event/lubbock-tx-empowers-2025-road-show-ready-set-go/
LOCATION:Saltgrass Steak House – Lubbock\, 6026 Marsha Sharp Fwy W\, Lubbock\, TX\, 79424\, United States
ATTACH;FMTTYPE=image/png:https://www.empowerbrokerage.com/wp-content/uploads/2025/01/RSD-LubbockTexas.png
ORGANIZER;CN="Tyler Culp%2C Vice President of Sales":MAILTO:tculp@empowerbrokerage.com
GEO:33.549241;-101.9489079
X-APPLE-STRUCTURED-LOCATION;VALUE=URI;X-ADDRESS=Saltgrass Steak House – Lubbock 6026 Marsha Sharp Fwy W Lubbock TX 79424 United States;X-APPLE-RADIUS=500;X-TITLE=6026 Marsha Sharp Fwy W:geo:-101.9489079,33.549241
END:VEVENT
BEGIN:VEVENT
DTSTART;TZID=America/Chicago:20250402T100000
DTEND;TZID=America/Chicago:20250402T150000
DTSTAMP:20260419T225737
CREATED:20250130T201746Z
LAST-MODIFIED:20250131T165323Z
UID:477491810000358-1743588000-1743606000@www.empowerbrokerage.com
SUMMARY:Amarillo\, TX - Empower's 2025 Road Show - Ready. Set. Go!
DESCRIPTION:Are you ready to take your business to the next level? Join us for an exciting seminar designed to empower you with the tools\, strategies\, and resources to grow your business like never before! \nAt Ready. Set. GO! you’ll discover how Empower Brokerage can help you: \n\nLeverage cutting-edge training resources\nMaximize results with our proven lead programs\nTake charge of your online social media presence\nGain access to Empower exclusive provider partnership programs\nMaster step-by-step sales strategies that deliver success\nGrow or build an agency from the ground up\n\nWe invite you to meet us face-to-face and discover how we support agents like you. \nDon’t miss this opportunity to gain actionable insights and proven strategies to see more people\, close more deals\, and make more money! \n  \n*Seats are limited\, so reserve your spot today! \nRegister
URL:https://www.empowerbrokerage.com/event/amarillo-tx-empowers-2025-road-show-ready-set-go/
LOCATION:Macaroni Joe’s\, 1619 S Kentucky Street\, Amarillo\, TX\, 79109\, United States
ATTACH;FMTTYPE=image/png:https://www.empowerbrokerage.com/wp-content/uploads/2025/01/RSD-amarillotexas.png
ORGANIZER;CN="Tyler Culp%2C Vice President of Sales":MAILTO:tculp@empowerbrokerage.com
GEO:35.1961111;-101.8680556
X-APPLE-STRUCTURED-LOCATION;VALUE=URI;X-ADDRESS=Macaroni Joe’s 1619 S Kentucky Street Amarillo TX 79109 United States;X-APPLE-RADIUS=500;X-TITLE=1619 S Kentucky Street:geo:-101.8680556,35.1961111
END:VEVENT
BEGIN:VEVENT
DTSTART;TZID=America/Chicago:20250401T100000
DTEND;TZID=America/Chicago:20250401T150000
DTSTAMP:20260419T225737
CREATED:20250203T214848Z
LAST-MODIFIED:20250210T173906Z
UID:477491810000413-1743501600-1743519600@www.empowerbrokerage.com
SUMMARY:Wichita Falls\, TX - Empower's 2025 Road Show - Ready. Set. Go!
DESCRIPTION:Are you ready to take your business to the next level? Join us for an exciting seminar designed to empower you with the tools\, strategies\, and resources to grow your business like never before! \nAt Ready. Set. GO! you’ll discover how Empower Brokerage can help you: \n\nLeverage cutting-edge training resources\nMaximize results with our proven lead programs\nTake charge of your online social media presence\nGain access to Empower exclusive provider partnership programs\nMaster step-by-step sales strategies that deliver success\nGrow or build an agency from the ground up\n\nWe invite you to meet us face-to-face and discover how we support agents like you. \nDon’t miss this opportunity to gain actionable insights and proven strategies to see more people\, close more deals\, and make more money! \n  \n*Seats are limited\, so reserve your spot today! \nRegister
URL:https://www.empowerbrokerage.com/event/wichita-falls-tx-empowers-2025-road-show-ready-set-go/
LOCATION:Residence Inn by Marriott Wichita Falls\, 4233 Kell E Blvd\, Wichita Falls\, TX\, 76308\, United States
ATTACH;FMTTYPE=image/png:https://www.empowerbrokerage.com/wp-content/uploads/2025/02/whichitafalls-texas-2.png
ORGANIZER;CN="Tyler Culp%2C Vice President of Sales":MAILTO:tculp@empowerbrokerage.com
GEO:33.8772499;-98.5497603
X-APPLE-STRUCTURED-LOCATION;VALUE=URI;X-ADDRESS=Residence Inn by Marriott Wichita Falls 4233 Kell E Blvd Wichita Falls TX 76308 United States;X-APPLE-RADIUS=500;X-TITLE=4233 Kell E Blvd:geo:-98.5497603,33.8772499
END:VEVENT
END:VCALENDAR