BEGIN:VCALENDAR
VERSION:2.0
PRODID:-//Empower Brokerage - ECPv6.15.17.1//NONSGML v1.0//EN
CALSCALE:GREGORIAN
METHOD:PUBLISH
X-WR-CALNAME:Empower Brokerage
X-ORIGINAL-URL:https://www.empowerbrokerage.com
X-WR-CALDESC:Events for Empower Brokerage
REFRESH-INTERVAL;VALUE=DURATION:PT1H
X-Robots-Tag:noindex
X-PUBLISHED-TTL:PT1H
BEGIN:VTIMEZONE
TZID:America/Chicago
BEGIN:DAYLIGHT
TZOFFSETFROM:-0600
TZOFFSETTO:-0500
TZNAME:CDT
DTSTART:20240310T080000
END:DAYLIGHT
BEGIN:STANDARD
TZOFFSETFROM:-0500
TZOFFSETTO:-0600
TZNAME:CST
DTSTART:20241103T070000
END:STANDARD
BEGIN:DAYLIGHT
TZOFFSETFROM:-0600
TZOFFSETTO:-0500
TZNAME:CDT
DTSTART:20250309T080000
END:DAYLIGHT
BEGIN:STANDARD
TZOFFSETFROM:-0500
TZOFFSETTO:-0600
TZNAME:CST
DTSTART:20251102T070000
END:STANDARD
BEGIN:DAYLIGHT
TZOFFSETFROM:-0600
TZOFFSETTO:-0500
TZNAME:CDT
DTSTART:20260308T080000
END:DAYLIGHT
BEGIN:STANDARD
TZOFFSETFROM:-0500
TZOFFSETTO:-0600
TZNAME:CST
DTSTART:20261101T070000
END:STANDARD
END:VTIMEZONE
BEGIN:VEVENT
DTSTART;TZID=America/Chicago:20250428T120000
DTEND;TZID=America/Chicago:20250428T140000
DTSTAMP:20260424T161300
CREATED:20250304T174131Z
LAST-MODIFIED:20250310T170417Z
UID:477491810000562-1745841600-1745848800@www.empowerbrokerage.com
SUMMARY:San Antonio\, TX - United National Life Training
DESCRIPTION:Guest Speaker: Charlie DeYoung\, UNL Regional Sales Manager \nUNL offers highly competitive plans\, agent lifetime residuals\, and you can submit applications quickly and easily! \nJoin us while we cover these talking points: \n\nMake money all year long!\nHOT plan now is UNL’s Supplemental Dental Product\nNo network restrictions\, *NEW* No waiting period if requirements are met. Pays 80% of charges\nPlus\, learn about UNL’s Hospital Indemnity\, Home Health\, and more!\n\nAdd UNL to your portfolio and let us help you GROW and make more $$$! \n  \n*Lunch will be served to all that RSVP. \n  \nRegister
URL:https://www.empowerbrokerage.com/event/san-antonio-tx-united-national-life-training/
LOCATION:Alamo Cafe Restaurant\, 14250 San Pedro\, San Antonio\, TX\, 78232\, United States
ATTACH;FMTTYPE=image/png:https://www.empowerbrokerage.com/wp-content/uploads/2025/03/0023-San-Antonio-TX-United-National-Life-Training-01.png
ORGANIZER;CN="Kenna Rickett%2C Regional Sales Director - San Antonio":MAILTO:krickett@empowerbrokerage.com
GEO:29.5713736;-98.4788986
X-APPLE-STRUCTURED-LOCATION;VALUE=URI;X-ADDRESS=Alamo Cafe Restaurant 14250 San Pedro San Antonio TX 78232 United States;X-APPLE-RADIUS=500;X-TITLE=14250 San Pedro:geo:-98.4788986,29.5713736
END:VEVENT
END:VCALENDAR