BEGIN:VCALENDAR
VERSION:2.0
PRODID:-//Empower Brokerage - ECPv6.15.17.1//NONSGML v1.0//EN
CALSCALE:GREGORIAN
METHOD:PUBLISH
X-ORIGINAL-URL:https://www.empowerbrokerage.com
X-WR-CALDESC:Events for Empower Brokerage
REFRESH-INTERVAL;VALUE=DURATION:PT1H
X-Robots-Tag:noindex
X-PUBLISHED-TTL:PT1H
BEGIN:VTIMEZONE
TZID:America/Chicago
BEGIN:DAYLIGHT
TZOFFSETFROM:-0600
TZOFFSETTO:-0500
TZNAME:CDT
DTSTART:20240310T080000
END:DAYLIGHT
BEGIN:STANDARD
TZOFFSETFROM:-0500
TZOFFSETTO:-0600
TZNAME:CST
DTSTART:20241103T070000
END:STANDARD
BEGIN:DAYLIGHT
TZOFFSETFROM:-0600
TZOFFSETTO:-0500
TZNAME:CDT
DTSTART:20250309T080000
END:DAYLIGHT
BEGIN:STANDARD
TZOFFSETFROM:-0500
TZOFFSETTO:-0600
TZNAME:CST
DTSTART:20251102T070000
END:STANDARD
BEGIN:DAYLIGHT
TZOFFSETFROM:-0600
TZOFFSETTO:-0500
TZNAME:CDT
DTSTART:20260308T080000
END:DAYLIGHT
BEGIN:STANDARD
TZOFFSETFROM:-0500
TZOFFSETTO:-0600
TZNAME:CST
DTSTART:20261101T070000
END:STANDARD
END:VTIMEZONE
BEGIN:VEVENT
DTSTART;TZID=America/Chicago:20250917T100000
DTEND;TZID=America/Chicago:20250917T140000
DTSTAMP:20260424T090247
CREATED:20250912T185056Z
LAST-MODIFIED:20250912T185056Z
UID:477491810000832-1758103200-1758117600@www.empowerbrokerage.com
SUMMARY:Corpus Christi\, TX - Life Basics Training
DESCRIPTION:Join us as we go through an in-depth product training on all things life insurance. \n  \nRegister
URL:https://www.empowerbrokerage.com/event/corpus-christi-tx-life-basics-training/
LOCATION:Conviva Senior Primary Care\, 5317 S. Padre Island Dr.\, Corpus Christi\, 78411\, United States
ORGANIZER;CN="Bertha Garcia - Life Insurance Specialist":MAILTO:bgarcia@empowerbrokerage.com
GEO:27.7092762;-97.3750707
X-APPLE-STRUCTURED-LOCATION;VALUE=URI;X-ADDRESS=Conviva Senior Primary Care 5317 S. Padre Island Dr. Corpus Christi 78411 United States;X-APPLE-RADIUS=500;X-TITLE=5317 S. Padre Island Dr.:geo:-97.3750707,27.7092762
END:VEVENT
END:VCALENDAR